BEGIN:VCALENDAR
VERSION:2.0
PRODID:-//Claremont Center for the Mathematical Sciences - ECPv6.15.17.1//NONSGML v1.0//EN
CALSCALE:GREGORIAN
METHOD:PUBLISH
X-WR-CALNAME:Claremont Center for the Mathematical Sciences
X-ORIGINAL-URL:https://colleges.claremont.edu/ccms
X-WR-CALDESC:Events for Claremont Center for the Mathematical Sciences
REFRESH-INTERVAL;VALUE=DURATION:PT1H
X-Robots-Tag:noindex
X-PUBLISHED-TTL:PT1H
BEGIN:VTIMEZONE
TZID:America/Los_Angeles
BEGIN:DAYLIGHT
TZOFFSETFROM:-0800
TZOFFSETTO:-0700
TZNAME:PDT
DTSTART:20170312T100000
END:DAYLIGHT
BEGIN:STANDARD
TZOFFSETFROM:-0700
TZOFFSETTO:-0800
TZNAME:PST
DTSTART:20171105T090000
END:STANDARD
BEGIN:DAYLIGHT
TZOFFSETFROM:-0800
TZOFFSETTO:-0700
TZNAME:PDT
DTSTART:20180311T100000
END:DAYLIGHT
BEGIN:STANDARD
TZOFFSETFROM:-0700
TZOFFSETTO:-0800
TZNAME:PST
DTSTART:20181104T090000
END:STANDARD
BEGIN:DAYLIGHT
TZOFFSETFROM:-0800
TZOFFSETTO:-0700
TZNAME:PDT
DTSTART:20190310T100000
END:DAYLIGHT
BEGIN:STANDARD
TZOFFSETFROM:-0700
TZOFFSETTO:-0800
TZNAME:PST
DTSTART:20191103T090000
END:STANDARD
END:VTIMEZONE
BEGIN:VEVENT
DTSTART;TZID=America/Los_Angeles:20181113T121500
DTEND;TZID=America/Los_Angeles:20181113T131000
DTSTAMP:20260422T054122
CREATED:20180912T174329Z
LAST-MODIFIED:20181105T225953Z
UID:551-1542111300-1542114600@colleges.claremont.edu
SUMMARY:Cayley digraphs of matrix rings over finite fields (Yesim Demiroglu\, HMC)
DESCRIPTION:In this talk we use the unit-graphs and the special unit-digraphs on matrix rings to show that every n x n nonzero matrix over F_q can be written as a sum of two SL_n-matrices when n>1. We compute the eigenvalues of these graphs in terms of Kloosterman sums and study their spectral properties; and prove that if X is a subset of Mat_2 (F_q) with size |X| > (2 q^3 \sqrt{q})/(q – 1)\, then X contains at least two distinct matrices whose difference has determinant $\alpha$ for any $\alpha \in F_q^*$. Using this result we also prove a sum-product type result: if $A\,B\,C\,D \subseteq F_q$ satisfy $\sqrt[4]{|A||B||C||D|}= \Omega (q^{0.75})$ as q tends to infinity\, then $(A – B)(C – D)$ equals all of $F_q$. In particular\, if A is a subset of F_q with cardinality $|A| > \frac{3}{2} q^{3/4}$\, then the subset $(A – A) (A – A)$ equals all of $F_q$. We also recover a classical result: every element in any finite ring of odd order can be written as the sum of two units. This talk should be accessible to undergraduates with some background in linear algebra.
URL:https://colleges.claremont.edu/ccms/event/antc-talk-by-yesim-demiroglu-hmc/
LOCATION:Millikan 2099\, Pomona College\, 610 N. College Ave.\, Claremont\, CA\, 91711\, United States
CATEGORIES:Algebra / Number Theory / Combinatorics Seminar
END:VEVENT
END:VCALENDAR