BEGIN:VCALENDAR
VERSION:2.0
PRODID:-//Claremont Center for the Mathematical Sciences - ECPv6.15.17.1//NONSGML v1.0//EN
CALSCALE:GREGORIAN
METHOD:PUBLISH
X-WR-CALNAME:Claremont Center for the Mathematical Sciences
X-ORIGINAL-URL:https://colleges.claremont.edu/ccms
X-WR-CALDESC:Events for Claremont Center for the Mathematical Sciences
REFRESH-INTERVAL;VALUE=DURATION:PT1H
X-Robots-Tag:noindex
X-PUBLISHED-TTL:PT1H
BEGIN:VTIMEZONE
TZID:America/Los_Angeles
BEGIN:DAYLIGHT
TZOFFSETFROM:-0800
TZOFFSETTO:-0700
TZNAME:PDT
DTSTART:20170312T100000
END:DAYLIGHT
BEGIN:STANDARD
TZOFFSETFROM:-0700
TZOFFSETTO:-0800
TZNAME:PST
DTSTART:20171105T090000
END:STANDARD
BEGIN:DAYLIGHT
TZOFFSETFROM:-0800
TZOFFSETTO:-0700
TZNAME:PDT
DTSTART:20180311T100000
END:DAYLIGHT
BEGIN:STANDARD
TZOFFSETFROM:-0700
TZOFFSETTO:-0800
TZNAME:PST
DTSTART:20181104T090000
END:STANDARD
BEGIN:DAYLIGHT
TZOFFSETFROM:-0800
TZOFFSETTO:-0700
TZNAME:PDT
DTSTART:20190310T100000
END:DAYLIGHT
BEGIN:STANDARD
TZOFFSETFROM:-0700
TZOFFSETTO:-0800
TZNAME:PST
DTSTART:20191103T090000
END:STANDARD
END:VTIMEZONE
BEGIN:VEVENT
DTSTART;TZID=America/Los_Angeles:20181127T121500
DTEND;TZID=America/Los_Angeles:20181127T131000
DTSTAMP:20260420T111733
CREATED:20181002T061007Z
LAST-MODIFIED:20190115T082646Z
UID:892-1543320900-1543324200@colleges.claremont.edu
SUMMARY:Weil sums of binomials: properties and applications (Daniel Katz\, CSUN)
DESCRIPTION:We consider sums in which an additive character of a finite field F is applied to a binomial whose individual terms (monomials) become permutations of F when regarded as functions.  These Weil sums characterize the nonlinearity of power permutations of interest in cryptography.  They also tell us about the correlation of linear recursive sequences over finite fields that are used in digital communications and remote sensing.  In these applications\, one is interested in the spectrum of Weil sum values that are obtained as the coefficients in the binomial are varied.  We discuss topics of enduring interest: Archimedean and non-Archimedean bounds on the sums\, the number of values in the spectrum\, and the presence or absence of zero in the spectrum.  We indicate some important open problems and discuss progress that has been made on them.
URL:https://colleges.claremont.edu/ccms/event/antc-seminar-talk-by-daniel-katz-csun/
LOCATION:Millikan 2099\, Pomona College\, 610 N. College Ave.\, Claremont\, CA\, 91711\, United States
CATEGORIES:Algebra / Number Theory / Combinatorics Seminar
END:VEVENT
END:VCALENDAR