BEGIN:VCALENDAR
VERSION:2.0
PRODID:-//Claremont Center for the Mathematical Sciences - ECPv6.15.17.1//NONSGML v1.0//EN
CALSCALE:GREGORIAN
METHOD:PUBLISH
X-ORIGINAL-URL:https://colleges.claremont.edu/ccms
X-WR-CALDESC:Events for Claremont Center for the Mathematical Sciences
REFRESH-INTERVAL;VALUE=DURATION:PT1H
X-Robots-Tag:noindex
X-PUBLISHED-TTL:PT1H
BEGIN:VTIMEZONE
TZID:America/Los_Angeles
BEGIN:DAYLIGHT
TZOFFSETFROM:-0800
TZOFFSETTO:-0700
TZNAME:PDT
DTSTART:20180311T100000
END:DAYLIGHT
BEGIN:STANDARD
TZOFFSETFROM:-0700
TZOFFSETTO:-0800
TZNAME:PST
DTSTART:20181104T090000
END:STANDARD
BEGIN:DAYLIGHT
TZOFFSETFROM:-0800
TZOFFSETTO:-0700
TZNAME:PDT
DTSTART:20190310T100000
END:DAYLIGHT
BEGIN:STANDARD
TZOFFSETFROM:-0700
TZOFFSETTO:-0800
TZNAME:PST
DTSTART:20191103T090000
END:STANDARD
BEGIN:DAYLIGHT
TZOFFSETFROM:-0800
TZOFFSETTO:-0700
TZNAME:PDT
DTSTART:20200308T100000
END:DAYLIGHT
BEGIN:STANDARD
TZOFFSETFROM:-0700
TZOFFSETTO:-0800
TZNAME:PST
DTSTART:20201101T090000
END:STANDARD
END:VTIMEZONE
BEGIN:VEVENT
DTSTART;TZID=America/Los_Angeles:20190326T121500
DTEND;TZID=America/Los_Angeles:20190326T131000
DTSTAMP:20260419T190937
CREATED:20190224T030836Z
LAST-MODIFIED:20190304T190113Z
UID:1236-1553602500-1553605800@colleges.claremont.edu
SUMMARY:Refinements of metrics (Wai Yan Pong\, CSUDH)
DESCRIPTION:I will talk about a few graph-theoretic metrics then introduce the concept of refinements on a class of functions that include all metrics. As a case study\, we will construct various refinements on the shortest-path distance. Consequently\, we obtain a few “better” versions of the Erdos number. In the course of our investigation\, we realized various construction of metrics can be unified under a rather natural concept that we called monotonic monoid norm. This is a joint work with Kayla Lock and Alex Wittmond.
URL:https://colleges.claremont.edu/ccms/event/antc-talk-wai-yan-pong-csudh/
LOCATION:Millikan 2099\, Pomona College\, 610 N. College Ave.\, Claremont\, CA\, 91711\, United States
CATEGORIES:Algebra / Number Theory / Combinatorics Seminar
END:VEVENT
END:VCALENDAR