BEGIN:VCALENDAR
VERSION:2.0
PRODID:-//Claremont Center for the Mathematical Sciences - ECPv6.15.17.1//NONSGML v1.0//EN
CALSCALE:GREGORIAN
METHOD:PUBLISH
X-ORIGINAL-URL:https://colleges.claremont.edu/ccms
X-WR-CALDESC:Events for Claremont Center for the Mathematical Sciences
REFRESH-INTERVAL;VALUE=DURATION:PT1H
X-Robots-Tag:noindex
X-PUBLISHED-TTL:PT1H
BEGIN:VTIMEZONE
TZID:America/Los_Angeles
BEGIN:DAYLIGHT
TZOFFSETFROM:-0800
TZOFFSETTO:-0700
TZNAME:PDT
DTSTART:20200308T100000
END:DAYLIGHT
BEGIN:STANDARD
TZOFFSETFROM:-0700
TZOFFSETTO:-0800
TZNAME:PST
DTSTART:20201101T090000
END:STANDARD
BEGIN:DAYLIGHT
TZOFFSETFROM:-0800
TZOFFSETTO:-0700
TZNAME:PDT
DTSTART:20210314T100000
END:DAYLIGHT
BEGIN:STANDARD
TZOFFSETFROM:-0700
TZOFFSETTO:-0800
TZNAME:PST
DTSTART:20211107T090000
END:STANDARD
BEGIN:DAYLIGHT
TZOFFSETFROM:-0800
TZOFFSETTO:-0700
TZNAME:PDT
DTSTART:20220313T100000
END:DAYLIGHT
BEGIN:STANDARD
TZOFFSETFROM:-0700
TZOFFSETTO:-0800
TZNAME:PST
DTSTART:20221106T090000
END:STANDARD
END:VTIMEZONE
BEGIN:VEVENT
DTSTART;TZID=America/Los_Angeles:20210907T123000
DTEND;TZID=America/Los_Angeles:20210907T132000
DTSTAMP:20260425T091340
CREATED:20210823T221435Z
LAST-MODIFIED:20210830T213551Z
UID:2214-1631017800-1631020800@colleges.claremont.edu
SUMMARY:Region colorings in knot theory (Sam Nelson\, CMC)
DESCRIPTION:In this talk we will survey recent developments in the use of ternary algebraic structures known as Niebrzydowski Tribrackets in defining invariants of knots\, with some perhaps surprising applications.
URL:https://colleges.claremont.edu/ccms/event/antc-seminar-sam-nelson-cmc/
LOCATION:On Zoom
CATEGORIES:Algebra / Number Theory / Combinatorics Seminar
END:VEVENT
END:VCALENDAR