BEGIN:VCALENDAR
VERSION:2.0
PRODID:-//Claremont Center for the Mathematical Sciences - ECPv6.15.17.1//NONSGML v1.0//EN
CALSCALE:GREGORIAN
METHOD:PUBLISH
X-ORIGINAL-URL:https://colleges.claremont.edu/ccms
X-WR-CALDESC:Events for Claremont Center for the Mathematical Sciences
REFRESH-INTERVAL;VALUE=DURATION:PT1H
X-Robots-Tag:noindex
X-PUBLISHED-TTL:PT1H
BEGIN:VTIMEZONE
TZID:America/Los_Angeles
BEGIN:DAYLIGHT
TZOFFSETFROM:-0800
TZOFFSETTO:-0700
TZNAME:PDT
DTSTART:20200308T100000
END:DAYLIGHT
BEGIN:STANDARD
TZOFFSETFROM:-0700
TZOFFSETTO:-0800
TZNAME:PST
DTSTART:20201101T090000
END:STANDARD
BEGIN:DAYLIGHT
TZOFFSETFROM:-0800
TZOFFSETTO:-0700
TZNAME:PDT
DTSTART:20210314T100000
END:DAYLIGHT
BEGIN:STANDARD
TZOFFSETFROM:-0700
TZOFFSETTO:-0800
TZNAME:PST
DTSTART:20211107T090000
END:STANDARD
BEGIN:DAYLIGHT
TZOFFSETFROM:-0800
TZOFFSETTO:-0700
TZNAME:PDT
DTSTART:20220313T100000
END:DAYLIGHT
BEGIN:STANDARD
TZOFFSETFROM:-0700
TZOFFSETTO:-0800
TZNAME:PST
DTSTART:20221106T090000
END:STANDARD
END:VTIMEZONE
BEGIN:VEVENT
DTSTART;TZID=America/Los_Angeles:20210928T123000
DTEND;TZID=America/Los_Angeles:20210928T132000
DTSTAMP:20260424T015211
CREATED:20210827T004513Z
LAST-MODIFIED:20210921T181604Z
UID:2224-1632832200-1632835200@colleges.claremont.edu
SUMMARY:An algebraic introduction to the Kauffman bracket skein algebra (Helen Wong\, CMC)
DESCRIPTION:The Kauffman bracket skein algebra was originally defined as a generalization of the Jones polynomial for knots and links on a surface and is one of the few quantum invariants where the connection to hyperbolic geometry is fairly well-established.  Explicating this connection to hyperbolic geometry requires an understanding of the non-commutative structure of the skein algebra\, especially at roots of unity.  We’ll present some of the known (and not known) properties of the skein algebra.  Highlights include the Chebyshev polynomials\, quantum tori\, $SL(2\, \mathbb C)$ and other interesting algebraic objects.
URL:https://colleges.claremont.edu/ccms/event/antc-seminar-helen-wong-cmc/
LOCATION:On Zoom
CATEGORIES:Algebra / Number Theory / Combinatorics Seminar
END:VEVENT
END:VCALENDAR