BEGIN:VCALENDAR
VERSION:2.0
PRODID:-//Claremont Center for the Mathematical Sciences - ECPv6.15.17.1//NONSGML v1.0//EN
CALSCALE:GREGORIAN
METHOD:PUBLISH
X-WR-CALNAME:Claremont Center for the Mathematical Sciences
X-ORIGINAL-URL:https://colleges.claremont.edu/ccms
X-WR-CALDESC:Events for Claremont Center for the Mathematical Sciences
REFRESH-INTERVAL;VALUE=DURATION:PT1H
X-Robots-Tag:noindex
X-PUBLISHED-TTL:PT1H
BEGIN:VTIMEZONE
TZID:America/Los_Angeles
BEGIN:DAYLIGHT
TZOFFSETFROM:-0800
TZOFFSETTO:-0700
TZNAME:PDT
DTSTART:20210314T100000
END:DAYLIGHT
BEGIN:STANDARD
TZOFFSETFROM:-0700
TZOFFSETTO:-0800
TZNAME:PST
DTSTART:20211107T090000
END:STANDARD
BEGIN:DAYLIGHT
TZOFFSETFROM:-0800
TZOFFSETTO:-0700
TZNAME:PDT
DTSTART:20220313T100000
END:DAYLIGHT
BEGIN:STANDARD
TZOFFSETFROM:-0700
TZOFFSETTO:-0800
TZNAME:PST
DTSTART:20221106T090000
END:STANDARD
BEGIN:DAYLIGHT
TZOFFSETFROM:-0800
TZOFFSETTO:-0700
TZNAME:PDT
DTSTART:20230312T100000
END:DAYLIGHT
BEGIN:STANDARD
TZOFFSETFROM:-0700
TZOFFSETTO:-0800
TZNAME:PST
DTSTART:20231105T090000
END:STANDARD
END:VTIMEZONE
BEGIN:VEVENT
DTSTART;TZID=America/Los_Angeles:20220419T123000
DTEND;TZID=America/Los_Angeles:20220419T132000
DTSTAMP:20260419T054951
CREATED:20220124T234622Z
LAST-MODIFIED:20220413T160024Z
UID:2553-1650371400-1650374400@colleges.claremont.edu
SUMMARY:A conjugacy criterion for two pairs of 2 x 2 matrices over a commutative ring (Bogdan Petrenko\, Eastern Illinois University)
DESCRIPTION:I will explain how to apply presentations of algebras (together with some classical results from non-commutative algebra) to obtain some 5 polynomial invariants telling us when two pairs of 2×2 matrices over a commutative ring are conjugate\, assuming that each of these pairs generate the matrix algebra. This talk is based on my joint paper with Marcin Mazur (Binghamton University):  Separable algebras over infinite fields are 2-generated and finitely presented\, Arch. Math. 93 (2009)\, 521-529.
URL:https://colleges.claremont.edu/ccms/event/antc-seminar-bogdan-petrenko-eastern-illinois-university/
LOCATION:On Zoom
CATEGORIES:Algebra / Number Theory / Combinatorics Seminar
END:VEVENT
END:VCALENDAR