BEGIN:VCALENDAR
VERSION:2.0
PRODID:-//Claremont Center for the Mathematical Sciences - ECPv6.15.17.1//NONSGML v1.0//EN
CALSCALE:GREGORIAN
METHOD:PUBLISH
X-ORIGINAL-URL:https://colleges.claremont.edu/ccms
X-WR-CALDESC:Events for Claremont Center for the Mathematical Sciences
REFRESH-INTERVAL;VALUE=DURATION:PT1H
X-Robots-Tag:noindex
X-PUBLISHED-TTL:PT1H
BEGIN:VTIMEZONE
TZID:America/Los_Angeles
BEGIN:DAYLIGHT
TZOFFSETFROM:-0800
TZOFFSETTO:-0700
TZNAME:PDT
DTSTART:20220313T100000
END:DAYLIGHT
BEGIN:STANDARD
TZOFFSETFROM:-0700
TZOFFSETTO:-0800
TZNAME:PST
DTSTART:20221106T090000
END:STANDARD
BEGIN:DAYLIGHT
TZOFFSETFROM:-0800
TZOFFSETTO:-0700
TZNAME:PDT
DTSTART:20230312T100000
END:DAYLIGHT
BEGIN:STANDARD
TZOFFSETFROM:-0700
TZOFFSETTO:-0800
TZNAME:PST
DTSTART:20231105T090000
END:STANDARD
BEGIN:DAYLIGHT
TZOFFSETFROM:-0800
TZOFFSETTO:-0700
TZNAME:PDT
DTSTART:20240310T100000
END:DAYLIGHT
BEGIN:STANDARD
TZOFFSETFROM:-0700
TZOFFSETTO:-0800
TZNAME:PST
DTSTART:20241103T090000
END:STANDARD
END:VTIMEZONE
BEGIN:VEVENT
DTSTART;TZID=America/Los_Angeles:20230425T121500
DTEND;TZID=America/Los_Angeles:20230425T131000
DTSTAMP:20260419T182510
CREATED:20230116T180753Z
LAST-MODIFIED:20230417T230547Z
UID:3027-1682424900-1682428200@colleges.claremont.edu
SUMMARY:Bias in cubic Gauss sums: Patterson's conjecture (Alex Dunn\, CalTech)
DESCRIPTION:We prove\, in this joint work with Maksym Radziwill\, a 1978 conjecture of S. Patterson (conditional on the Generalized Riemann Hypothesis) concerning the bias of cubic Gauss sums. This explains a well-known numerical bias in the distribution of cubic Gauss sums first observed by Kummer in 1846. One important byproduct of our proof is that we show Heath-Brown’s cubic large sieve is sharp under GRH.  This disproves the popular belief that the cubic large sieve can be improved. An important ingredient in our proof is a dispersion estimate for cubic Gauss sums. It can be interpreted as a cubic large sieve with correction by a non-trivial asymptotic main term.
URL:https://colleges.claremont.edu/ccms/event/antc-talk-alex-dunn-caltech/
LOCATION:Davidson Lecture Hall\, CMC\, 340 E 9th St\, Claremont\, CA\, 91711\, United States
CATEGORIES:Algebra / Number Theory / Combinatorics Seminar
END:VEVENT
END:VCALENDAR