BEGIN:VCALENDAR
VERSION:2.0
PRODID:-//Claremont Center for the Mathematical Sciences - ECPv6.15.17.1//NONSGML v1.0//EN
CALSCALE:GREGORIAN
METHOD:PUBLISH
X-ORIGINAL-URL:https://colleges.claremont.edu/ccms
X-WR-CALDESC:Events for Claremont Center for the Mathematical Sciences
REFRESH-INTERVAL;VALUE=DURATION:PT1H
X-Robots-Tag:noindex
X-PUBLISHED-TTL:PT1H
BEGIN:VTIMEZONE
TZID:America/Los_Angeles
BEGIN:DAYLIGHT
TZOFFSETFROM:-0800
TZOFFSETTO:-0700
TZNAME:PDT
DTSTART:20220313T100000
END:DAYLIGHT
BEGIN:STANDARD
TZOFFSETFROM:-0700
TZOFFSETTO:-0800
TZNAME:PST
DTSTART:20221106T090000
END:STANDARD
BEGIN:DAYLIGHT
TZOFFSETFROM:-0800
TZOFFSETTO:-0700
TZNAME:PDT
DTSTART:20230312T100000
END:DAYLIGHT
BEGIN:STANDARD
TZOFFSETFROM:-0700
TZOFFSETTO:-0800
TZNAME:PST
DTSTART:20231105T090000
END:STANDARD
BEGIN:DAYLIGHT
TZOFFSETFROM:-0800
TZOFFSETTO:-0700
TZNAME:PDT
DTSTART:20240310T100000
END:DAYLIGHT
BEGIN:STANDARD
TZOFFSETFROM:-0700
TZOFFSETTO:-0800
TZNAME:PST
DTSTART:20241103T090000
END:STANDARD
END:VTIMEZONE
BEGIN:VEVENT
DTSTART;TZID=America/Los_Angeles:20231128T121500
DTEND;TZID=America/Los_Angeles:20231128T131000
DTSTAMP:20260422T015210
CREATED:20231009T153250Z
LAST-MODIFIED:20231121T192204Z
UID:3281-1701173700-1701177000@colleges.claremont.edu
SUMMARY:What can chicken nuggets tell us about symmetric functions\, positive polynomials\, random norms\, and AF algebras? (Stephan Garcia\, Pomona)
DESCRIPTION:A simple question about chicken nuggets connects everything from analysis and combinatorics to probability theory and computer-aided design.  With tools from complex\, harmonic\, and functional analysis\, probability theory\, algebraic combinatorics\, and spline theory\, we answer many asymptotic questions about factorization lengths in numerical semigroups.  Our results yield uncannily accurate predictions\, along with unexpected results about symmetric functions\, trace polynomials\, and the statistical properties of certain AF C$^*$-algebras.
URL:https://colleges.claremont.edu/ccms/event/antc-seminar-stephan-garcia-pomona/
LOCATION:Roberts North 102\, CMC
CATEGORIES:Algebra / Number Theory / Combinatorics Seminar
END:VEVENT
END:VCALENDAR