BEGIN:VCALENDAR
VERSION:2.0
PRODID:-//Claremont Center for the Mathematical Sciences - ECPv6.15.17.1//NONSGML v1.0//EN
CALSCALE:GREGORIAN
METHOD:PUBLISH
X-ORIGINAL-URL:https://colleges.claremont.edu/ccms
X-WR-CALDESC:Events for Claremont Center for the Mathematical Sciences
REFRESH-INTERVAL;VALUE=DURATION:PT1H
X-Robots-Tag:noindex
X-PUBLISHED-TTL:PT1H
BEGIN:VTIMEZONE
TZID:America/Los_Angeles
BEGIN:DAYLIGHT
TZOFFSETFROM:-0800
TZOFFSETTO:-0700
TZNAME:PDT
DTSTART:20230312T100000
END:DAYLIGHT
BEGIN:STANDARD
TZOFFSETFROM:-0700
TZOFFSETTO:-0800
TZNAME:PST
DTSTART:20231105T090000
END:STANDARD
BEGIN:DAYLIGHT
TZOFFSETFROM:-0800
TZOFFSETTO:-0700
TZNAME:PDT
DTSTART:20240310T100000
END:DAYLIGHT
BEGIN:STANDARD
TZOFFSETFROM:-0700
TZOFFSETTO:-0800
TZNAME:PST
DTSTART:20241103T090000
END:STANDARD
BEGIN:DAYLIGHT
TZOFFSETFROM:-0800
TZOFFSETTO:-0700
TZNAME:PDT
DTSTART:20250309T100000
END:DAYLIGHT
BEGIN:STANDARD
TZOFFSETFROM:-0700
TZOFFSETTO:-0800
TZNAME:PST
DTSTART:20251102T090000
END:STANDARD
END:VTIMEZONE
BEGIN:VEVENT
DTSTART;TZID=America/Los_Angeles:20240220T121500
DTEND;TZID=America/Los_Angeles:20240220T131000
DTSTAMP:20260423T121754
CREATED:20231127T045722Z
LAST-MODIFIED:20240219T164238Z
UID:3328-1708431300-1708434600@colleges.claremont.edu
SUMMARY:Point-counting and topology of algebraic varieties (Siddarth Kannan\, UCLA)
DESCRIPTION:A projective algebraic variety X is the zero locus of a collection of homogeneous polynomials\, in projective space. When the polynomials have integer coefficients\, we can think of the k-valued points X(k) of the variety\, for any field k. Now suppose we have two different fields k and k’. How does the behavior of X(k) inform the behavior of X(k’)? It turns out that this is a rich line of inquiry. I will present a particularly pleasing example which relates the topology of the complex-valued points of X with the number of points it has over finite fields.
URL:https://colleges.claremont.edu/ccms/event/antc-seminar-siddarth-kannan-ucla/
LOCATION:Estella 2099
CATEGORIES:Algebra / Number Theory / Combinatorics Seminar
END:VEVENT
END:VCALENDAR