BEGIN:VCALENDAR
VERSION:2.0
PRODID:-//Claremont Center for the Mathematical Sciences - ECPv6.15.17.1//NONSGML v1.0//EN
CALSCALE:GREGORIAN
METHOD:PUBLISH
X-WR-CALNAME:Claremont Center for the Mathematical Sciences
X-ORIGINAL-URL:https://colleges.claremont.edu/ccms
X-WR-CALDESC:Events for Claremont Center for the Mathematical Sciences
REFRESH-INTERVAL;VALUE=DURATION:PT1H
X-Robots-Tag:noindex
X-PUBLISHED-TTL:PT1H
BEGIN:VTIMEZONE
TZID:America/Los_Angeles
BEGIN:DAYLIGHT
TZOFFSETFROM:-0800
TZOFFSETTO:-0700
TZNAME:PDT
DTSTART:20250309T100000
END:DAYLIGHT
BEGIN:STANDARD
TZOFFSETFROM:-0700
TZOFFSETTO:-0800
TZNAME:PST
DTSTART:20251102T090000
END:STANDARD
BEGIN:DAYLIGHT
TZOFFSETFROM:-0800
TZOFFSETTO:-0700
TZNAME:PDT
DTSTART:20260308T100000
END:DAYLIGHT
BEGIN:STANDARD
TZOFFSETFROM:-0700
TZOFFSETTO:-0800
TZNAME:PST
DTSTART:20261101T090000
END:STANDARD
BEGIN:DAYLIGHT
TZOFFSETFROM:-0800
TZOFFSETTO:-0700
TZNAME:PDT
DTSTART:20270314T100000
END:DAYLIGHT
BEGIN:STANDARD
TZOFFSETFROM:-0700
TZOFFSETTO:-0800
TZNAME:PST
DTSTART:20271107T090000
END:STANDARD
END:VTIMEZONE
BEGIN:VEVENT
DTSTART;TZID=America/Los_Angeles:20260203T121500
DTEND;TZID=America/Los_Angeles:20260203T131000
DTSTAMP:20260424T042100
CREATED:20260129T172206Z
LAST-MODIFIED:20260129T215939Z
UID:3977-1770120900-1770124200@colleges.claremont.edu
SUMMARY:Relationships between skein algebras (Helen Wong\, CMC)
DESCRIPTION:We will examine the multiplicative structure of two skein algebras— the usual Kauffman bracket skein algebra of a surface (generated by loops) and a generalization of it due to Roger-Yang (generated by loops and arcs).   In joint work with Chloe Marple\, we found a homomorphism between the usual skein algebra for a closed torus and the Roger-Yang skein algebra for a twice-punctured annulus.   In this talk\, I’ll present some ways we used that homomorphism to do computations\, and whether there might be similar relationships between skein algebras of other surfaces. 
URL:https://colleges.claremont.edu/ccms/event/antc-talk-helen-wong-cmc-2/
LOCATION:Estella 2099
CATEGORIES:Algebra / Number Theory / Combinatorics Seminar
END:VEVENT
END:VCALENDAR