BEGIN:VCALENDAR
VERSION:2.0
PRODID:-//Claremont Center for the Mathematical Sciences - ECPv6.15.17.1//NONSGML v1.0//EN
CALSCALE:GREGORIAN
METHOD:PUBLISH
X-ORIGINAL-URL:https://colleges.claremont.edu/ccms
X-WR-CALDESC:Events for Claremont Center for the Mathematical Sciences
REFRESH-INTERVAL;VALUE=DURATION:PT1H
X-Robots-Tag:noindex
X-PUBLISHED-TTL:PT1H
BEGIN:VTIMEZONE
TZID:America/Los_Angeles
BEGIN:DAYLIGHT
TZOFFSETFROM:-0800
TZOFFSETTO:-0700
TZNAME:PDT
DTSTART:20210314T100000
END:DAYLIGHT
BEGIN:STANDARD
TZOFFSETFROM:-0700
TZOFFSETTO:-0800
TZNAME:PST
DTSTART:20211107T090000
END:STANDARD
BEGIN:DAYLIGHT
TZOFFSETFROM:-0800
TZOFFSETTO:-0700
TZNAME:PDT
DTSTART:20220313T100000
END:DAYLIGHT
BEGIN:STANDARD
TZOFFSETFROM:-0700
TZOFFSETTO:-0800
TZNAME:PST
DTSTART:20221106T090000
END:STANDARD
BEGIN:DAYLIGHT
TZOFFSETFROM:-0800
TZOFFSETTO:-0700
TZNAME:PDT
DTSTART:20230312T100000
END:DAYLIGHT
BEGIN:STANDARD
TZOFFSETFROM:-0700
TZOFFSETTO:-0800
TZNAME:PST
DTSTART:20231105T090000
END:STANDARD
END:VTIMEZONE
BEGIN:VEVENT
DTSTART;TZID=America/Los_Angeles:20220404T161500
DTEND;TZID=America/Los_Angeles:20220404T173000
DTSTAMP:20260422T060815
CREATED:20220328T041515Z
LAST-MODIFIED:20220328T041515Z
UID:2677-1649088900-1649093400@colleges.claremont.edu
SUMMARY:Applied Math Seminar -- Kathryn G. Link (UC Davis)
DESCRIPTION:Title: Viscoelastic Effects of Spontaneous Oscillations of Elastic Filaments in the Follower-Force Problem. \nAbstract: It is well know that microorganisms\, such as bacteria and eukaryotes\, often move in intricate environments experiencing mechano-chemical dynamics. These environments consist of rheologically complex substances such as mucus and other biofilms that are more complicated than water.  Spermatozoa (sperm)\, for example\, swim in viscoelastic mucus via deformations of their flagella\, which are slender threadlike structures that are powered by internal molecular motors. The motor activity generates flagellar bending\, resulting in an undulatory beat. The effects of a fading-memory fluid on emergent properties of these spontaneous oscillations are not entirely known. Here we combine analysis with numerical simulations of finite-length\, small-amplitude pinned filaments subject to a compressive follower force to elucidate the Hopf bifurcation that occurs with increasing forcing on the filament. Additionally\, we determine characteristics of the flapping motion\, specifically frequency and amplitude changes and how those changes depend on follower force strength as well as fluid elasticity.
URL:https://colleges.claremont.edu/ccms/event/applied-math-seminar-kathryn-g-link-uc-davis/
LOCATION:Emmy Noether Room\, Estella 1021\, Pomona College\,\, 610 N. College Ave.\, Claremont\, CA\, 91711\, United States
CATEGORIES:Applied Math Seminar
ORGANIZER;CN="Heather Zinn Brooks":MAILTO:hzinnbrooks@g.hmc.edu
END:VEVENT
BEGIN:VEVENT
DTSTART;TZID=America/Los_Angeles:20220411T161500
DTEND;TZID=America/Los_Angeles:20220411T171500
DTSTAMP:20260422T060815
CREATED:20220125T182732Z
LAST-MODIFIED:20220125T182732Z
UID:2562-1649693700-1649697300@colleges.claremont.edu
SUMMARY:Applied Math Seminar -- Applied Attractions at Claremont Colleges
DESCRIPTION:During this student-centered Applied Math Seminar\, there will be discussion and presentation about upcoming courses in applied mathematics to help students make their enrollment choices for Fall 2022 and beyond.
URL:https://colleges.claremont.edu/ccms/event/applied-math-seminar-applied-attractions-at-claremont-colleges/
LOCATION:Emmy Noether Room\, Estella 1021\, Pomona College\,\, 610 N. College Ave.\, Claremont\, CA\, 91711\, United States
CATEGORIES:Applied Math Seminar
ORGANIZER;CN="Heather Zinn Brooks":MAILTO:hzinnbrooks@g.hmc.edu
END:VEVENT
BEGIN:VEVENT
DTSTART;TZID=America/Los_Angeles:20220425T161500
DTEND;TZID=America/Los_Angeles:20220425T171500
DTSTAMP:20260422T060815
CREATED:20211213T202110Z
LAST-MODIFIED:20230816T041400Z
UID:2518-1650903300-1650906900@colleges.claremont.edu
SUMMARY:Applied Math Seminar -- Alona Kryshchenko (CSUCI)
DESCRIPTION:Title: Data science and applications in dynamic topic modeling \nAbstract:\nThe shockwaves of the big data boom have thrown into sharp relief the critical need for domain-driven\, large-scale data analytic techniques across the fields of\, among others\, finance\, political science\, economics\, psychology\, and medicine.  It is not simply the size of data sets that contributes to the extreme challenges of data analysis in these fields\, but the inherent complexity of this data.  Often this data is multi-modal\, with modes representing measurements along different dimensions (e.g.\, spatial\, and temporal dimensions of video data\, or word and document dimensions of text corpora data).  This data is often naturally formatted as a tensor\, a higher-order generalization of a matrix. In this talk\, we will explore nonnegative tensor decompositions and their applications in dynamic topic modeling.
URL:https://colleges.claremont.edu/ccms/event/applied-math-seminar-alona-kryshchenko-csuci/
LOCATION:Emmy Noether Room\, Estella 1021\, Pomona College\,\, 610 N. College Ave.\, Claremont\, CA\, 91711\, United States
CATEGORIES:Applied Math Seminar
ORGANIZER;CN="Heather Zinn Brooks":MAILTO:hzinnbrooks@g.hmc.edu
END:VEVENT
END:VCALENDAR