BEGIN:VCALENDAR
VERSION:2.0
PRODID:-//Claremont Center for the Mathematical Sciences - ECPv6.15.17.1//NONSGML v1.0//EN
CALSCALE:GREGORIAN
METHOD:PUBLISH
X-WR-CALNAME:Claremont Center for the Mathematical Sciences
X-ORIGINAL-URL:https://colleges.claremont.edu/ccms
X-WR-CALDESC:Events for Claremont Center for the Mathematical Sciences
REFRESH-INTERVAL;VALUE=DURATION:PT1H
X-Robots-Tag:noindex
X-PUBLISHED-TTL:PT1H
BEGIN:VTIMEZONE
TZID:America/Los_Angeles
BEGIN:DAYLIGHT
TZOFFSETFROM:-0800
TZOFFSETTO:-0700
TZNAME:PDT
DTSTART:20210314T100000
END:DAYLIGHT
BEGIN:STANDARD
TZOFFSETFROM:-0700
TZOFFSETTO:-0800
TZNAME:PST
DTSTART:20211107T090000
END:STANDARD
BEGIN:DAYLIGHT
TZOFFSETFROM:-0800
TZOFFSETTO:-0700
TZNAME:PDT
DTSTART:20220313T100000
END:DAYLIGHT
BEGIN:STANDARD
TZOFFSETFROM:-0700
TZOFFSETTO:-0800
TZNAME:PST
DTSTART:20221106T090000
END:STANDARD
BEGIN:DAYLIGHT
TZOFFSETFROM:-0800
TZOFFSETTO:-0700
TZNAME:PDT
DTSTART:20230312T100000
END:DAYLIGHT
BEGIN:STANDARD
TZOFFSETFROM:-0700
TZOFFSETTO:-0800
TZNAME:PST
DTSTART:20231105T090000
END:STANDARD
END:VTIMEZONE
BEGIN:VEVENT
DTSTART;TZID=America/Los_Angeles:20220502T161500
DTEND;TZID=America/Los_Angeles:20220502T171500
DTSTAMP:20260424T140241
CREATED:20220422T161142Z
LAST-MODIFIED:20220422T161142Z
UID:2651-1651508100-1651511700@colleges.claremont.edu
SUMMARY:Applied Math Seminar -- Almut Burchard (U. Toronto)
DESCRIPTION:Title: What is the best shape? Geometric\nproblems arising in aggregation models \nAbstract: How do pair interactions shape the large-scale\nbehaviour of a cloud of particles (animals\,\nsocial agents …) ?  In the most basic\nmodels\, the shape of the cloud is determined\nby minimizing an attractive-repulsive interaction\nenergy under suitable geometric constraints. \nWhen can we expect aggregation to occur? what\nis the shape of the resulting flock?  I will\ndescribe recent work on optimal shapes in capacitor\nproblems  that occur as limiting cases. \n 
URL:https://colleges.claremont.edu/ccms/event/applied-math-seminar-almut-burchard-u-toronto/
LOCATION:Emmy Noether Room\, Estella 1021\, Pomona College\,\, 610 N. College Ave.\, Claremont\, CA\, 91711\, United States
CATEGORIES:Applied Math Seminar
ORGANIZER;CN="Heather Zinn Brooks":MAILTO:hzinnbrooks@g.hmc.edu
END:VEVENT
END:VCALENDAR