BEGIN:VCALENDAR
VERSION:2.0
PRODID:-//Claremont Center for the Mathematical Sciences - ECPv6.15.17.1//NONSGML v1.0//EN
CALSCALE:GREGORIAN
METHOD:PUBLISH
X-ORIGINAL-URL:https://colleges.claremont.edu/ccms
X-WR-CALDESC:Events for Claremont Center for the Mathematical Sciences
REFRESH-INTERVAL;VALUE=DURATION:PT1H
X-Robots-Tag:noindex
X-PUBLISHED-TTL:PT1H
BEGIN:VTIMEZONE
TZID:America/Los_Angeles
BEGIN:DAYLIGHT
TZOFFSETFROM:-0800
TZOFFSETTO:-0700
TZNAME:PDT
DTSTART:20170312T100000
END:DAYLIGHT
BEGIN:STANDARD
TZOFFSETFROM:-0700
TZOFFSETTO:-0800
TZNAME:PST
DTSTART:20171105T090000
END:STANDARD
BEGIN:DAYLIGHT
TZOFFSETFROM:-0800
TZOFFSETTO:-0700
TZNAME:PDT
DTSTART:20180311T100000
END:DAYLIGHT
BEGIN:STANDARD
TZOFFSETFROM:-0700
TZOFFSETTO:-0800
TZNAME:PST
DTSTART:20181104T090000
END:STANDARD
BEGIN:DAYLIGHT
TZOFFSETFROM:-0800
TZOFFSETTO:-0700
TZNAME:PDT
DTSTART:20190310T100000
END:DAYLIGHT
BEGIN:STANDARD
TZOFFSETFROM:-0700
TZOFFSETTO:-0800
TZNAME:PST
DTSTART:20191103T090000
END:STANDARD
END:VTIMEZONE
BEGIN:VEVENT
DTSTART;TZID=America/Los_Angeles:20181003T161500
DTEND;TZID=America/Los_Angeles:20181003T171500
DTSTAMP:20260425T073134
CREATED:20180928T164701Z
LAST-MODIFIED:20180928T164701Z
UID:834-1538583300-1538586900@colleges.claremont.edu
SUMMARY:Modeling Mechanisms of Ovulatory (Dys)Function (Erica Graham\, Bryn Mawr College)
DESCRIPTION:A normally functioning menstrual cycle requires significant crosstalk between hormones originating in ovarian and brain tissues. Reproductive hormone dysregulation may disrupt function and can lead to infertility\, as occurs in the common endocrine disorder polycystic ovarian syndrome (PCOS). In this talk\, I will discuss a mathematical model of the ovulatory cycle that accounts for mechanisms of ovarian testosterone production and explore insulin-mediated ovulatory dysfunction.  I will also explore additional model characteristics\, via bifurcations and parameter sensitivity\, and their respective clinical implications.
URL:https://colleges.claremont.edu/ccms/event/modeling-mechanisms-of-ovulatory-dysfunction-erica-graham-bryn-mawr-college/
LOCATION:Argue Auditorium\, Pomona College\, 610 N. College Ave.\, Claremont\, CA\, 91711\, United States
CATEGORIES:Colloquium
ORGANIZER;CN="Ali Nadim":MAILTO:ali.nadim@cgu.edu
GEO:34.0999157;-117.7142668
X-APPLE-STRUCTURED-LOCATION;VALUE=URI;X-ADDRESS=Argue Auditorium Pomona College 610 N. College Ave. Claremont CA 91711 United States;X-APPLE-RADIUS=500;X-TITLE=610 N. College Ave.:geo:-117.7142668,34.0999157
END:VEVENT
END:VCALENDAR