BEGIN:VCALENDAR
VERSION:2.0
PRODID:-//Claremont Center for the Mathematical Sciences - ECPv6.15.17.1//NONSGML v1.0//EN
CALSCALE:GREGORIAN
METHOD:PUBLISH
X-ORIGINAL-URL:https://colleges.claremont.edu/ccms
X-WR-CALDESC:Events for Claremont Center for the Mathematical Sciences
REFRESH-INTERVAL;VALUE=DURATION:PT1H
X-Robots-Tag:noindex
X-PUBLISHED-TTL:PT1H
BEGIN:VTIMEZONE
TZID:America/Los_Angeles
BEGIN:DAYLIGHT
TZOFFSETFROM:-0800
TZOFFSETTO:-0700
TZNAME:PDT
DTSTART:20170312T100000
END:DAYLIGHT
BEGIN:STANDARD
TZOFFSETFROM:-0700
TZOFFSETTO:-0800
TZNAME:PST
DTSTART:20171105T090000
END:STANDARD
BEGIN:DAYLIGHT
TZOFFSETFROM:-0800
TZOFFSETTO:-0700
TZNAME:PDT
DTSTART:20180311T100000
END:DAYLIGHT
BEGIN:STANDARD
TZOFFSETFROM:-0700
TZOFFSETTO:-0800
TZNAME:PST
DTSTART:20181104T090000
END:STANDARD
BEGIN:DAYLIGHT
TZOFFSETFROM:-0800
TZOFFSETTO:-0700
TZNAME:PDT
DTSTART:20190310T100000
END:DAYLIGHT
BEGIN:STANDARD
TZOFFSETFROM:-0700
TZOFFSETTO:-0800
TZNAME:PST
DTSTART:20191103T090000
END:STANDARD
END:VTIMEZONE
BEGIN:VEVENT
DTSTART;TZID=America/Los_Angeles:20181114T161500
DTEND;TZID=America/Los_Angeles:20181114T171500
DTSTAMP:20260420T120952
CREATED:20180928T171315Z
LAST-MODIFIED:20181109T164101Z
UID:849-1542212100-1542215700@colleges.claremont.edu
SUMMARY:Coupled Mechanochemical Multiscale Model to Study the Growth Regulation and Morphogenesis during Tissue Development (Weitao Chen\, UCR)
DESCRIPTION:Growth regulation and pattern formation are two main problems in developmental biol-\nogy. How cells know when to stop growing at certain tissue size with specic shape is an important\nquestion in both developmental biology and regenerative medicine\, and it is still an unsolved mystery\nin many systems. During the growth\, tissues and organs always exhibit self-government to some\nextent. Cells stop proliferation precisely when the intended size of the tissue or organ is achieved.\nMeanwhile\, dierential cell shapes in space are integrated to give rise to well-organized overall struc-\nture. Uncontrolled growth of the cells in tissues or organs will lead to abnormal development or\nfatal diseases such as cancer. Therefore\, developing an extensible predictive mathematical model\nfor exploring the mechanisms involved in the tissue development is signicant for understanding\nthe fundamental principles in developmental biology\, with a broad range of applications from tissue\nengineering to biomanufacturing and biotech industry. Experimental data suggests that mechanical\nproperties of cells and chemical signals in both intracellular and extracellular domains play critical\nroles in size control and shape formation. Here we develop a multiscale\, mechochemical coupled\nmodel of tissue growth control. This rst-of-class modeling approach provides sub-cellular details\nto both mechanical properties and chemical signaling during tissue growth. This model is applied\nto test competing hypotheses in the eld to resolve the highly debated question of how tissues reach\ntheir nal size\, as well as how the tissue shape is determined simultaneously.
URL:https://colleges.claremont.edu/ccms/event/weitao-chen-ucr/
LOCATION:Argue Auditorium\, Pomona College\, 610 N. College Ave.\, Claremont\, CA\, 91711\, United States
CATEGORIES:Colloquium
ORGANIZER;CN="Ali Nadim":MAILTO:ali.nadim@cgu.edu
GEO:34.0999157;-117.7142668
X-APPLE-STRUCTURED-LOCATION;VALUE=URI;X-ADDRESS=Argue Auditorium Pomona College 610 N. College Ave. Claremont CA 91711 United States;X-APPLE-RADIUS=500;X-TITLE=610 N. College Ave.:geo:-117.7142668,34.0999157
END:VEVENT
END:VCALENDAR