BEGIN:VCALENDAR
VERSION:2.0
PRODID:-//Claremont Center for the Mathematical Sciences - ECPv6.15.17.1//NONSGML v1.0//EN
CALSCALE:GREGORIAN
METHOD:PUBLISH
X-WR-CALNAME:Claremont Center for the Mathematical Sciences
X-ORIGINAL-URL:https://colleges.claremont.edu/ccms
X-WR-CALDESC:Events for Claremont Center for the Mathematical Sciences
REFRESH-INTERVAL;VALUE=DURATION:PT1H
X-Robots-Tag:noindex
X-PUBLISHED-TTL:PT1H
BEGIN:VTIMEZONE
TZID:America/Los_Angeles
BEGIN:DAYLIGHT
TZOFFSETFROM:-0800
TZOFFSETTO:-0700
TZNAME:PDT
DTSTART:20170312T100000
END:DAYLIGHT
BEGIN:STANDARD
TZOFFSETFROM:-0700
TZOFFSETTO:-0800
TZNAME:PST
DTSTART:20171105T090000
END:STANDARD
BEGIN:DAYLIGHT
TZOFFSETFROM:-0800
TZOFFSETTO:-0700
TZNAME:PDT
DTSTART:20180311T100000
END:DAYLIGHT
BEGIN:STANDARD
TZOFFSETFROM:-0700
TZOFFSETTO:-0800
TZNAME:PST
DTSTART:20181104T090000
END:STANDARD
BEGIN:DAYLIGHT
TZOFFSETFROM:-0800
TZOFFSETTO:-0700
TZNAME:PDT
DTSTART:20190310T100000
END:DAYLIGHT
BEGIN:STANDARD
TZOFFSETFROM:-0700
TZOFFSETTO:-0800
TZNAME:PST
DTSTART:20191103T090000
END:STANDARD
END:VTIMEZONE
BEGIN:VEVENT
DTSTART;TZID=America/Los_Angeles:20181205T161500
DTEND;TZID=America/Los_Angeles:20181205T171500
DTSTAMP:20260423T120915
CREATED:20180928T171556Z
LAST-MODIFIED:20181129T192838Z
UID:853-1544026500-1544030100@colleges.claremont.edu
SUMMARY:The kissing number and related problems (Oleg Musin\, University of Texas Rio Grande Valley)
DESCRIPTION:Abstract: \nThe kissing number problem asks for the maximal number k(n) of equal size nonoverlapping spheres in n-dimensional space that can touch another sphere of the same size. This problem in dimension three was the subject of a famous discussion between Isaac Newton and David Gregory in 1694. In three dimensions the problem was finally solved only in 1953 by Schutte and van der Waerden. In this talk we are going to give an overview of this problem and to present our solution of a long-standing problem about the kissing number in four dimensions. We are also going to discuss Tammes’ problem and other optimal sphere packings problems.
URL:https://colleges.claremont.edu/ccms/event/oleg-musin-university-of-texas-rio-grande-valley/
LOCATION:Argue Auditorium\, Pomona College\, 610 N. College Ave.\, Claremont\, CA\, 91711\, United States
CATEGORIES:Colloquium
ORGANIZER;CN="Ali Nadim":MAILTO:ali.nadim@cgu.edu
GEO:34.0999157;-117.7142668
X-APPLE-STRUCTURED-LOCATION;VALUE=URI;X-ADDRESS=Argue Auditorium Pomona College 610 N. College Ave. Claremont CA 91711 United States;X-APPLE-RADIUS=500;X-TITLE=610 N. College Ave.:geo:-117.7142668,34.0999157
END:VEVENT
END:VCALENDAR