BEGIN:VCALENDAR
VERSION:2.0
PRODID:-//Claremont Center for the Mathematical Sciences - ECPv6.15.17.1//NONSGML v1.0//EN
CALSCALE:GREGORIAN
METHOD:PUBLISH
X-WR-CALNAME:Claremont Center for the Mathematical Sciences
X-ORIGINAL-URL:https://colleges.claremont.edu/ccms
X-WR-CALDESC:Events for Claremont Center for the Mathematical Sciences
REFRESH-INTERVAL;VALUE=DURATION:PT1H
X-Robots-Tag:noindex
X-PUBLISHED-TTL:PT1H
BEGIN:VTIMEZONE
TZID:America/Los_Angeles
BEGIN:DAYLIGHT
TZOFFSETFROM:-0800
TZOFFSETTO:-0700
TZNAME:PDT
DTSTART:20200308T100000
END:DAYLIGHT
BEGIN:STANDARD
TZOFFSETFROM:-0700
TZOFFSETTO:-0800
TZNAME:PST
DTSTART:20201101T090000
END:STANDARD
BEGIN:DAYLIGHT
TZOFFSETFROM:-0800
TZOFFSETTO:-0700
TZNAME:PDT
DTSTART:20210314T100000
END:DAYLIGHT
BEGIN:STANDARD
TZOFFSETFROM:-0700
TZOFFSETTO:-0800
TZNAME:PST
DTSTART:20211107T090000
END:STANDARD
BEGIN:DAYLIGHT
TZOFFSETFROM:-0800
TZOFFSETTO:-0700
TZNAME:PDT
DTSTART:20220313T100000
END:DAYLIGHT
BEGIN:STANDARD
TZOFFSETFROM:-0700
TZOFFSETTO:-0800
TZNAME:PST
DTSTART:20221106T090000
END:STANDARD
END:VTIMEZONE
BEGIN:VEVENT
DTSTART;TZID=America/Los_Angeles:20210915T163000
DTEND;TZID=America/Los_Angeles:20210915T174500
DTSTAMP:20260423T154133
CREATED:20210831T233907Z
LAST-MODIFIED:20210907T223233Z
UID:2274-1631723400-1631727900@colleges.claremont.edu
SUMMARY:Topic Models\, Methods\, and Medicine (Prof. Jamie Haddock)
DESCRIPTION:Title: Topic Models\, Methods\, and Medicine \nSpeaker: Prof. Jamie Haddock (Harvey Mudd College) \nAbstract: There is currently an unprecedented demand for efficient\, quantitative\, and interpretable methods to study large-scale (often multi-modal) data. One key area of interest is that of topic modeling\, which seeks to automatically learn latent trends or topics of complex data sets\, providing practitioners a view of what is “going on” inside their data. This talk will survey several new tools for topic modeling on matrix and tensor data which allow for use of various forms of supervision and which learn hierarchical structure amongst topics.  These tools are of interest across the many fields and industries producing\, capturing\, and analyzing big data\, but are of particular interest in applications where expert supervision is available and often essential (e.g.\, medicine).  We will describe two applications of these methods to medical data; an application to a large-scale patient survey database and an ongoing application to cardiovascular imaging data. \n  \nProf. Jamie Haddock is an Assistant Professor in the Mathematics Department at Harvey Mudd College
URL:https://colleges.claremont.edu/ccms/event/jamie-haddock-harvey-mudd-college/
LOCATION:Zoom meeting\, United States
CATEGORIES:Colloquium
ORGANIZER;CN="Andrew Bernoff":MAILTO:ajb@hmc.edu
END:VEVENT
END:VCALENDAR