BEGIN:VCALENDAR
VERSION:2.0
PRODID:-//Claremont Center for the Mathematical Sciences - ECPv6.15.17.1//NONSGML v1.0//EN
CALSCALE:GREGORIAN
METHOD:PUBLISH
X-ORIGINAL-URL:https://colleges.claremont.edu/ccms
X-WR-CALDESC:Events for Claremont Center for the Mathematical Sciences
REFRESH-INTERVAL;VALUE=DURATION:PT1H
X-Robots-Tag:noindex
X-PUBLISHED-TTL:PT1H
BEGIN:VTIMEZONE
TZID:America/Los_Angeles
BEGIN:DAYLIGHT
TZOFFSETFROM:-0800
TZOFFSETTO:-0700
TZNAME:PDT
DTSTART:20200308T100000
END:DAYLIGHT
BEGIN:STANDARD
TZOFFSETFROM:-0700
TZOFFSETTO:-0800
TZNAME:PST
DTSTART:20201101T090000
END:STANDARD
BEGIN:DAYLIGHT
TZOFFSETFROM:-0800
TZOFFSETTO:-0700
TZNAME:PDT
DTSTART:20210314T100000
END:DAYLIGHT
BEGIN:STANDARD
TZOFFSETFROM:-0700
TZOFFSETTO:-0800
TZNAME:PST
DTSTART:20211107T090000
END:STANDARD
BEGIN:DAYLIGHT
TZOFFSETFROM:-0800
TZOFFSETTO:-0700
TZNAME:PDT
DTSTART:20220313T100000
END:DAYLIGHT
BEGIN:STANDARD
TZOFFSETFROM:-0700
TZOFFSETTO:-0800
TZNAME:PST
DTSTART:20221106T090000
END:STANDARD
END:VTIMEZONE
BEGIN:VEVENT
DTSTART;TZID=America/Los_Angeles:20210922T163000
DTEND;TZID=America/Los_Angeles:20210922T174500
DTSTAMP:20260424T124701
CREATED:20210817T140933Z
LAST-MODIFIED:20210817T141610Z
UID:2198-1632328200-1632332700@colleges.claremont.edu
SUMMARY:Quantitative Approaches to Social Justice (Prof. Chad Topaz)
DESCRIPTION:Title: Quantitative Approaches to Social Justice \nProf. Chad Topaz (he/him/his)\nCo-Founder and Executive Director of Research\, QSIDE Institute\nProfessor of Mathematics\, Williams College \nAbstract: Civil rights leader\, educator\, and investigative journalist Ida B. Wells said that “the way to right wrongs is to shine the light of truth upon them.” This talk will demonstrate how quantitative and computational approaches can shine a light on social injustices and help build solutions to remedy them. We will present quantitative social justice projects on topics ranging from diversity in art museums to equity in criminal sentencing to affirmative action\, health care access\, and other fields. The tools engaged include crowdsourcing\, data cleaning\, clustering\, hypothesis testing\, statistical modeling\, Markov chains\, data visualization\, and much more. I hope that this talk leaves you informed about the breadth of social justice applications that one can tackle using mathematical and data science tools in careful collaboration with other scholars and activists. \nProf. Chad Topaz (he/him/his) is the co-Founder and Executive Director of Research at the QSIDE Institute which promote the quantitative study of inclusion\, diversity\, and equity. He is also a Professor of Mathematics\, Williams College. \nThis colloquium will be virtual and a Zoom link will be distributed via the CCMS Email list.
URL:https://colleges.claremont.edu/ccms/event/prof-chad-topaz/
LOCATION:Zoom meeting\, United States
CATEGORIES:Colloquium
ORGANIZER;CN="Andrew Bernoff":MAILTO:ajb@hmc.edu
END:VEVENT
END:VCALENDAR