BEGIN:VCALENDAR
VERSION:2.0
PRODID:-//Claremont Center for the Mathematical Sciences - ECPv6.15.17.1//NONSGML v1.0//EN
CALSCALE:GREGORIAN
METHOD:PUBLISH
X-WR-CALNAME:Claremont Center for the Mathematical Sciences
X-ORIGINAL-URL:https://colleges.claremont.edu/ccms
X-WR-CALDESC:Events for Claremont Center for the Mathematical Sciences
REFRESH-INTERVAL;VALUE=DURATION:PT1H
X-Robots-Tag:noindex
X-PUBLISHED-TTL:PT1H
BEGIN:VTIMEZONE
TZID:America/Los_Angeles
BEGIN:DAYLIGHT
TZOFFSETFROM:-0800
TZOFFSETTO:-0700
TZNAME:PDT
DTSTART:20200308T100000
END:DAYLIGHT
BEGIN:STANDARD
TZOFFSETFROM:-0700
TZOFFSETTO:-0800
TZNAME:PST
DTSTART:20201101T090000
END:STANDARD
BEGIN:DAYLIGHT
TZOFFSETFROM:-0800
TZOFFSETTO:-0700
TZNAME:PDT
DTSTART:20210314T100000
END:DAYLIGHT
BEGIN:STANDARD
TZOFFSETFROM:-0700
TZOFFSETTO:-0800
TZNAME:PST
DTSTART:20211107T090000
END:STANDARD
BEGIN:DAYLIGHT
TZOFFSETFROM:-0800
TZOFFSETTO:-0700
TZNAME:PDT
DTSTART:20220313T100000
END:DAYLIGHT
BEGIN:STANDARD
TZOFFSETFROM:-0700
TZOFFSETTO:-0800
TZNAME:PST
DTSTART:20221106T090000
END:STANDARD
END:VTIMEZONE
BEGIN:VEVENT
DTSTART;TZID=America/Los_Angeles:20210929T163000
DTEND;TZID=America/Los_Angeles:20210929T174500
DTSTAMP:20260420T074749
CREATED:20210831T234248Z
LAST-MODIFIED:20210921T160751Z
UID:2277-1632933000-1632937500@colleges.claremont.edu
SUMMARY:Virtual Trivalent Spatial Graphs . . . (Sherilyn Tamagawa)
DESCRIPTION:Title: Virtual Trivalent Spatial Graphs and Virtual Niebrzydowski Algebras \nSpeaker: Prof. Sherilyn Tamagawa\nVisiting Assistant Professor Pomona College \nAbstract: If you were given two tangled up circles of string\, could you untangle one to look like the other without cutting and reattaching the string? How could you tell? Knot theory explores answers to these questions. In this talk\, we discuss a generalization of a knot\, called a virtual trivalent spatial graph. We will then introduce virtual Niebrzydowski algebras\, algebraic structures which can be used to distinguish some of them. \nThis work is joint with Nancy Scherich (ICERM). \n  \nSheri Tamagawa completed her BA in Mathematics at Scripps College. After completing her PhD at the University of California\, Santa Barbara\, she spent two years teaching at Davidson College. She is currently a Visiting Assistant Professor of Mathematics at Pomona College. She is also one of the current organizers of USTARS (Underrepresented Students in Topology and Algebra Research Symposium).
URL:https://colleges.claremont.edu/ccms/event/sherilyn-tamagawa-pomona-college/
LOCATION:CA
CATEGORIES:Colloquium
END:VEVENT
END:VCALENDAR