BEGIN:VCALENDAR
VERSION:2.0
PRODID:-//Claremont Center for the Mathematical Sciences - ECPv6.15.17.1//NONSGML v1.0//EN
CALSCALE:GREGORIAN
METHOD:PUBLISH
X-WR-CALNAME:Claremont Center for the Mathematical Sciences
X-ORIGINAL-URL:https://colleges.claremont.edu/ccms
X-WR-CALDESC:Events for Claremont Center for the Mathematical Sciences
REFRESH-INTERVAL;VALUE=DURATION:PT1H
X-Robots-Tag:noindex
X-PUBLISHED-TTL:PT1H
BEGIN:VTIMEZONE
TZID:America/Los_Angeles
BEGIN:DAYLIGHT
TZOFFSETFROM:-0800
TZOFFSETTO:-0700
TZNAME:PDT
DTSTART:20200308T100000
END:DAYLIGHT
BEGIN:STANDARD
TZOFFSETFROM:-0700
TZOFFSETTO:-0800
TZNAME:PST
DTSTART:20201101T090000
END:STANDARD
BEGIN:DAYLIGHT
TZOFFSETFROM:-0800
TZOFFSETTO:-0700
TZNAME:PDT
DTSTART:20210314T100000
END:DAYLIGHT
BEGIN:STANDARD
TZOFFSETFROM:-0700
TZOFFSETTO:-0800
TZNAME:PST
DTSTART:20211107T090000
END:STANDARD
BEGIN:DAYLIGHT
TZOFFSETFROM:-0800
TZOFFSETTO:-0700
TZNAME:PDT
DTSTART:20220313T100000
END:DAYLIGHT
BEGIN:STANDARD
TZOFFSETFROM:-0700
TZOFFSETTO:-0800
TZNAME:PST
DTSTART:20221106T090000
END:STANDARD
END:VTIMEZONE
BEGIN:VEVENT
DTSTART;TZID=America/Los_Angeles:20211117T163000
DTEND;TZID=America/Los_Angeles:20211117T174500
DTSTAMP:20260423T171016
CREATED:20211103T151322Z
LAST-MODIFIED:20211109T213529Z
UID:2457-1637166600-1637171100@colleges.claremont.edu
SUMMARY:Collective Behavior in Locust Swarms from Data to Differential Equations (Prof. Jasper Weinburd)
DESCRIPTION:Title: Collective Behavior in Locust Swarms from Data to Differential Equations\n  \nProf. Jasper Weinburd\nDepartment of Mathematics\nHarvey Mudd College\n\n  \n\nAbstract: Locusts are devastating pests that infest and destroy crops. Locusts forage and migrate in large swarms which exhibit distinctive shapes that improve efficiency on the group level\, a phenomenon known as collective behavior. One of the difficulties in understanding and preventing these collective behaviors has been a lack of biological data for individual interactions between locusts.  In this talk\, I’ll first describe mathematical models for these phenomena on both the collective and individual levels. I’ll then discuss a collaboration with students at Harvey Mudd College using field data derived from video footage of locust swarms. We digitized nearly 20\,000 locust trajectories and revealed individual behaviors that depend on a locust’s motion and the relative position of its nearby neighbors. Finally\, I will illustrate the challenges and potential benefits of incorporating these field observations into our models of locust swarms.\n\n\n\n\n\nProf. Jasper Weinburd is an NSF Postdoctoral Fellow at Harvey Mudd College. He received his PhD from the University of Minnesota. In his research he uses dynamical systems\, differential equations\, and data science to model natural phenomena of self-organization. He loves hiking in the San Gabriel Mountains with his dog\, but he still hasn’t climbed Mt. Baldy.
URL:https://colleges.claremont.edu/ccms/event/collective-behavior-in-locust-swarms-using-agent-based-and-continuous-models-prof-jasper-weinburd/
LOCATION:Zoom
CATEGORIES:Colloquium
ORGANIZER;CN="Andrew Bernoff":MAILTO:ajb@hmc.edu
END:VEVENT
END:VCALENDAR