BEGIN:VCALENDAR
VERSION:2.0
PRODID:-//Claremont Center for the Mathematical Sciences - ECPv6.15.17.1//NONSGML v1.0//EN
CALSCALE:GREGORIAN
METHOD:PUBLISH
X-WR-CALNAME:Claremont Center for the Mathematical Sciences
X-ORIGINAL-URL:https://colleges.claremont.edu/ccms
X-WR-CALDESC:Events for Claremont Center for the Mathematical Sciences
REFRESH-INTERVAL;VALUE=DURATION:PT1H
X-Robots-Tag:noindex
X-PUBLISHED-TTL:PT1H
BEGIN:VTIMEZONE
TZID:America/Los_Angeles
BEGIN:DAYLIGHT
TZOFFSETFROM:-0800
TZOFFSETTO:-0700
TZNAME:PDT
DTSTART:20210314T100000
END:DAYLIGHT
BEGIN:STANDARD
TZOFFSETFROM:-0700
TZOFFSETTO:-0800
TZNAME:PST
DTSTART:20211107T090000
END:STANDARD
BEGIN:DAYLIGHT
TZOFFSETFROM:-0800
TZOFFSETTO:-0700
TZNAME:PDT
DTSTART:20220313T100000
END:DAYLIGHT
BEGIN:STANDARD
TZOFFSETFROM:-0700
TZOFFSETTO:-0800
TZNAME:PST
DTSTART:20221106T090000
END:STANDARD
BEGIN:DAYLIGHT
TZOFFSETFROM:-0800
TZOFFSETTO:-0700
TZNAME:PDT
DTSTART:20230312T100000
END:DAYLIGHT
BEGIN:STANDARD
TZOFFSETFROM:-0700
TZOFFSETTO:-0800
TZNAME:PST
DTSTART:20231105T090000
END:STANDARD
END:VTIMEZONE
BEGIN:VEVENT
DTSTART;TZID=America/Los_Angeles:20221109T161500
DTEND;TZID=America/Los_Angeles:20221109T173000
DTSTAMP:20260425T123133
CREATED:20220830T231225Z
LAST-MODIFIED:20221025T193152Z
UID:2807-1668010500-1668015000@colleges.claremont.edu
SUMMARY:Prof. Edouard Oudet
DESCRIPTION:Title: Shape Optimization: Old and New \nSpeaker: Edouard Oudet\,  LJK\, Université Grenoble Alpes \nAbstract: We first introduce what is shape Optimization and the most classical problems of the field like the isoperimetric problem\, the study of minimal surfaces\, the characterization of irrigation networks\, etc. In a second step we focus on a more recent question related to Lebesgue-Santalo diagrams.  We show how tools from discrete geometry contributed to approximate in a very precise and efficient way these diagrams. \n\n\n\n\n\nEdouard Oudet is Professor of Applied Mathematics at University Grenoble Alpes and a member of Laboratoire Jean Kuntzmann  since 2010. His research interests include calculus of variation\, shape optimization\, optimal transportation and spectral theory. He has supervised or co-supervised 8 PhD theses and has written 50 articles in peer-reviewed international journals (ARMA\, Numerische Mathematik\, SIMA\, SICON\, JMIV\, . . . ). Since October 2022 he is a senior member of the IUF “Institut Universitaire de France”.
URL:https://colleges.claremont.edu/ccms/event/edouard-oudet/
LOCATION:Humanities Auditorium\, Scripps College\, and Zoom\, Claremont\, CA\, 91711\, United States
CATEGORIES:Colloquium
GEO:34.1035221214;-117.709766675
END:VEVENT
END:VCALENDAR