BEGIN:VCALENDAR
VERSION:2.0
PRODID:-//Claremont Center for the Mathematical Sciences - ECPv6.15.17.1//NONSGML v1.0//EN
CALSCALE:GREGORIAN
METHOD:PUBLISH
X-ORIGINAL-URL:https://colleges.claremont.edu/ccms
X-WR-CALDESC:Events for Claremont Center for the Mathematical Sciences
REFRESH-INTERVAL;VALUE=DURATION:PT1H
X-Robots-Tag:noindex
X-PUBLISHED-TTL:PT1H
BEGIN:VTIMEZONE
TZID:America/Los_Angeles
BEGIN:DAYLIGHT
TZOFFSETFROM:-0800
TZOFFSETTO:-0700
TZNAME:PDT
DTSTART:20210314T100000
END:DAYLIGHT
BEGIN:STANDARD
TZOFFSETFROM:-0700
TZOFFSETTO:-0800
TZNAME:PST
DTSTART:20211107T090000
END:STANDARD
BEGIN:DAYLIGHT
TZOFFSETFROM:-0800
TZOFFSETTO:-0700
TZNAME:PDT
DTSTART:20220313T100000
END:DAYLIGHT
BEGIN:STANDARD
TZOFFSETFROM:-0700
TZOFFSETTO:-0800
TZNAME:PST
DTSTART:20221106T090000
END:STANDARD
BEGIN:DAYLIGHT
TZOFFSETFROM:-0800
TZOFFSETTO:-0700
TZNAME:PDT
DTSTART:20230312T100000
END:DAYLIGHT
BEGIN:STANDARD
TZOFFSETFROM:-0700
TZOFFSETTO:-0800
TZNAME:PST
DTSTART:20231105T090000
END:STANDARD
END:VTIMEZONE
BEGIN:VEVENT
DTSTART;TZID=America/Los_Angeles:20221116T161500
DTEND;TZID=America/Los_Angeles:20221116T173000
DTSTAMP:20260419T175205
CREATED:20220830T231344Z
LAST-MODIFIED:20221104T225945Z
UID:2808-1668615300-1668619800@colleges.claremont.edu
SUMMARY:Prof. Kate Petersen
DESCRIPTION:Title: Decision Problems in Low-Dimensional Topology \nSpeaker: Kate Petersen\, Department of Mathematics and Statistics\, CSU\, University of Minnesota Duluth \nAbstract: Due to Perelman’s proof of the Geometrization conjecture every closed 3-manifold can be decomposed into geometric pieces. These pieces exhibit one of Thurston’s eight model geometries.  This gives rise to the natural question: Given a 3-manifold how (quickly) can you determine its geometry?  We will discuss this question\, including some recent advances.  This is joint work with Neil Hoffman. \n\n\n\n\n\n\n\n\nMy research interests are in number theory and topology. After completing my undergraduate degree at Oberlin College\, I earned my PhD in 2005 at the University of Texas at Austin under the direction of Alan Reid.  My PhD work was in arithmetic groups\, which bridge number theory and topology.  Following my PhD I had a postdoc at Queen’s University in Kingston Ontario where I worked in number theory with Ram Murty.  I spent a semester visiting the Fields Institute before joining Florida State as a tenure-track Assistant Professor.  I earned tenure there in 2015.  In 2021 I joined the faculty of University of Minnesota Duluth where I am now the head of the Mathematics and Statistics Department.
URL:https://colleges.claremont.edu/ccms/event/kate-petersen/
LOCATION:Humanities Auditorium\, Scripps College\, and Zoom\, Claremont\, CA\, 91711\, United States
CATEGORIES:Colloquium
GEO:34.1035221214;-117.709766675
END:VEVENT
END:VCALENDAR