BEGIN:VCALENDAR
VERSION:2.0
PRODID:-//Claremont Center for the Mathematical Sciences - ECPv6.15.17.1//NONSGML v1.0//EN
CALSCALE:GREGORIAN
METHOD:PUBLISH
X-WR-CALNAME:Claremont Center for the Mathematical Sciences
X-ORIGINAL-URL:https://colleges.claremont.edu/ccms
X-WR-CALDESC:Events for Claremont Center for the Mathematical Sciences
REFRESH-INTERVAL;VALUE=DURATION:PT1H
X-Robots-Tag:noindex
X-PUBLISHED-TTL:PT1H
BEGIN:VTIMEZONE
TZID:America/Los_Angeles
BEGIN:DAYLIGHT
TZOFFSETFROM:-0800
TZOFFSETTO:-0700
TZNAME:PDT
DTSTART:20230312T100000
END:DAYLIGHT
BEGIN:STANDARD
TZOFFSETFROM:-0700
TZOFFSETTO:-0800
TZNAME:PST
DTSTART:20231105T090000
END:STANDARD
BEGIN:DAYLIGHT
TZOFFSETFROM:-0800
TZOFFSETTO:-0700
TZNAME:PDT
DTSTART:20240310T100000
END:DAYLIGHT
BEGIN:STANDARD
TZOFFSETFROM:-0700
TZOFFSETTO:-0800
TZNAME:PST
DTSTART:20241103T090000
END:STANDARD
BEGIN:DAYLIGHT
TZOFFSETFROM:-0800
TZOFFSETTO:-0700
TZNAME:PDT
DTSTART:20250309T100000
END:DAYLIGHT
BEGIN:STANDARD
TZOFFSETFROM:-0700
TZOFFSETTO:-0800
TZNAME:PST
DTSTART:20251102T090000
END:STANDARD
END:VTIMEZONE
BEGIN:VEVENT
DTSTART;TZID=America/Los_Angeles:20240403T161500
DTEND;TZID=America/Los_Angeles:20240403T173000
DTSTAMP:20260422T175428
CREATED:20240329T203409Z
LAST-MODIFIED:20240403T231510Z
UID:3424-1712160900-1712165400@colleges.claremont.edu
SUMMARY:CCMS Colloquium Presents the Fall 2024 Course Preview Session
DESCRIPTION:For the next CCMS Colloquium on April 3rd Wednesday\, we invite all \nMATH faculty\, and students intending to enroll in upper division math courses \nto attend the \nFall 2024 Course Preview Session \nof all the upper division math courses offered across the consortium in Fall 2024. \nFaculty\, \nWe strongly encourage you to attend so that students can interact with you\, as this will make the registration process much easier\, with less class switching in the Fall. \nStudents\, \nThis session is particularly important for you to get to know all the upper division course options in mathematics before registration and ask your questions to faculty in person! \nTo access the slides click HERE!
URL:https://colleges.claremont.edu/ccms/event/ccms-colloquium-presents-the-fall-2024-course-fair/
LOCATION:Argue Auditorium\, Pomona College\, 610 N. College Ave.\, Claremont\, CA\, 91711\, United States
CATEGORIES:Colloquium
ORGANIZER;CN="Bahar Acu":MAILTO:Bahar_Acu@pitzer.edu
GEO:34.0999157;-117.7142668
X-APPLE-STRUCTURED-LOCATION;VALUE=URI;X-ADDRESS=Argue Auditorium Pomona College 610 N. College Ave. Claremont CA 91711 United States;X-APPLE-RADIUS=500;X-TITLE=610 N. College Ave.:geo:-117.7142668,34.0999157
END:VEVENT
END:VCALENDAR