BEGIN:VCALENDAR
VERSION:2.0
PRODID:-//Claremont Center for the Mathematical Sciences - ECPv6.15.17.1//NONSGML v1.0//EN
CALSCALE:GREGORIAN
METHOD:PUBLISH
X-WR-CALNAME:Claremont Center for the Mathematical Sciences
X-ORIGINAL-URL:https://colleges.claremont.edu/ccms
X-WR-CALDESC:Events for Claremont Center for the Mathematical Sciences
REFRESH-INTERVAL;VALUE=DURATION:PT1H
X-Robots-Tag:noindex
X-PUBLISHED-TTL:PT1H
BEGIN:VTIMEZONE
TZID:America/Los_Angeles
BEGIN:DAYLIGHT
TZOFFSETFROM:-0800
TZOFFSETTO:-0700
TZNAME:PDT
DTSTART:20230312T100000
END:DAYLIGHT
BEGIN:STANDARD
TZOFFSETFROM:-0700
TZOFFSETTO:-0800
TZNAME:PST
DTSTART:20231105T090000
END:STANDARD
BEGIN:DAYLIGHT
TZOFFSETFROM:-0800
TZOFFSETTO:-0700
TZNAME:PDT
DTSTART:20240310T100000
END:DAYLIGHT
BEGIN:STANDARD
TZOFFSETFROM:-0700
TZOFFSETTO:-0800
TZNAME:PST
DTSTART:20241103T090000
END:STANDARD
BEGIN:DAYLIGHT
TZOFFSETFROM:-0800
TZOFFSETTO:-0700
TZNAME:PDT
DTSTART:20250309T100000
END:DAYLIGHT
BEGIN:STANDARD
TZOFFSETFROM:-0700
TZOFFSETTO:-0800
TZNAME:PST
DTSTART:20251102T090000
END:STANDARD
END:VTIMEZONE
BEGIN:VEVENT
DTSTART;TZID=America/Los_Angeles:20240417T161500
DTEND;TZID=America/Los_Angeles:20240417T173000
DTSTAMP:20260423T223049
CREATED:20240412T211923Z
LAST-MODIFIED:20240412T211923Z
UID:3436-1713370500-1713375000@colleges.claremont.edu
SUMMARY:Structural Ramsey Theory and Logic (Lynn Scow\, CSUSB)
DESCRIPTION:Title: Structural Ramsey Theory and Logic \nSpeaker: Lynn Scow\, Professor of Mathematics\, California State University\, San Bernardino \nAbstract: The connection between Ramsey theory and logic goes back to Frank P. Ramsey’s 1929 paper in which he announced his famous Ramsey theorem for finite sequences.  This theorem states that for any partition of all sequences of length $k$ from $\mathbb{N}$ into finitely many pieces\, there is an infinite subset $X \subset \mathbb{N}$ such that all sequences of length $k$ from $X$ lie in one piece of this partition.  In the intervening years\, Ramsey theory has been used to study problems in logic\, and vice versa.  In this talk\, I will survey some results from the last few decades\, as well as highlight some results obtained with my coauthor Dana Bartošová at University of Florida. \n\n\n\n\n\nLynn Scow studied mathematics and philosophy at UC Berkeley as an undergraduate and continued on to earn her Ph.D. in mathematics from UC Berkeley.  She then held a postdoctoral position at University of Illinois Chicago followed by a visiting position at Vassar College\, and is currently faculty at California State University\, San Bernardino.  Her research area is primarily in foundations and mathematical logic\, including applications of structural Ramsey theory to model theory and vice versa.  She treasures mathematics for the conversations\, the shared understandings\, and the joy.
URL:https://colleges.claremont.edu/ccms/event/structural-ramsey-theory-and-logic-lynn-scow-csusb/
LOCATION:Argue Auditorium\, Pomona College\, 610 N. College Ave.\, Claremont\, CA\, 91711\, United States
CATEGORIES:Colloquium
GEO:34.0999157;-117.7142668
X-APPLE-STRUCTURED-LOCATION;VALUE=URI;X-ADDRESS=Argue Auditorium Pomona College 610 N. College Ave. Claremont CA 91711 United States;X-APPLE-RADIUS=500;X-TITLE=610 N. College Ave.:geo:-117.7142668,34.0999157
END:VEVENT
END:VCALENDAR