BEGIN:VCALENDAR
VERSION:2.0
PRODID:-//Claremont Center for the Mathematical Sciences - ECPv6.15.17.1//NONSGML v1.0//EN
CALSCALE:GREGORIAN
METHOD:PUBLISH
X-ORIGINAL-URL:https://colleges.claremont.edu/ccms
X-WR-CALDESC:Events for Claremont Center for the Mathematical Sciences
REFRESH-INTERVAL;VALUE=DURATION:PT1H
X-Robots-Tag:noindex
X-PUBLISHED-TTL:PT1H
BEGIN:VTIMEZONE
TZID:America/Los_Angeles
BEGIN:DAYLIGHT
TZOFFSETFROM:-0800
TZOFFSETTO:-0700
TZNAME:PDT
DTSTART:20170312T100000
END:DAYLIGHT
BEGIN:STANDARD
TZOFFSETFROM:-0700
TZOFFSETTO:-0800
TZNAME:PST
DTSTART:20171105T090000
END:STANDARD
BEGIN:DAYLIGHT
TZOFFSETFROM:-0800
TZOFFSETTO:-0700
TZNAME:PDT
DTSTART:20180311T100000
END:DAYLIGHT
BEGIN:STANDARD
TZOFFSETFROM:-0700
TZOFFSETTO:-0800
TZNAME:PST
DTSTART:20181104T090000
END:STANDARD
BEGIN:DAYLIGHT
TZOFFSETFROM:-0800
TZOFFSETTO:-0700
TZNAME:PDT
DTSTART:20190310T100000
END:DAYLIGHT
BEGIN:STANDARD
TZOFFSETFROM:-0700
TZOFFSETTO:-0800
TZNAME:PST
DTSTART:20191103T090000
END:STANDARD
BEGIN:DAYLIGHT
TZOFFSETFROM:-0800
TZOFFSETTO:-0700
TZNAME:PDT
DTSTART:20200308T100000
END:DAYLIGHT
BEGIN:STANDARD
TZOFFSETFROM:-0700
TZOFFSETTO:-0800
TZNAME:PST
DTSTART:20201101T090000
END:STANDARD
END:VTIMEZONE
BEGIN:VEVENT
DTSTART;TZID=America/Los_Angeles:20190911T161500
DTEND;TZID=America/Los_Angeles:20190911T171500
DTSTAMP:20260421T200911
CREATED:20190826T222708Z
LAST-MODIFIED:20190910T210346Z
UID:1383-1568218500-1568222100@colleges.claremont.edu
SUMMARY:Poster Session Fall 2019
DESCRIPTION:CLAREMONT CENTER for MATHEMATICAL SCIENCES\nFall 2019 Poster Session \nClick here for poster abstracts.
URL:https://colleges.claremont.edu/ccms/event/poster-session-fall-2019/
LOCATION:Argue Auditorium\, Pomona College\, 610 N. College Ave.\, Claremont\, CA\, 91711\, United States
CATEGORIES:Colloquium,Special Event
ORGANIZER;CN="Blerta Shtylla":MAILTO:shtyllab@pomona.edu
GEO:34.0999157;-117.7142668
X-APPLE-STRUCTURED-LOCATION;VALUE=URI;X-ADDRESS=Argue Auditorium Pomona College 610 N. College Ave. Claremont CA 91711 United States;X-APPLE-RADIUS=500;X-TITLE=610 N. College Ave.:geo:-117.7142668,34.0999157
END:VEVENT
BEGIN:VEVENT
DTSTART;TZID=America/Los_Angeles:20190222T160000
DTEND;TZID=America/Los_Angeles:20190222T173000
DTSTAMP:20260421T200911
CREATED:20190219T055204Z
LAST-MODIFIED:20190513T052208Z
UID:1221-1550851200-1550856600@colleges.claremont.edu
SUMMARY:Uniform Convergence: A One-Woman Play
DESCRIPTION:Uniform Convergence is a one-woman play\, written and performed by mathematics graduate student Corrine Yap. It juxtaposes the stories of two women trying to find their place in a white male-dominated academic world. The first is of historical Russian mathematician Sofia Kovalevskaya\, who was lauded as a pioneer for women in science but only after years of struggle for recognition. Her life’s journey is told through music and movement\, in both Russian and English. The second is of a fictional Asian-American woman\, known only as “Professor”\, trying to cope with the prejudice she faces in the present. As she teaches an introductory real analysis class\, she uses mathematical concepts to draw parallels to the race and gender conflicts she encounters in society today. \nSee https://www.corrineyap.com/uniformconvergence/ for more information about the play.
URL:https://colleges.claremont.edu/ccms/event/uniform-convergence-a-one-woman-play/
LOCATION:Millikan 1051\, Pomona College\, 610 N. College Ave.\, Claremont\, CA\, 91711\, United States
CATEGORIES:Special Event
END:VEVENT
BEGIN:VEVENT
DTSTART;TZID=America/Los_Angeles:20190123T161500
DTEND;TZID=America/Los_Angeles:20190123T171500
DTSTAMP:20260421T200911
CREATED:20190115T082247Z
LAST-MODIFIED:20200114T161552Z
UID:1096-1548260100-1548263700@colleges.claremont.edu
SUMMARY:CCMS Field Committee Meeting
DESCRIPTION:The Field Committee Meeting is our chance to socialize with our colleagues and coordinate our course offerings for the coming academic year (2019-2020).\n\nPlease come to discuss course offerings and other synergistic items.\n\nRefreshments at 4:00\, meeting at 4:15.
URL:https://colleges.claremont.edu/ccms/event/ccms-field-committee-meeting/
LOCATION:Shanahan B460\, Harvey Mudd College\, 301 Platt Blvd.\, Claremont\, CA\, 91711\, United States
CATEGORIES:Colloquium,Special Event
ORGANIZER;CN="Andrew Bernoff":MAILTO:ajb@hmc.edu
END:VEVENT
BEGIN:VEVENT
DTSTART;TZID=America/Los_Angeles:20180927T131500
DTEND;TZID=America/Los_Angeles:20180927T141500
DTSTAMP:20260421T200911
CREATED:20180925T052200Z
LAST-MODIFIED:20180926T052538Z
UID:619-1538054100-1538057700@colleges.claremont.edu
SUMMARY:Reaction-Diffusion Equations under Perturbations of the Domain (Professor Jose Arrieta\, Universidad Complutense de Madrid\, Spain)
DESCRIPTION:We analyze the behavior of the asymptotic dynamics of dissipative reaction-diffusion equations with Neumann boundary conditions when the domain where the equation is posed undergoes certain perturbation. We will focus on the behavior of the stationary solutions\, their local unstable manifolds and the attractors. \nWe will consider “regular” perturbations of the domain\, that is\, perturbations for which the spectra of the Laplace operator behaves continuously. In this case\, it turns out that if all the equilibria of the unperturbed system are nondegenerate (hyperbolic)\, then both the equilibria and their local unstable manifolds behave continuously under the perturbation. Exploiting the gradient properties of the flow we will show that the “attractors” also behave continuously. \nWe may also consider some “non-regular” perturbations of the domain. In this situation\, the problem needs to be studied and the technique adapted for each particular case. An interesting example of non regular perturbations is the “dumbbell domain” which consists in two domains joined by a very thin channel which degenerates to a line segment. We will describe the results obtained for this perturbation.
URL:https://colleges.claremont.edu/ccms/event/reaction-diffusion-equations-under-perturbations-of-the-domain/
LOCATION:Shanahan 3465\, Harvey Mudd College\, 301 Platt Blvd.\, Claremont\, CA\, 91711\, United States
CATEGORIES:Special Event
ORGANIZER;CN="Alfonso Castro":MAILTO:castro@g.hmc.edu
END:VEVENT
BEGIN:VEVENT
DTSTART;TZID=America/Los_Angeles:20180919T161500
DTEND;TZID=America/Los_Angeles:20180919T171500
DTSTAMP:20260421T200911
CREATED:20180917T212805Z
LAST-MODIFIED:20190910T210038Z
UID:557-1537373700-1537377300@colleges.claremont.edu
SUMMARY:Fall 2018 Poster Session
DESCRIPTION:CLAREMONT CENTER for MATHEMATICAL SCIENCES\nFall 2018 Poster Session \nClick here for poster abstracts. \nComputing Eigenmodes of the Laplace-Beltrami Operator by Using Radial Basis Functions\nby Vladimir Delengov\, Chiu-Yen Kao\nClaremont Graduate University \nCovariance-based Dissimilarity Measures Applied to Clustering Wide-sense Stationary Ergodic Processes\nby Nan Rao\, Qidi Peng\, Ran Zhao\nClaremont Graduate University \nGeneralized Covariation of Symmetric -stable Distributions\nby Yujia Ding\, Qidi Peng\nClaremont Graduate University \nLearning to Fail: Predicting Fracture Evolution in Brittle Materials using Recurrent Graph Convolutional Neural Networks\nby Yadong Ruan\, Zhengming Song\, Max Schwarzer\, Bryce Rogan\, Diana Lee\, Allon G. Percus\, Viet T. Chau\, Gowri Srinivasan\, Hari Viswanathan\, Bryan Moore\nClaremont Graduate University \nTribracket Modules\nby Yingqi Shi\, Deanna Needell\, Sam Nelson\, Yingqi Shi\nClaremont Mckenna College \nEquiangular Tight Frames and Corresponding Lattices\nby Jessie Xin\, Lenny Fukshansky\nClaremont Mckenna College \nQuandle Coloring Quivers\nby Karina Cho\, Sam Nelson\nHarvey Mudd College \nEffective Bounds for Traces of Maass-Poincar Series\nby Havi Ellers\nHarvey Mudd College \nPersonal Beliefs and Election Forecasts\nby Harry Bendekgey\nPomona College \nHemoglobin Response to Higher Order Gene Interactions\nby Sylvia Akueze Nwakanma\, Lillian Gonzales\, Rosa Garza\nPomona College \nExploring Cell Differentiation Trajectories through Data Reduction\nby Gianna Wu\, Michelle Li\nPomona College
URL:https://colleges.claremont.edu/ccms/event/fall-2018-poster-session/
LOCATION:Argue Auditorium\, Pomona College\, 610 N. College Ave.\, Claremont\, CA\, 91711\, United States
CATEGORIES:Colloquium,Special Event
ORGANIZER;CN="Ali Nadim":MAILTO:ali.nadim@cgu.edu
GEO:34.0999157;-117.7142668
X-APPLE-STRUCTURED-LOCATION;VALUE=URI;X-ADDRESS=Argue Auditorium Pomona College 610 N. College Ave. Claremont CA 91711 United States;X-APPLE-RADIUS=500;X-TITLE=610 N. College Ave.:geo:-117.7142668,34.0999157
END:VEVENT
END:VCALENDAR