BEGIN:VCALENDAR
VERSION:2.0
PRODID:-//Claremont Center for the Mathematical Sciences - ECPv6.15.17.1//NONSGML v1.0//EN
CALSCALE:GREGORIAN
METHOD:PUBLISH
X-ORIGINAL-URL:https://colleges.claremont.edu/ccms
X-WR-CALDESC:Events for Claremont Center for the Mathematical Sciences
REFRESH-INTERVAL;VALUE=DURATION:PT1H
X-Robots-Tag:noindex
X-PUBLISHED-TTL:PT1H
BEGIN:VTIMEZONE
TZID:America/Los_Angeles
BEGIN:DAYLIGHT
TZOFFSETFROM:-0800
TZOFFSETTO:-0700
TZNAME:PDT
DTSTART:20230312T100000
END:DAYLIGHT
BEGIN:STANDARD
TZOFFSETFROM:-0700
TZOFFSETTO:-0800
TZNAME:PST
DTSTART:20231105T090000
END:STANDARD
BEGIN:DAYLIGHT
TZOFFSETFROM:-0800
TZOFFSETTO:-0700
TZNAME:PDT
DTSTART:20240310T100000
END:DAYLIGHT
BEGIN:STANDARD
TZOFFSETFROM:-0700
TZOFFSETTO:-0800
TZNAME:PST
DTSTART:20241103T090000
END:STANDARD
BEGIN:DAYLIGHT
TZOFFSETFROM:-0800
TZOFFSETTO:-0700
TZNAME:PDT
DTSTART:20250309T100000
END:DAYLIGHT
BEGIN:STANDARD
TZOFFSETFROM:-0700
TZOFFSETTO:-0800
TZNAME:PST
DTSTART:20251102T090000
END:STANDARD
END:VTIMEZONE
BEGIN:VEVENT
DTSTART;TZID=America/Los_Angeles:20240213T150000
DTEND;TZID=America/Los_Angeles:20240213T160000
DTSTAMP:20260421T114005
CREATED:20240124T181020Z
LAST-MODIFIED:20240129T194110Z
UID:3347-1707836400-1707840000@colleges.claremont.edu
SUMMARY:Claremont Topology Seminar: Luya Wang (Stanford)
DESCRIPTION:We welcome all undergraduates and graduate students to attend topology seminar! \nSpeaker: Luya Wang (Stanford) \nTitle: Deformation inequivalent symplectic structures and Donaldson’s four-six question \nAbstract: Studying symplectic structures up to deformation equivalences is a fundamental question in symplectic geometry. Donaldson asked: given two homeomorphic closed symplectic four-manifolds\, are they diffeomorphic if and only if their stabilized symplectic six-manifolds\, obtained by taking products with CP^1 with the standard symplectic form\, are deformation equivalent? I will discuss joint work with Amanda Hirschi on showing how deformation inequivalent symplectic forms remain deformation inequivalent when stabilized\, under certain algebraic conditions. This gives the first counterexamples to one direction of Donaldson’s “four-six” question and the related Stabilizing Conjecture by Ruan.
URL:https://colleges.claremont.edu/ccms/event/claremont-topology-seminar-luya-wang-stanford/
LOCATION:Estella 2099
CATEGORIES:Topology Seminar
ORGANIZER;CN="Bahar Acu":MAILTO:Bahar_Acu@pitzer.edu
END:VEVENT
BEGIN:VEVENT
DTSTART;TZID=America/Los_Angeles:20240220T150000
DTEND;TZID=America/Los_Angeles:20240220T160000
DTSTAMP:20260421T114005
CREATED:20240128T225522Z
LAST-MODIFIED:20240210T020345Z
UID:3356-1708441200-1708444800@colleges.claremont.edu
SUMMARY:Claremont Topology Seminar: Puttipong Pongtanapaisan (Arizona State university)
DESCRIPTION:We welcome all undergraduates and graduate students to attend topology seminar! \nSpeaker: Puttipong Pongtanapaisan (Arizona State University) \nTitle: Building Knotted Objects Efficiently \nAbstract: Knotted objects can be constructed by gluing together standard pieces called handles. Understanding the minimum number of handles required for construction and their sequential attachment provides valuable insights into the complexity of entanglement. Certain knots require specific types of handles to be attached first\, preventing them from fitting into small lattice tubes. This is particularly relevant as polymers in confinement are modeled as knots within lattice tubes. In this talk\, I will discuss methods for studying these handles and their attachment order using coloring games applied to link diagrams.
URL:https://colleges.claremont.edu/ccms/event/claremont-topology-seminar-puttipong-pongtanapaisan-arizona-state-university/
LOCATION:Estella 2099
CATEGORIES:Topology Seminar
ORGANIZER;CN="Bahar Acu":MAILTO:Bahar_Acu@pitzer.edu
END:VEVENT
BEGIN:VEVENT
DTSTART;TZID=America/Los_Angeles:20240227T150000
DTEND;TZID=America/Los_Angeles:20240227T160000
DTSTAMP:20260421T114005
CREATED:20240128T225822Z
LAST-MODIFIED:20240224T002645Z
UID:3361-1709046000-1709049600@colleges.claremont.edu
SUMMARY:Claremont Topology Seminar: No Seminar
DESCRIPTION:No Seminar
URL:https://colleges.claremont.edu/ccms/event/claremont-topology-seminar-orsola-capovilla-searle-uc-davis/
LOCATION:Estella 2099
CATEGORIES:Topology Seminar
ORGANIZER;CN="Bahar Acu":MAILTO:Bahar_Acu@pitzer.edu
END:VEVENT
END:VCALENDAR