BEGIN:VCALENDAR
VERSION:2.0
PRODID:-//Claremont Center for the Mathematical Sciences - ECPv6.15.17.1//NONSGML v1.0//EN
CALSCALE:GREGORIAN
METHOD:PUBLISH
X-ORIGINAL-URL:https://colleges.claremont.edu/ccms
X-WR-CALDESC:Events for Claremont Center for the Mathematical Sciences
REFRESH-INTERVAL;VALUE=DURATION:PT1H
X-Robots-Tag:noindex
X-PUBLISHED-TTL:PT1H
BEGIN:VTIMEZONE
TZID:America/Los_Angeles
BEGIN:DAYLIGHT
TZOFFSETFROM:-0800
TZOFFSETTO:-0700
TZNAME:PDT
DTSTART:20230312T100000
END:DAYLIGHT
BEGIN:STANDARD
TZOFFSETFROM:-0700
TZOFFSETTO:-0800
TZNAME:PST
DTSTART:20231105T090000
END:STANDARD
BEGIN:DAYLIGHT
TZOFFSETFROM:-0800
TZOFFSETTO:-0700
TZNAME:PDT
DTSTART:20240310T100000
END:DAYLIGHT
BEGIN:STANDARD
TZOFFSETFROM:-0700
TZOFFSETTO:-0800
TZNAME:PST
DTSTART:20241103T090000
END:STANDARD
BEGIN:DAYLIGHT
TZOFFSETFROM:-0800
TZOFFSETTO:-0700
TZNAME:PDT
DTSTART:20250309T100000
END:DAYLIGHT
BEGIN:STANDARD
TZOFFSETFROM:-0700
TZOFFSETTO:-0800
TZNAME:PST
DTSTART:20251102T090000
END:STANDARD
END:VTIMEZONE
BEGIN:VEVENT
DTSTART;TZID=America/Los_Angeles:20240305T150000
DTEND;TZID=America/Los_Angeles:20240305T160000
DTSTAMP:20260421T125036
CREATED:20240128T230049Z
LAST-MODIFIED:20240228T181227Z
UID:3363-1709650800-1709654400@colleges.claremont.edu
SUMMARY:Claremont Topology Seminar: Adam Yassine (Pomona College)
DESCRIPTION:We welcome all undergraduates and graduate students to attend topology seminar! \nSpeaker: Adam Yassine (Pomona College) \nTitle: A Structural Approach to Classical Mechanics \nAbstract: A structural approach to the study of classical mechanics clarifies the physical heuristics that physicists use in constructing mathematical models of classical mechanical systems. The focus of our current program is to develop a category theoretic framework that captures certain compositional features of classical mechanics. The framework is both flexible enough to support the description of a wide variety of systems and rigid enough to uniquely determine the physicists’ models.
URL:https://colleges.claremont.edu/ccms/event/claremont-topology-seminar-adam-yassine-pomona-college/
LOCATION:Estella 2099
CATEGORIES:Topology Seminar
ORGANIZER;CN="Bahar Acu":MAILTO:Bahar_Acu@pitzer.edu
END:VEVENT
END:VCALENDAR