BEGIN:VCALENDAR
VERSION:2.0
PRODID:-//Claremont Center for the Mathematical Sciences - ECPv6.15.17.1//NONSGML v1.0//EN
CALSCALE:GREGORIAN
METHOD:PUBLISH
X-ORIGINAL-URL:https://colleges.claremont.edu/ccms
X-WR-CALDESC:Events for Claremont Center for the Mathematical Sciences
REFRESH-INTERVAL;VALUE=DURATION:PT1H
X-Robots-Tag:noindex
X-PUBLISHED-TTL:PT1H
BEGIN:VTIMEZONE
TZID:America/Los_Angeles
BEGIN:DAYLIGHT
TZOFFSETFROM:-0800
TZOFFSETTO:-0700
TZNAME:PDT
DTSTART:20230312T100000
END:DAYLIGHT
BEGIN:STANDARD
TZOFFSETFROM:-0700
TZOFFSETTO:-0800
TZNAME:PST
DTSTART:20231105T090000
END:STANDARD
BEGIN:DAYLIGHT
TZOFFSETFROM:-0800
TZOFFSETTO:-0700
TZNAME:PDT
DTSTART:20240310T100000
END:DAYLIGHT
BEGIN:STANDARD
TZOFFSETFROM:-0700
TZOFFSETTO:-0800
TZNAME:PST
DTSTART:20241103T090000
END:STANDARD
BEGIN:DAYLIGHT
TZOFFSETFROM:-0800
TZOFFSETTO:-0700
TZNAME:PDT
DTSTART:20250309T100000
END:DAYLIGHT
BEGIN:STANDARD
TZOFFSETFROM:-0700
TZOFFSETTO:-0800
TZNAME:PST
DTSTART:20251102T090000
END:STANDARD
END:VTIMEZONE
BEGIN:VEVENT
DTSTART;TZID=America/Los_Angeles:20240416T150000
DTEND;TZID=America/Los_Angeles:20240416T160000
DTSTAMP:20260422T054412
CREATED:20240128T230720Z
LAST-MODIFIED:20240414T212101Z
UID:3367-1713279600-1713283200@colleges.claremont.edu
SUMMARY:Claremont Topology Seminar: Ryan Maguire (Dartmouth College)
DESCRIPTION:We especially welcome all undergraduates and graduate students to attend topology seminar! \nSpeaker: Ryan Maguire (Dartmouth College) \nTitle: Relative Strengths of Knot Invariants by Experiment \nAbstract: Four knot polynomials have been well studied by topologists\, graph theorists\, and algebraists alike:\nThe Alexander\, Jones\, HOMFLY-PT\, and Khovanov polynomials. It is known that the Khovanov polynomial is “stronger” than the Jones polynomial\, and similarly one may state that HOMFLY-PT is stronger than both the Alexander and Jones polynomials. No comparison can be made between the Jones and Alexander polynomials since there are families of knots with identical Alexander polynomials but distinct Jones polynomials\, and vice-versa\, but experiment tells us the Jones polynomial is stronger\, on average\, at distinguishing knots. We have tabulated the Alexander\, Jones\, and HOMFLY-PT polynomials for all knots up to 19 crossings\, and the Khovanov polynomial for up to 17 crossings. Using this\, we can experiment on the relative strengths of these knot invariants and generate statistics on them.
URL:https://colleges.claremont.edu/ccms/event/claremont-topology-seminar-ryan-maguire-dartmouth-college/
LOCATION:Estella 2099
CATEGORIES:Topology Seminar
ORGANIZER;CN="Bahar Acu":MAILTO:Bahar_Acu@pitzer.edu
END:VEVENT
END:VCALENDAR