BEGIN:VCALENDAR
VERSION:2.0
PRODID:-//Claremont Center for the Mathematical Sciences - ECPv6.15.17.1//NONSGML v1.0//EN
CALSCALE:GREGORIAN
METHOD:PUBLISH
X-ORIGINAL-URL:https://colleges.claremont.edu/ccms
X-WR-CALDESC:Events for Claremont Center for the Mathematical Sciences
REFRESH-INTERVAL;VALUE=DURATION:PT1H
X-Robots-Tag:noindex
X-PUBLISHED-TTL:PT1H
BEGIN:VTIMEZONE
TZID:America/Los_Angeles
BEGIN:DAYLIGHT
TZOFFSETFROM:-0800
TZOFFSETTO:-0700
TZNAME:PDT
DTSTART:20180311T100000
END:DAYLIGHT
BEGIN:STANDARD
TZOFFSETFROM:-0700
TZOFFSETTO:-0800
TZNAME:PST
DTSTART:20181104T090000
END:STANDARD
BEGIN:DAYLIGHT
TZOFFSETFROM:-0800
TZOFFSETTO:-0700
TZNAME:PDT
DTSTART:20190310T100000
END:DAYLIGHT
BEGIN:STANDARD
TZOFFSETFROM:-0700
TZOFFSETTO:-0800
TZNAME:PST
DTSTART:20191103T090000
END:STANDARD
BEGIN:DAYLIGHT
TZOFFSETFROM:-0800
TZOFFSETTO:-0700
TZNAME:PDT
DTSTART:20200308T100000
END:DAYLIGHT
BEGIN:STANDARD
TZOFFSETFROM:-0700
TZOFFSETTO:-0800
TZNAME:PST
DTSTART:20201101T090000
END:STANDARD
END:VTIMEZONE
BEGIN:VEVENT
DTSTART;TZID=America/Los_Angeles:20190415T161500
DTEND;TZID=America/Los_Angeles:20190415T171500
DTSTAMP:20260424T014937
CREATED:20190130T213705Z
LAST-MODIFIED:20190409T033118Z
UID:1188-1555344900-1555348500@colleges.claremont.edu
SUMMARY:Applied Math Talk: Solving Complex Public Health Problems—Cancer\, Obesity and Aging (Jessica Dehart\, CGU)
DESCRIPTION:Abstract: Remember smoking? What’s the new public health problem? In the US\, we are currently entangled within three converging and intertwined complex problems: Cancer\, Obesity\, Aging. There are over 16 million cancer survivors living in the US as we speak. Over 50% of our society is overweight and/obese. Our society is aging and the age distribution is much older than a few years back. Cancer\, obesity and aging share several risk factors\, biological mechanisms and patterns. Given the multidimensionality and complexity of these issues\, only a transdisciplinary approach will have the best chances of success in sustaining a health society. This talk will discuss the problems and potential transdisciplinary approaches—including math—to finding successful solutions.
URL:https://colleges.claremont.edu/ccms/event/applied-math-talk-given-by-jessica-dehart-cgu/
LOCATION:Emmy Noether Room\, Millikan 1021\, Pomona College\, 610 N. College Ave.\, Claremont\, California\, 91711
CATEGORIES:Applied Math Seminar
GEO:34.099908;-117.7142522
X-APPLE-STRUCTURED-LOCATION;VALUE=URI;X-ADDRESS=Emmy Noether Room Millikan 1021 Pomona College 610 N. College Ave. Claremont California 91711;X-APPLE-RADIUS=500;X-TITLE=610 N. College Ave.:geo:-117.7142522,34.099908
END:VEVENT
BEGIN:VEVENT
DTSTART;TZID=America/Los_Angeles:20190416T121500
DTEND;TZID=America/Los_Angeles:20190416T131000
DTSTAMP:20260424T014937
CREATED:20190123T071749Z
LAST-MODIFIED:20190408T231144Z
UID:1147-1555416900-1555420200@colleges.claremont.edu
SUMMARY:Chow rings of heavy/light Hassett spaces via tropical geometry (Dagan Karp\, HMC)
DESCRIPTION:In this talk\, I will try to give a fun introduction to tropical geometry and Hassett spaces\, and show how tropical geometry can be used to compute the Chow rings of Hassett spaces combinatorially. This is joint work with Siddarth Kannan and Shiyue Li.
URL:https://colleges.claremont.edu/ccms/event/antc-talk-dagan-karp-hmc/
LOCATION:Millikan 2099\, Pomona College\, 610 N. College Ave.\, Claremont\, CA\, 91711\, United States
CATEGORIES:Algebra / Number Theory / Combinatorics Seminar
END:VEVENT
BEGIN:VEVENT
DTSTART;TZID=America/Los_Angeles:20190417T161500
DTEND;TZID=America/Los_Angeles:20190417T171500
DTSTAMP:20260424T014937
CREATED:20190301T183149Z
LAST-MODIFIED:20190412T170625Z
UID:1254-1555517700-1555521300@colleges.claremont.edu
SUMMARY:Unravelling Biochemistry Mysteries: Knot Theory Applied to Biochemistry (Price\, University of San Diego)
DESCRIPTION:Abstract: Mathematical modeling is an effective resource for biologists since it provides ways to simplify\, study and understand the complex systems common in biology and biochemistry. Many mathematical tools can be applied to biological problems\, some traditional and some more novel\, all innovative. This presentation will review the mathematical tools that are used to model and study biological issues of DNA-protein interactions.
URL:https://colleges.claremont.edu/ccms/event/ccms-colloquium-price-university-of-san-diego/
LOCATION:Shanahan B460\, Harvey Mudd College\, 301 Platt Blvd.\, Claremont\, CA\, 91711\, United States
CATEGORIES:Colloquium
ORGANIZER;CN="Ali Nadim":MAILTO:ali.nadim@cgu.edu
END:VEVENT
BEGIN:VEVENT
DTSTART;TZID=America/Los_Angeles:20190418T120000
DTEND;TZID=America/Los_Angeles:20190418T133000
DTSTAMP:20260424T014937
CREATED:20190330T131139Z
LAST-MODIFIED:20190330T132139Z
UID:1287-1555588800-1555594200@colleges.claremont.edu
SUMMARY:Enhancements of the quandle coloring invariant for knots (Karina Cho\, Harvey Mudd College)
DESCRIPTION:Quandles are algebraic structures that play nicely with knots. The multiplicative structure of finite quandles gives us a way to “color” knot diagrams\, and the number of such colorings for a given knot and quandle is called the quandle coloring invariant. We strengthen this invariant by examining the relationships between the colorings\, which are given by endomorphisms. This can be visualized using a directed graph that we call the quandle coloring quiver. We will show that the quandle coloring quiver is a strict enhancement of the quandle coloring invariant and discuss further enhancements of this invariant that arise from quandle cohomology. This work is a senior thesis project under the advising of Sam Nelson.
URL:https://colleges.claremont.edu/ccms/event/enhancements-of-the-quandle-coloring-invariant-for-knots-karina-cho-harvey-mudd-college/
LOCATION:Roberts North 104\, CMC\, 320 E. 9th St.\, Claremont\, CA\, 91711\, United States
CATEGORIES:Topology Seminar
ORGANIZER;CN="Sam Nelson":MAILTO:snelson@cmc.edu
END:VEVENT
END:VCALENDAR