BEGIN:VCALENDAR
VERSION:2.0
PRODID:-//Claremont Center for the Mathematical Sciences - ECPv6.15.17.1//NONSGML v1.0//EN
CALSCALE:GREGORIAN
METHOD:PUBLISH
X-ORIGINAL-URL:https://colleges.claremont.edu/ccms
X-WR-CALDESC:Events for Claremont Center for the Mathematical Sciences
REFRESH-INTERVAL;VALUE=DURATION:PT1H
X-Robots-Tag:noindex
X-PUBLISHED-TTL:PT1H
BEGIN:VTIMEZONE
TZID:America/Los_Angeles
BEGIN:DAYLIGHT
TZOFFSETFROM:-0800
TZOFFSETTO:-0700
TZNAME:PDT
DTSTART:20180311T100000
END:DAYLIGHT
BEGIN:STANDARD
TZOFFSETFROM:-0700
TZOFFSETTO:-0800
TZNAME:PST
DTSTART:20181104T090000
END:STANDARD
BEGIN:DAYLIGHT
TZOFFSETFROM:-0800
TZOFFSETTO:-0700
TZNAME:PDT
DTSTART:20190310T100000
END:DAYLIGHT
BEGIN:STANDARD
TZOFFSETFROM:-0700
TZOFFSETTO:-0800
TZNAME:PST
DTSTART:20191103T090000
END:STANDARD
BEGIN:DAYLIGHT
TZOFFSETFROM:-0800
TZOFFSETTO:-0700
TZNAME:PDT
DTSTART:20200308T100000
END:DAYLIGHT
BEGIN:STANDARD
TZOFFSETFROM:-0700
TZOFFSETTO:-0800
TZNAME:PST
DTSTART:20201101T090000
END:STANDARD
END:VTIMEZONE
BEGIN:VEVENT
DTSTART;TZID=America/Los_Angeles:20190506T161500
DTEND;TZID=America/Los_Angeles:20190506T171500
DTSTAMP:20260422T180406
CREATED:20190129T211242Z
LAST-MODIFIED:20190419T064038Z
UID:1181-1557159300-1557162900@colleges.claremont.edu
SUMMARY:Applied math seminar: Topological descriptions of protein folding (Helen Wong\, CMC)
DESCRIPTION:Knotting in proteins was once considered exceedingly rare.  However\, systematic analyses of solved protein structures over the last two decades have demonstrated the existence of many deeply knotted proteins\, and researchers now hypothesize that the knotting presents some functional or evolutionary advantage for those proteins. \n  \nUnfortunately\, there is very little known (whether experimentally\, through computer simulations\, or theoretically) about how proteins fold into knotted configurations.  In this talk\, we will discuss some of the theorized pathways from a topological point of view.  In particular\, we propose a new theoretical pathway for protein knotting and determine its feasibility for certain families of  proteins.
URL:https://colleges.claremont.edu/ccms/event/applied-math-seminar-given-by-helen-wong/
LOCATION:Emmy Noether Room\, Millikan 1021\, Pomona College\, 610 N. College Ave.\, Claremont\, California\, 91711
CATEGORIES:Applied Math Seminar
GEO:34.099908;-117.7142522
X-APPLE-STRUCTURED-LOCATION;VALUE=URI;X-ADDRESS=Emmy Noether Room Millikan 1021 Pomona College 610 N. College Ave. Claremont California 91711;X-APPLE-RADIUS=500;X-TITLE=610 N. College Ave.:geo:-117.7142522,34.099908
END:VEVENT
BEGIN:VEVENT
DTSTART;TZID=America/Los_Angeles:20190507T121500
DTEND;TZID=America/Los_Angeles:20190507T131000
DTSTAMP:20260422T180406
CREATED:20190218T180910Z
LAST-MODIFIED:20190430T205116Z
UID:1218-1557231300-1557234600@colleges.claremont.edu
SUMMARY:Notions of stability in algebraic geometry (Jason Lo\, CSUN)
DESCRIPTION:One of the main drivers of current research in geometry is the classification of Calabi-Yau threefolds.  Towards this effort\, a particular approach in algebraic geometry is via the study of stability conditions.  In this talk\, I will explain what constitutes a notion of stability in algebraic geometry\, and what the challenges are in studying them.
URL:https://colleges.claremont.edu/ccms/event/antc-talk-by-jason-lo-csun/
LOCATION:Millikan 2099\, Pomona College\, 610 N. College Ave.\, Claremont\, CA\, 91711\, United States
CATEGORIES:Algebra / Number Theory / Combinatorics Seminar
END:VEVENT
END:VCALENDAR