BEGIN:VCALENDAR
VERSION:2.0
PRODID:-//Claremont Center for the Mathematical Sciences - ECPv6.15.17.1//NONSGML v1.0//EN
CALSCALE:GREGORIAN
METHOD:PUBLISH
X-WR-CALNAME:Claremont Center for the Mathematical Sciences
X-ORIGINAL-URL:https://colleges.claremont.edu/ccms
X-WR-CALDESC:Events for Claremont Center for the Mathematical Sciences
REFRESH-INTERVAL;VALUE=DURATION:PT1H
X-Robots-Tag:noindex
X-PUBLISHED-TTL:PT1H
BEGIN:VTIMEZONE
TZID:America/Los_Angeles
BEGIN:DAYLIGHT
TZOFFSETFROM:-0800
TZOFFSETTO:-0700
TZNAME:PDT
DTSTART:20180311T100000
END:DAYLIGHT
BEGIN:STANDARD
TZOFFSETFROM:-0700
TZOFFSETTO:-0800
TZNAME:PST
DTSTART:20181104T090000
END:STANDARD
BEGIN:DAYLIGHT
TZOFFSETFROM:-0800
TZOFFSETTO:-0700
TZNAME:PDT
DTSTART:20190310T100000
END:DAYLIGHT
BEGIN:STANDARD
TZOFFSETFROM:-0700
TZOFFSETTO:-0800
TZNAME:PST
DTSTART:20191103T090000
END:STANDARD
BEGIN:DAYLIGHT
TZOFFSETFROM:-0800
TZOFFSETTO:-0700
TZNAME:PDT
DTSTART:20200308T100000
END:DAYLIGHT
BEGIN:STANDARD
TZOFFSETFROM:-0700
TZOFFSETTO:-0800
TZNAME:PST
DTSTART:20201101T090000
END:STANDARD
END:VTIMEZONE
BEGIN:VEVENT
DTSTART;TZID=America/Los_Angeles:20191125T161500
DTEND;TZID=America/Los_Angeles:20191125T171500
DTSTAMP:20260421T120149
CREATED:20190909T232742Z
LAST-MODIFIED:20191112T033822Z
UID:1501-1574698500-1574702100@colleges.claremont.edu
SUMMARY:Applied Math Talk: Patterns deformed by spatial inhomogeneity give by Prof. Jasper Weinburd (HMC)
DESCRIPTION:At the turn of the twentieth century\, physicist Henri Bénard heated a shallow plate of fluid from below. For temperatures above a critical value\, the fluid’s evenly heated state became unstable as thermal convection took hold; heated fluid rose in localized areas while cooler fluid fell nearby. The rising and falling fluid created hexagonal convection cells\, squares\, and stripes.\nSuppose that we modify Bénard’s experiment by heating only the left half plate. We expect the fluid on the right to remain stationary and only the the fluid on the left to form patterns. We confirm this intuition mathematically and\, more surprisingly\, find that the step-type inhomogeneity restricts the spatial period of the resulting patterns on the left. We examine this phenomenon using a universal partial differential equation model. The main difficulty arrises at the location of the discontinuous inhomogeneity because results on either side cannot be directly compared. We construct a transformation of variables that bridges this jump and allows a heteroclinic glueing argument from left to right. The explicit form of this transformation determines the widths of patterns that may occur in the inhomogeneous environment.
URL:https://colleges.claremont.edu/ccms/event/jasper-weinburd-pomona-college/
LOCATION:Emmy Noether Room\, Millikan 1021\, Pomona College\, 610 N. College Ave.\, Claremont\, California\, 91711
CATEGORIES:Applied Math Seminar
GEO:34.099908;-117.7142522
X-APPLE-STRUCTURED-LOCATION;VALUE=URI;X-ADDRESS=Emmy Noether Room Millikan 1021 Pomona College 610 N. College Ave. Claremont California 91711;X-APPLE-RADIUS=500;X-TITLE=610 N. College Ave.:geo:-117.7142522,34.099908
END:VEVENT
BEGIN:VEVENT
DTSTART;TZID=America/Los_Angeles:20191126T121500
DTEND;TZID=America/Los_Angeles:20191126T131000
DTSTAMP:20260421T120149
CREATED:20190821T210731Z
LAST-MODIFIED:20191123T222257Z
UID:1361-1574770500-1574773800@colleges.claremont.edu
SUMMARY:Exponential domination in grids (Michael Young\, Iowa State University)
DESCRIPTION:Domination in graphs has been an important and active topic in graph theory for over 40 years. It has immediate applications in visibility and controllability. In this talk we will discuss a generalization of domination called exponential domination. A vertex $v$ in an exponential dominating set assigns weight $2^{1−dist(v\,u)}$ to vertex $u$. An exponential dominating set of a graph $G$ is a subset of $V(G)$ such that every vertex in $V(G)$ has been assigned a sum weight of at least 1. We will specifically look at grid graphs and graphs on the torus.
URL:https://colleges.claremont.edu/ccms/event/antc-talk-michael-young-iowa-state-university/
LOCATION:Emmy Noether Room\, Millikan 1021\, Pomona College\, 610 N. College Ave.\, Claremont\, California\, 91711
CATEGORIES:Algebra / Number Theory / Combinatorics Seminar
GEO:34.099908;-117.7142522
X-APPLE-STRUCTURED-LOCATION;VALUE=URI;X-ADDRESS=Emmy Noether Room Millikan 1021 Pomona College 610 N. College Ave. Claremont California 91711;X-APPLE-RADIUS=500;X-TITLE=610 N. College Ave.:geo:-117.7142522,34.099908
END:VEVENT
END:VCALENDAR