BEGIN:VCALENDAR
VERSION:2.0
PRODID:-//Claremont Center for the Mathematical Sciences - ECPv6.15.17.1//NONSGML v1.0//EN
CALSCALE:GREGORIAN
METHOD:PUBLISH
X-WR-CALNAME:Claremont Center for the Mathematical Sciences
X-ORIGINAL-URL:https://colleges.claremont.edu/ccms
X-WR-CALDESC:Events for Claremont Center for the Mathematical Sciences
REFRESH-INTERVAL;VALUE=DURATION:PT1H
X-Robots-Tag:noindex
X-PUBLISHED-TTL:PT1H
BEGIN:VTIMEZONE
TZID:America/Los_Angeles
BEGIN:DAYLIGHT
TZOFFSETFROM:-0800
TZOFFSETTO:-0700
TZNAME:PDT
DTSTART:20190310T100000
END:DAYLIGHT
BEGIN:STANDARD
TZOFFSETFROM:-0700
TZOFFSETTO:-0800
TZNAME:PST
DTSTART:20191103T090000
END:STANDARD
BEGIN:DAYLIGHT
TZOFFSETFROM:-0800
TZOFFSETTO:-0700
TZNAME:PDT
DTSTART:20200308T100000
END:DAYLIGHT
BEGIN:STANDARD
TZOFFSETFROM:-0700
TZOFFSETTO:-0800
TZNAME:PST
DTSTART:20201101T090000
END:STANDARD
BEGIN:DAYLIGHT
TZOFFSETFROM:-0800
TZOFFSETTO:-0700
TZNAME:PDT
DTSTART:20210314T100000
END:DAYLIGHT
BEGIN:STANDARD
TZOFFSETFROM:-0700
TZOFFSETTO:-0800
TZNAME:PST
DTSTART:20211107T090000
END:STANDARD
END:VTIMEZONE
BEGIN:VEVENT
DTSTART;TZID=America/Los_Angeles:20200331T150000
DTEND;TZID=America/Los_Angeles:20200331T160000
DTSTAMP:20260420T014121
CREATED:20200227T003039Z
LAST-MODIFIED:20200227T003039Z
UID:1906-1585666800-1585670400@colleges.claremont.edu
SUMMARY:Martin Bobb (UT Austin)
DESCRIPTION:TBA
URL:https://colleges.claremont.edu/ccms/event/martin-bobb-ut-austin/
LOCATION:Millikan 2099\, Pomona College\, 610 N. College Ave.\, Claremont\, CA\, 91711\, United States
CATEGORIES:Topology Seminar
END:VEVENT
BEGIN:VEVENT
DTSTART;TZID=America/Los_Angeles:20200401T161500
DTEND;TZID=America/Los_Angeles:20200401T171500
DTSTAMP:20260420T014121
CREATED:20200108T205641Z
LAST-MODIFIED:20200220T030820Z
UID:1705-1585757700-1585761300@colleges.claremont.edu
SUMMARY:Dagan Karp: Tropical Geometry and Moduli Spaces
DESCRIPTION:In this talk\, I’ll attempt to give an introduction to the beautiful world of tropical geometry. As an application\, I’ll describe work with Siddarth Kannan (Pomona 2018) and Shiyue Li (Mudd 2017) using tropical geometry to compute the cohomology of certain moduli spaces\, called heavy/light Hassett spaces\, which are of interest in a wide range of areas\, including the minimal model program and enumerative geometry.
URL:https://colleges.claremont.edu/ccms/event/dagan-karp/
LOCATION:Freeberg Forum\, LC 62\, Kravis Center\, CMC
ORGANIZER;CN="Blerta Shtylla":MAILTO:shtyllab@pomona.edu
END:VEVENT
END:VCALENDAR