BEGIN:VCALENDAR
VERSION:2.0
PRODID:-//Claremont Center for the Mathematical Sciences - ECPv6.15.17.1//NONSGML v1.0//EN
CALSCALE:GREGORIAN
METHOD:PUBLISH
X-WR-CALNAME:Claremont Center for the Mathematical Sciences
X-ORIGINAL-URL:https://colleges.claremont.edu/ccms
X-WR-CALDESC:Events for Claremont Center for the Mathematical Sciences
REFRESH-INTERVAL;VALUE=DURATION:PT1H
X-Robots-Tag:noindex
X-PUBLISHED-TTL:PT1H
BEGIN:VTIMEZONE
TZID:America/Los_Angeles
BEGIN:DAYLIGHT
TZOFFSETFROM:-0800
TZOFFSETTO:-0700
TZNAME:PDT
DTSTART:20200308T100000
END:DAYLIGHT
BEGIN:STANDARD
TZOFFSETFROM:-0700
TZOFFSETTO:-0800
TZNAME:PST
DTSTART:20201101T090000
END:STANDARD
BEGIN:DAYLIGHT
TZOFFSETFROM:-0800
TZOFFSETTO:-0700
TZNAME:PDT
DTSTART:20210314T100000
END:DAYLIGHT
BEGIN:STANDARD
TZOFFSETFROM:-0700
TZOFFSETTO:-0800
TZNAME:PST
DTSTART:20211107T090000
END:STANDARD
BEGIN:DAYLIGHT
TZOFFSETFROM:-0800
TZOFFSETTO:-0700
TZNAME:PDT
DTSTART:20220313T100000
END:DAYLIGHT
BEGIN:STANDARD
TZOFFSETFROM:-0700
TZOFFSETTO:-0800
TZNAME:PST
DTSTART:20221106T090000
END:STANDARD
END:VTIMEZONE
BEGIN:VEVENT
DTSTART;TZID=America/Los_Angeles:20210419T150000
DTEND;TZID=America/Los_Angeles:20210419T160000
DTSTAMP:20260425T085800
CREATED:20210112T180844Z
LAST-MODIFIED:20210417T022158Z
UID:2112-1618844400-1618848000@colleges.claremont.edu
SUMMARY:Applied math. talk: Adversarially robust classification via geometric flows\,  by  Ryan Murray\, North Caroline State University
DESCRIPTION:Abstract: Classification is a fundamental task in data science and machine learning\, and in the past ten years there have been significant improvements on classification tasks (e.g. via deep learning). However\, recently there have been a number of works demonstrating that these improved algorithms can be “fooled” using specially constructed adversarial examples. In turn\, there has been increased attention given to creating machine learning algorithms which are more robust against adversarial attacks. In this talk I will describe a recently proposed framework for optimal adversarial robustness which is related to optimal transportation. I will then discuss some recent work\, with Nicolas Garcia Trillos\, which characterizes solutions of the optimal adversarial robust classification problem by using a geometric evolution equation. Surprisingly\, this geometric evolution equation asymptotically takes the form of a weighted mean curvature flow\, which suggests new analytical and computational approaches to the problem. I will also discuss a number of related open questions.
URL:https://colleges.claremont.edu/ccms/event/applied-math-talk-by-ryan-murray-north-caroline-state-university/
LOCATION:Zoom meeting\, United States
CATEGORIES:Applied Math Seminar
END:VEVENT
BEGIN:VEVENT
DTSTART;TZID=America/Los_Angeles:20210421T161500
DTEND;TZID=America/Los_Angeles:20210421T173000
DTSTAMP:20260425T085800
CREATED:20210204T004641Z
LAST-MODIFIED:20210418T004801Z
UID:2178-1619021700-1619026200@colleges.claremont.edu
SUMMARY:Haydee Lindo
DESCRIPTION:Title: Trace Ideals and Endomorphism Rings \nAbstract: In many branches of mathematics\, the full set of “functions” between two objects exhibits remarkable structure; it often forms a group and in some special cases it forms a ring.  In this talk\, we will discuss this phenomenon in Commutative Algebra.  In particular\, we will talk about the endomorphism ring formed by the homomorphisms from a module to itself by first looking at commuting square matrices.  I’ll also introduce the trace ideal and explain its role in the question “What properties of a module does its endomorphism ring detect?” \nDr. Lindo is Assistant Professor at Harvey Mudd College.
URL:https://colleges.claremont.edu/ccms/event/haydee-lindo/
LOCATION:Zoom
CATEGORIES:Colloquium
ORGANIZER;CN="Helen Wong":MAILTO:hwong@cmc.edu
END:VEVENT
END:VCALENDAR