BEGIN:VCALENDAR
VERSION:2.0
PRODID:-//Claremont Center for the Mathematical Sciences - ECPv6.15.17.1//NONSGML v1.0//EN
CALSCALE:GREGORIAN
METHOD:PUBLISH
X-WR-CALNAME:Claremont Center for the Mathematical Sciences
X-ORIGINAL-URL:https://colleges.claremont.edu/ccms
X-WR-CALDESC:Events for Claremont Center for the Mathematical Sciences
REFRESH-INTERVAL;VALUE=DURATION:PT1H
X-Robots-Tag:noindex
X-PUBLISHED-TTL:PT1H
BEGIN:VTIMEZONE
TZID:America/Los_Angeles
BEGIN:DAYLIGHT
TZOFFSETFROM:-0800
TZOFFSETTO:-0700
TZNAME:PDT
DTSTART:20210314T100000
END:DAYLIGHT
BEGIN:STANDARD
TZOFFSETFROM:-0700
TZOFFSETTO:-0800
TZNAME:PST
DTSTART:20211107T090000
END:STANDARD
BEGIN:DAYLIGHT
TZOFFSETFROM:-0800
TZOFFSETTO:-0700
TZNAME:PDT
DTSTART:20220313T100000
END:DAYLIGHT
BEGIN:STANDARD
TZOFFSETFROM:-0700
TZOFFSETTO:-0800
TZNAME:PST
DTSTART:20221106T090000
END:STANDARD
BEGIN:DAYLIGHT
TZOFFSETFROM:-0800
TZOFFSETTO:-0700
TZNAME:PDT
DTSTART:20230312T100000
END:DAYLIGHT
BEGIN:STANDARD
TZOFFSETFROM:-0700
TZOFFSETTO:-0800
TZNAME:PST
DTSTART:20231105T090000
END:STANDARD
END:VTIMEZONE
BEGIN:VEVENT
DTSTART;TZID=America/Los_Angeles:20220425T161500
DTEND;TZID=America/Los_Angeles:20220425T171500
DTSTAMP:20260424T105751
CREATED:20211213T202110Z
LAST-MODIFIED:20230816T041400Z
UID:2518-1650903300-1650906900@colleges.claremont.edu
SUMMARY:Applied Math Seminar -- Alona Kryshchenko (CSUCI)
DESCRIPTION:Title: Data science and applications in dynamic topic modeling \nAbstract:\nThe shockwaves of the big data boom have thrown into sharp relief the critical need for domain-driven\, large-scale data analytic techniques across the fields of\, among others\, finance\, political science\, economics\, psychology\, and medicine.  It is not simply the size of data sets that contributes to the extreme challenges of data analysis in these fields\, but the inherent complexity of this data.  Often this data is multi-modal\, with modes representing measurements along different dimensions (e.g.\, spatial\, and temporal dimensions of video data\, or word and document dimensions of text corpora data).  This data is often naturally formatted as a tensor\, a higher-order generalization of a matrix. In this talk\, we will explore nonnegative tensor decompositions and their applications in dynamic topic modeling.
URL:https://colleges.claremont.edu/ccms/event/applied-math-seminar-alona-kryshchenko-csuci/
LOCATION:Emmy Noether Room\, Estella 1021\, Pomona College\,\, 610 N. College Ave.\, Claremont\, CA\, 91711\, United States
CATEGORIES:Applied Math Seminar
ORGANIZER;CN="Heather Zinn Brooks":MAILTO:hzinnbrooks@g.hmc.edu
END:VEVENT
BEGIN:VEVENT
DTSTART;TZID=America/Los_Angeles:20220426T123000
DTEND;TZID=America/Los_Angeles:20220426T132000
DTSTAMP:20260424T105751
CREATED:20220127T053038Z
LAST-MODIFIED:20220421T192843Z
UID:2570-1650976200-1650979200@colleges.claremont.edu
SUMMARY:Bounds for nonzero Littlewood-Richardson coefficients (Müge Taskin\, Boğaziçi University\, Turkey)
DESCRIPTION:As  $\lambda$ runs through all integer partitions\, the set of   Schur functions $\{s_{\lambda}\}_\lambda$ forms a basis in the ring of symmetric functions. Hence the rule $$s_{\lambda}s_{\mu}=\sum c_{\lambda\,\mu}^{\gamma} s_{\gamma}$$ makes sense and the coefficients $c_{\lambda\,\mu}^{\gamma}$ are called \textit{Littlewood-Richardson (LR) coefficients}. The calculations of Littlewood-Richardson coefficients has been an important problem from the first time they were introduced\, due to their important role in representation theory of symmetric groups and enumerative geometry. \nIn this talk we will explain some of the main features of these coefficients and provide a summary of the characterizations given by Littlewood and Richardson (1934)\, Berenstein- Zelevinsky ()1988) and Knutson-Tao (1999). Then we will explain our approach to a seemingly easier problem\, that is\, the determination of  triples $(\lambda\,\mu\,\gamma)$  of partitions for which $c_{\lambda\,\mu}^{\gamma}$ is non zero. Our method describes some upper and lower bounds for triples $(\lambda\,\mu\,\gamma)$ with nonzero  $c_{\lambda\,\mu}^{\gamma}$\, by using  Young diagram combinatorics and especially\, the indispensable Dominance order. This is joint work with R. Bedii Gümüş and supported by Tübitak/1001/115F156.
URL:https://colleges.claremont.edu/ccms/event/antc-seminar-muge-taskin-bogazici-university-turkey/
LOCATION:On Zoom
CATEGORIES:Algebra / Number Theory / Combinatorics Seminar
END:VEVENT
BEGIN:VEVENT
DTSTART;TZID=America/Los_Angeles:20220427T161500
DTEND;TZID=America/Los_Angeles:20220427T173000
DTSTAMP:20260424T105751
CREATED:20220401T032753Z
LAST-MODIFIED:20220406T231953Z
UID:2686-1651076100-1651080600@colleges.claremont.edu
SUMMARY:Contact topology and geometry in high dimensions (Prof. Bahar Acu)
DESCRIPTION:Title: Contact topology and geometry in high dimensions \nSpeaker: Bahar Acu\, Department of Mathematics\, Pitzer College \nAbstract: A very useful strategy in studying topological manifolds is to factor them into “smaller” pieces. An open book decomposition of an n-manifold (the open book) is a special map (fibration) that helps us study our manifold in terms of its (n-1)-dimensional submanifolds (i.e. fibers=the pages) and (n-2)-dimensional boundary of these submanifolds (the binding). Open books provide a natural framework for studying topological properties of certain geometric structures on smooth manifolds such as “contact structures”. Thanks to open books\, contact manifolds\, odd dimensional manifolds carrying these geometric structures\, can be studied from an entirely topological viewpoint. For example\, every contact 3-manifold can be presented as an open book whose pages are surfaces and binding is a knot/link. In this talk\, we will talk about higher-dimensional contact manifolds and provide a setting where we study these manifolds in terms of 3D open books. We present various results along with examples concerning geometric and topological aspects of these manifolds. \n\nDr. Bahar Acu (pronounced: Ah-Joo) is an Assistant Professor of Mathematics at Pitzer College since Spring 2022. Prior to joining Claremont Colleges\, Dr. Acu held positions at UCLA\, Northwestern\, ETH Zürich\, and IAS Princeton following a Ph.D. degree from the University of Southern California in 2017. Dr. Acu’s primary research interests are in the field of geometric topology\, more precisely contact and symplectic topology in high dimensions and their relations with low-dimensional topology. While doing so\, Dr. Acu actively thinks about ways in which the math community at large can improve and promote the presence and visibility of more first-gen\, womxn\, queer\, and many other historically underrepresented individuals in math in various mathematical events and projects. Dr. Acu continues to hope that more of the math colleagues join these efforts in their day-to-day navigation in math in any beneficial way they can.
URL:https://colleges.claremont.edu/ccms/event/contact-topology-and-geometry-in-high-dimensions-prof-bahar-acu/
LOCATION:Shanahan B460 (HMC) and Zoom – Hybrid
CATEGORIES:Colloquium
END:VEVENT
END:VCALENDAR