BEGIN:VCALENDAR
VERSION:2.0
PRODID:-//Claremont Center for the Mathematical Sciences - ECPv6.15.17.1//NONSGML v1.0//EN
CALSCALE:GREGORIAN
METHOD:PUBLISH
X-WR-CALNAME:Claremont Center for the Mathematical Sciences
X-ORIGINAL-URL:https://colleges.claremont.edu/ccms
X-WR-CALDESC:Events for Claremont Center for the Mathematical Sciences
REFRESH-INTERVAL;VALUE=DURATION:PT1H
X-Robots-Tag:noindex
X-PUBLISHED-TTL:PT1H
BEGIN:VTIMEZONE
TZID:America/Los_Angeles
BEGIN:DAYLIGHT
TZOFFSETFROM:-0800
TZOFFSETTO:-0700
TZNAME:PDT
DTSTART:20220313T100000
END:DAYLIGHT
BEGIN:STANDARD
TZOFFSETFROM:-0700
TZOFFSETTO:-0800
TZNAME:PST
DTSTART:20221106T090000
END:STANDARD
BEGIN:DAYLIGHT
TZOFFSETFROM:-0800
TZOFFSETTO:-0700
TZNAME:PDT
DTSTART:20230312T100000
END:DAYLIGHT
BEGIN:STANDARD
TZOFFSETFROM:-0700
TZOFFSETTO:-0800
TZNAME:PST
DTSTART:20231105T090000
END:STANDARD
BEGIN:DAYLIGHT
TZOFFSETFROM:-0800
TZOFFSETTO:-0700
TZNAME:PDT
DTSTART:20240310T100000
END:DAYLIGHT
BEGIN:STANDARD
TZOFFSETFROM:-0700
TZOFFSETTO:-0800
TZNAME:PST
DTSTART:20241103T090000
END:STANDARD
END:VTIMEZONE
BEGIN:VEVENT
DTSTART;TZID=America/Los_Angeles:20230905T121500
DTEND;TZID=America/Los_Angeles:20230905T130500
DTSTAMP:20260422T203448
CREATED:20230415T215315Z
LAST-MODIFIED:20230830T150027Z
UID:3129-1693916100-1693919100@colleges.claremont.edu
SUMMARY:Quantum money from Brandt operators (Shahed Sharif\, CSU San Marcos)
DESCRIPTION:Public key quantum money is a replacement for paper money which has cryptographic guarantees against counterfeiting. We propose a new idea for public key quantum money. In the abstract sense\, our bills are encoded as a joint eigenstate of a fixed system of commuting unitary operators. We show that the proposal is secure against black box attacks. In order to instantiate this protocol\, one needs to find a cryptographically complicated system of computable\, commuting\, unitary operators. To fill this need\, we propose using Brandt operators\, which have a beautiful tripartite formulation. No prior knowledge of quantum computers is necessary for this talk! This is joint work with Daniel Kane and Alice Silverberg.
URL:https://colleges.claremont.edu/ccms/event/antc-seminar-shahed-sharif-csu-san-marcos/
LOCATION:Roberts North 102\, CMC
CATEGORIES:Algebra / Number Theory / Combinatorics Seminar
END:VEVENT
BEGIN:VEVENT
DTSTART;TZID=America/Los_Angeles:20230906T161500
DTEND;TZID=America/Los_Angeles:20230906T173000
DTSTAMP:20260422T203448
CREATED:20230828T164137Z
LAST-MODIFIED:20230913T074549Z
UID:3151-1694016900-1694021400@colleges.claremont.edu
SUMMARY:CCMS Student Research Poster Session Fall 2023
DESCRIPTION:The Claremont Center for the Mathematical Sciences (CCMS) Math Colloquium series begins with a student research poster session\, showcasing the mathematical work of all students at the Claremont Colleges. Please join us on Wednesday\, September 6th\, in the Estella Courtyard at Pomona College to see the wealth of research projects that Claremont math students have been involved in. \nTitles & Speakers: \nDegenerate PDE model of epidemic spread dynamicsBelgacem Al-AzemContractivity of Quantum Channels with respect to Quantum State Induced NormsEsteban Ayala\, Evelyne Knight\, and Chloe MarpleOn the t-elasticity of numerical semigroupsKarina BeheraRandom Sampling from Defect-d Preference ListsJasper BownElliptic Curves: Minimal Discriminants and Additive ReductionLouis BurnsApplications of Math Modeling in Microscale BiologyWilliam CeelyThe Chromatic Number of the PlaneJonathan Cervantes\, Timothy Harris\, Enayat Khoueinia\, Michael Krebs\, Katherine Ortiz\, Luis Ruiz\, and Claudia Maria SchmidtAnalyzing Data Science Ethics Pedagogies and CurriculaSara ColandoHarnessing Uncertainty through FDA in Breakthrough DataLuisa Gianuca and Tianmin KongCandy Crush Combinatorics in 2xn and 3xn gridsNitipon MoonwichitMachine Learning Hyperparameter Optimization with Genetic AlgorithmsRylie Weaver
URL:https://colleges.claremont.edu/ccms/event/ccms-student-research-poster-session-fall-2023/
LOCATION:Estella Courtyard\, 610 N College Ave\, Claremont\, CA\, 91711\, United States
CATEGORIES:Colloquium,Special Event
END:VEVENT
END:VCALENDAR