BEGIN:VCALENDAR
VERSION:2.0
PRODID:-//Claremont Center for the Mathematical Sciences - ECPv6.15.17.1//NONSGML v1.0//EN
CALSCALE:GREGORIAN
METHOD:PUBLISH
X-ORIGINAL-URL:https://colleges.claremont.edu/ccms
X-WR-CALDESC:Events for Claremont Center for the Mathematical Sciences
REFRESH-INTERVAL;VALUE=DURATION:PT1H
X-Robots-Tag:noindex
X-PUBLISHED-TTL:PT1H
BEGIN:VTIMEZONE
TZID:America/Los_Angeles
BEGIN:DAYLIGHT
TZOFFSETFROM:-0800
TZOFFSETTO:-0700
TZNAME:PDT
DTSTART:20170312T100000
END:DAYLIGHT
BEGIN:STANDARD
TZOFFSETFROM:-0700
TZOFFSETTO:-0800
TZNAME:PST
DTSTART:20171105T090000
END:STANDARD
BEGIN:DAYLIGHT
TZOFFSETFROM:-0800
TZOFFSETTO:-0700
TZNAME:PDT
DTSTART:20180311T100000
END:DAYLIGHT
BEGIN:STANDARD
TZOFFSETFROM:-0700
TZOFFSETTO:-0800
TZNAME:PST
DTSTART:20181104T090000
END:STANDARD
BEGIN:DAYLIGHT
TZOFFSETFROM:-0800
TZOFFSETTO:-0700
TZNAME:PDT
DTSTART:20190310T100000
END:DAYLIGHT
BEGIN:STANDARD
TZOFFSETFROM:-0700
TZOFFSETTO:-0800
TZNAME:PST
DTSTART:20191103T090000
END:STANDARD
END:VTIMEZONE
BEGIN:VEVENT
DTSTART;TZID=America/Los_Angeles:20181210T161500
DTEND;TZID=America/Los_Angeles:20181210T171500
DTSTAMP:20260425T061644
CREATED:20180921T221142Z
LAST-MODIFIED:20181116T192815Z
UID:562-1544458500-1544462100@colleges.claremont.edu
SUMMARY:Transfinite $\zeta$-metrics (Zair Ibragimov\, CMC)
DESCRIPTION:I will discuss the concept of transfinite ζ-metrics. In some details I will discuss transfinite Apollonian metric in the settings of semi-metric spaces. I will discuss specific examples of domains where the transfinite Apollonian metric can be computed explicitly. This is a preliminary work.
URL:https://colleges.claremont.edu/ccms/event/applied-math-seminar-given-by-prof-ibragimov-zair-cmc/
LOCATION:Emmy Noether Room\, Millikan 1021\, Pomona College\, 610 N. College Ave.\, Claremont\, California\, 91711
CATEGORIES:Applied Math Seminar
GEO:34.099908;-117.7142522
X-APPLE-STRUCTURED-LOCATION;VALUE=URI;X-ADDRESS=Emmy Noether Room Millikan 1021 Pomona College 610 N. College Ave. Claremont California 91711;X-APPLE-RADIUS=500;X-TITLE=610 N. College Ave.:geo:-117.7142522,34.099908
END:VEVENT
BEGIN:VEVENT
DTSTART;TZID=America/Los_Angeles:20181203T161500
DTEND;TZID=America/Los_Angeles:20181203T171500
DTSTAMP:20260425T061644
CREATED:20180921T215624Z
LAST-MODIFIED:20181106T161858Z
UID:560-1543853700-1543857300@colleges.claremont.edu
SUMMARY:A Martingale Approach to the Question of Fiscal Stimulus (Michael Imerman\, CGU)
DESCRIPTION:Joint work with Larry Shepp & Philip Ernst \nIn this paper we develop a mathematical model to address an ongoing politico-economic debate between Democrats and Republicans. Democrats in the US say that government spending can be used to “grease the wheels’ of the economy\, create wealth\, and increase employment; the Republicans say that government spending is wasteful\, discourages investment\, and so increases unemployment. These arguments cannot both be correct\, but both arguments seem meritorious. We address this economic question of fiscal stimulus as a new optimal control problem extending the model of Radner-Shepp (1996). A unique solution is found using traditional martingale methods for stochastic optimization along with a numerical procedure to solve a non-homogeneous ODE as the root of an implicit function. Specifically\, we find that there exists an optimal strategy with interesting mathematical properties.
URL:https://colleges.claremont.edu/ccms/event/applied-math-seminar-given-by-prof-michael-imerman-cgu/
LOCATION:Emmy Noether Room\, Millikan 1021\, Pomona College\, 610 N. College Ave.\, Claremont\, California\, 91711
CATEGORIES:Applied Math Seminar
GEO:34.099908;-117.7142522
X-APPLE-STRUCTURED-LOCATION;VALUE=URI;X-ADDRESS=Emmy Noether Room Millikan 1021 Pomona College 610 N. College Ave. Claremont California 91711;X-APPLE-RADIUS=500;X-TITLE=610 N. College Ave.:geo:-117.7142522,34.099908
END:VEVENT
BEGIN:VEVENT
DTSTART;TZID=America/Los_Angeles:20181126T161500
DTEND;TZID=America/Los_Angeles:20181126T171500
DTSTAMP:20260425T061644
CREATED:20181124T043635Z
LAST-MODIFIED:20181124T043635Z
UID:958-1543248900-1543252500@colleges.claremont.edu
SUMMARY:A renormalization approach to existence of the blow-up solutions of the Navier-Stokes equations (Denis Gaidashev\, Uppsala University\, Sweden)
DESCRIPTION:The Navier-Stokes existence and smoothness problem is one of the most important open problems in modern mathematics.   Ya. Sinai and D. Li have proposed a renormalization approach to constructing a counter-example to existence. In this approach\, existence of  a blow-up solution (a solution whose energy becomes infinite in finite time) is equivalent to existence of fixed point of an appropriate operator in some functional space.  We will explain a computer assited technique which can be conjecturally used to prove existence of such a fixed point for 3D NS equations\, and describe our numerical evidence for a fixed point in the setting of a 1D version of NS.
URL:https://colleges.claremont.edu/ccms/event/a-renormalization-approach-to-existence-of-the-blow-up-solutions-of-the-navier-stokes-equations-denis-gaidashev-uppsala-university-sweden/
LOCATION:Emmy Noether Room\, Millikan 1021\, Pomona College\, 610 N. College Ave.\, Claremont\, California\, 91711
CATEGORIES:Applied Math Seminar
GEO:34.099908;-117.7142522
X-APPLE-STRUCTURED-LOCATION;VALUE=URI;X-ADDRESS=Emmy Noether Room Millikan 1021 Pomona College 610 N. College Ave. Claremont California 91711;X-APPLE-RADIUS=500;X-TITLE=610 N. College Ave.:geo:-117.7142522,34.099908
END:VEVENT
BEGIN:VEVENT
DTSTART;TZID=America/Los_Angeles:20181119T161500
DTEND;TZID=America/Los_Angeles:20181119T171500
DTSTAMP:20260425T061644
CREATED:20180808T225017Z
LAST-MODIFIED:20181109T020610Z
UID:422-1542644100-1542647700@colleges.claremont.edu
SUMMARY:Turing mechanism for homeostatic control of synaptic density during C. elegans growth (Heather Zinn Brooks\, UCLA)
DESCRIPTION:It has been observed that motor neuron synapses in the worm C. elegans are remarkably evenly spaced\, even during growth and development. In this work\, we propose a novel mechanism for Turing pattern formation that provides a possible explanation for the regular spacing of synapses along the ventral cord of C. elegans during development. The model consists of two interacting chemical species\, where one is passively diffusing and the other is actively trafficked by molecular motors; we identify the former as the kinase CaMKII and the latter as the glutamate receptor GLR-1. We use linear stability analysis to derive conditions on the associated nonlinear interaction functions for which a Turing instability can occur. We find that the dimensionless quantity $\gamma$\, the ratio of switching rate and diffusion coefficient to motor transport velocity\, must be sufficiently small for patterns to emerge. One consequence is that patterns emerge outside the parameter regime of fast switching where the model effectively reduces to a two component reaction-diffusion system. Furthermore\, these patterns are also maintained during domain growth. We discuss selection and stability of patterns for this mechanism in both 1- and 2-dimensional domains.
URL:https://colleges.claremont.edu/ccms/event/applied-math-seminar-given-by-dr-heather-zinn-brooks-ucla/
LOCATION:Emmy Noether Room\, Millikan 1021\, Pomona College\, 610 N. College Ave.\, Claremont\, California\, 91711
CATEGORIES:Applied Math Seminar
GEO:34.099908;-117.7142522
X-APPLE-STRUCTURED-LOCATION;VALUE=URI;X-ADDRESS=Emmy Noether Room Millikan 1021 Pomona College 610 N. College Ave. Claremont California 91711;X-APPLE-RADIUS=500;X-TITLE=610 N. College Ave.:geo:-117.7142522,34.099908
END:VEVENT
BEGIN:VEVENT
DTSTART;TZID=America/Los_Angeles:20181112T161500
DTEND;TZID=America/Los_Angeles:20181112T171500
DTSTAMP:20260425T061644
CREATED:20180910T183619Z
LAST-MODIFIED:20181101T041237Z
UID:523-1542039300-1542042900@colleges.claremont.edu
SUMMARY:Digital sequences for frequency hopping CDMA systems (Lenny Fukshansky\, CMC)
DESCRIPTION:Frequency hopping is a method of transmitting signals by rapidly switching between many frequency channels\, following some sequence of frequencies known to the transmitter and the receiver. This technique is used in the CDMA (code division multiple access) systems\, and has many civilian and military applications. For successful transmission minimizing signal interference\, we want to use sets of digital frequency sequences with minimal Hamming cross-correlation\, which measures frequency overlaps with time shifts between two different sequences. We discuss a construction of a new family of one-coincidence sequences like this coming from some basic arithmetic of finite fields\, which have some nice properties. This is joint work with Adib Shaar\, and this talk is dedicated to his memory.
URL:https://colleges.claremont.edu/ccms/event/applied-math-talk-given-by-prof-lenny-fukshansky/
LOCATION:Emmy Noether Room\, Millikan 1021\, Pomona College\, 610 N. College Ave.\, Claremont\, California\, 91711
CATEGORIES:Applied Math Seminar
GEO:34.099908;-117.7142522
X-APPLE-STRUCTURED-LOCATION;VALUE=URI;X-ADDRESS=Emmy Noether Room Millikan 1021 Pomona College 610 N. College Ave. Claremont California 91711;X-APPLE-RADIUS=500;X-TITLE=610 N. College Ave.:geo:-117.7142522,34.099908
END:VEVENT
BEGIN:VEVENT
DTSTART;TZID=America/Los_Angeles:20181105T161500
DTEND;TZID=America/Los_Angeles:20181105T171500
DTSTAMP:20260425T061644
CREATED:20180808T152839Z
LAST-MODIFIED:20181021T054250Z
UID:416-1541434500-1541438100@colleges.claremont.edu
SUMMARY:CFTP: the algorithm ERGM deserves\, but not the one it needs right now (Matt Moores\, University of Wollongong)
DESCRIPTION:The exchange algorithm enables Bayesian posterior inference for models with intractable likelihoods\, such as Ising\, Potts\, or exponential random graph models (ERGM). Crucially\, this algorithm relies on an auxiliary Markov chain to obtain an unbiased sample from the generative distribution of the model.             It was originally proposed to use coupling from the past (CFTP) for this purpose\, but this requires the Markov chain to be uniformly ergodic. In the case of the Ising model\, coupling time increases super-exponentially for parameter values larger than the critical point. Alternatives to CFTP\, such as perfect slice sampling or bounding chains for Swendsen-Wang\, have been proposed for the Ising model. However\, there are currently no suitable alternatives for ERGM\, which also features a phase transition that can cause problems with convergence. This talk will review some recent work on simulation algorithms for ERGM and discuss how this problem might be addressed.\n\nThis is joint work with Kerrie Mengersen and Chris Drovandi (QUT\, Australia)\, Antonietta Mira (USI Lugano\, Switzerland)\, and Alberto Caimo (Dublin Inst. Tech.\, Ireland).
URL:https://colleges.claremont.edu/ccms/event/applied-math-seminar-talk-title-tba/
LOCATION:Emmy Noether Room\, Millikan 1021\, Pomona College\, 610 N. College Ave.\, Claremont\, California\, 91711
CATEGORIES:Applied Math Seminar
GEO:34.099908;-117.7142522
X-APPLE-STRUCTURED-LOCATION;VALUE=URI;X-ADDRESS=Emmy Noether Room Millikan 1021 Pomona College 610 N. College Ave. Claremont California 91711;X-APPLE-RADIUS=500;X-TITLE=610 N. College Ave.:geo:-117.7142522,34.099908
END:VEVENT
BEGIN:VEVENT
DTSTART;TZID=America/Los_Angeles:20181029T161500
DTEND;TZID=America/Los_Angeles:20181029T171500
DTSTAMP:20260425T061644
CREATED:20180910T073543Z
LAST-MODIFIED:20181016T222630Z
UID:520-1540829700-1540833300@colleges.claremont.edu
SUMMARY:Minimal Gaussian Partitions\, Clustering Hardness and Voting (Steven Heilman\, USC)
DESCRIPTION:A single soap bubble has a spherical shape since it minimizes its surface area subject to a fixed enclosed volume of air.  When two soap bubbles collide\, they form a “double-bubble” composed of three spherical caps.  The double-bubble minimizes total surface area among all sets enclosing two fixed volumes.  This was proven mathematically in a landmark result by Hutchings-Morgan-Ritore-Ros and Reichardt using the calculus of variations in the early 2000s.  The analogous case of three or more Euclidean sets is considered difficult if not impossible.  However\, if we replace Lebesgue measure in these problems with the Gaussian measure\, then recent work of myself (for 3 sets) and of Milman-Neeman (for any number of sets) can actually solve these problems.  We also use the calculus of variations.  We will discuss applications of this Gaussian “multi-bubble” problem to optimal clustering of data and to designing elections that are resilient to hacking.
URL:https://colleges.claremont.edu/ccms/event/applied-math-seminar-given-by-prof-steven-heilman/
LOCATION:Emmy Noether Room\, Millikan 1021\, Pomona College\, 610 N. College Ave.\, Claremont\, California\, 91711
CATEGORIES:Applied Math Seminar
GEO:34.099908;-117.7142522
X-APPLE-STRUCTURED-LOCATION;VALUE=URI;X-ADDRESS=Emmy Noether Room Millikan 1021 Pomona College 610 N. College Ave. Claremont California 91711;X-APPLE-RADIUS=500;X-TITLE=610 N. College Ave.:geo:-117.7142522,34.099908
END:VEVENT
BEGIN:VEVENT
DTSTART;TZID=America/Los_Angeles:20181015T161500
DTEND;TZID=America/Los_Angeles:20181015T171500
DTSTAMP:20260425T061644
CREATED:20180911T004755Z
LAST-MODIFIED:20180927T002145Z
UID:525-1539620100-1539623700@colleges.claremont.edu
SUMMARY:Agent-Based and Continuous Models of Locust Hopper Bands: The Role of Intermittent Motion\, Alignment\, Attraction and Repulsion (Andrew J. Bernoff\, HMC)
DESCRIPTION:Locust swarms pose a major threat to agriculture\, notably in northern Africa and the Middle East. In the early stages of aggregation\, locusts form hopper bands. These are coordinated groups that march in columnar structures that are often kilometers long and may contain millions of individuals. We propose a model for the formation of locust hopper bands that incorporates intermittent motion\, alignment with neighbors\, and social attraction\, all behaviors that have been validated in experiments. Using a particle-in-cell computational method\, we simulate swarms of up to a million individuals\, which is several orders of magnitude larger than what has previously appeared in the locust modeling literature. We observe hopper bands in this model forming as a fingering instability. Our model also allows homogenization to yield a system of partial integro-differential evolution equations. We identify a bifurcation from a uniform marching state to columnar structures\, suggestive of the formation of hopper bands.
URL:https://colleges.claremont.edu/ccms/event/applied-math-talk-given-by-prof-andrew-j-bernoff-hmc/
LOCATION:Emmy Noether Room\, Millikan 1021\, Pomona College\, 610 N. College Ave.\, Claremont\, California\, 91711
CATEGORIES:Applied Math Seminar
GEO:34.099908;-117.7142522
X-APPLE-STRUCTURED-LOCATION;VALUE=URI;X-ADDRESS=Emmy Noether Room Millikan 1021 Pomona College 610 N. College Ave. Claremont California 91711;X-APPLE-RADIUS=500;X-TITLE=610 N. College Ave.:geo:-117.7142522,34.099908
END:VEVENT
BEGIN:VEVENT
DTSTART;TZID=America/Los_Angeles:20180917T161500
DTEND;TZID=America/Los_Angeles:20180917T171500
DTSTAMP:20260425T061644
CREATED:20180828T201223Z
LAST-MODIFIED:20180926T235724Z
UID:481-1537200900-1537204500@colleges.claremont.edu
SUMMARY:Diffusion\, Social Networks\, and Logic (Pavel Naumov\, CMC)
DESCRIPTION:Once a new commercial product\, technology\, political opinion\, or social norm is adopted by a few people\, these few often put peer pressure on others to consider adopting it as well. Those who adopt next put even more pressure on the rest of the population. This cascading “epidemic” effect is often called diffusion in social networks. There are many natural questions that can be asked about diffusion. Which initial group of people should get “infected” by a new product to ensure its adoption by the largest possible group? Which group should be convinced that an idea is bad\, in order to avoid its wide spread? How does marketing affect the diffusion? In this talk I will introduce the most commonly used mathematical model of diffusion and talk about several of my papers on logical systems that capture properties of this model.
URL:https://colleges.claremont.edu/ccms/event/applied-math-talk-given-by-prof-pavel-naumov-cmc/
LOCATION:Emmy Noether Room\, Millikan 1021\, Pomona College\, 610 N. College Ave.\, Claremont\, California\, 91711
CATEGORIES:Applied Math Seminar
GEO:34.099908;-117.7142522
X-APPLE-STRUCTURED-LOCATION;VALUE=URI;X-ADDRESS=Emmy Noether Room Millikan 1021 Pomona College 610 N. College Ave. Claremont California 91711;X-APPLE-RADIUS=500;X-TITLE=610 N. College Ave.:geo:-117.7142522,34.099908
END:VEVENT
BEGIN:VEVENT
DTSTART;TZID=America/Los_Angeles:20180910T161500
DTEND;TZID=America/Los_Angeles:20180910T171500
DTSTAMP:20260425T061644
CREATED:20180828T000627Z
LAST-MODIFIED:20180828T000954Z
UID:473-1536596100-1536599700@colleges.claremont.edu
SUMMARY:Applied math organizational meeting
DESCRIPTION:We will have an organizational meeting for the applied math seminar today. Anyone who is interested in suggesting speakers and/or organizing applied math seminar is welcome to come. 
URL:https://colleges.claremont.edu/ccms/event/applied-math-organizational-meeting/
LOCATION:Emmy Noether Room\, Millikan 1021\, Pomona College\, 610 N. College Ave.\, Claremont\, California\, 91711
CATEGORIES:Applied Math Seminar
GEO:34.099908;-117.7142522
X-APPLE-STRUCTURED-LOCATION;VALUE=URI;X-ADDRESS=Emmy Noether Room Millikan 1021 Pomona College 610 N. College Ave. Claremont California 91711;X-APPLE-RADIUS=500;X-TITLE=610 N. College Ave.:geo:-117.7142522,34.099908
END:VEVENT
END:VCALENDAR