BEGIN:VCALENDAR
VERSION:2.0
PRODID:-//Muslim Student Association - ECPv6.15.17.1//NONSGML v1.0//EN
CALSCALE:GREGORIAN
METHOD:PUBLISH
X-WR-CALNAME:Muslim Student Association
X-ORIGINAL-URL:https://colleges.claremont.edu/muslimlife
X-WR-CALDESC:Events for Muslim Student Association
REFRESH-INTERVAL;VALUE=DURATION:PT1H
X-Robots-Tag:noindex
X-PUBLISHED-TTL:PT1H
BEGIN:VTIMEZONE
TZID:UTC
BEGIN:STANDARD
TZOFFSETFROM:+0000
TZOFFSETTO:+0000
TZNAME:UTC
DTSTART:20210101T000000
END:STANDARD
END:VTIMEZONE
BEGIN:VEVENT
DTSTART;TZID=UTC:20220408T120000
DTEND;TZID=UTC:20220408T133000
DTSTAMP:20260420T180134
CREATED:20220402T020948Z
LAST-MODIFIED:20220402T021618Z
UID:52-1649419200-1649424600@colleges.claremont.edu
SUMMARY:Jummah and Lunch
DESCRIPTION:
URL:https://colleges.claremont.edu/muslimlife/event/jummah-and-lunch/2022-04-08/
LOCATION:Tents on Tenth\, Dartmouth and Tenth Street\, Claremont\, CA\, 91711\, United States
ORGANIZER;CN="The Chaplains Office":MAILTO:shaila.andrabi@claremont.edu
END:VEVENT
END:VCALENDAR