BEGIN:VCALENDAR
VERSION:2.0
PRODID:-//The Hive - ECPv6.15.17.1//NONSGML v1.0//EN
CALSCALE:GREGORIAN
METHOD:PUBLISH
X-WR-CALNAME:The Hive
X-ORIGINAL-URL:https://colleges.claremont.edu/thehive
X-WR-CALDESC:Events for The Hive
REFRESH-INTERVAL;VALUE=DURATION:PT1H
X-Robots-Tag:noindex
X-PUBLISHED-TTL:PT1H
BEGIN:VTIMEZONE
TZID:America/Los_Angeles
BEGIN:DAYLIGHT
TZOFFSETFROM:-0800
TZOFFSETTO:-0700
TZNAME:PDT
DTSTART:20220313T100000
END:DAYLIGHT
BEGIN:STANDARD
TZOFFSETFROM:-0700
TZOFFSETTO:-0800
TZNAME:PST
DTSTART:20221106T090000
END:STANDARD
BEGIN:DAYLIGHT
TZOFFSETFROM:-0800
TZOFFSETTO:-0700
TZNAME:PDT
DTSTART:20230312T100000
END:DAYLIGHT
BEGIN:STANDARD
TZOFFSETFROM:-0700
TZOFFSETTO:-0800
TZNAME:PST
DTSTART:20231105T090000
END:STANDARD
BEGIN:DAYLIGHT
TZOFFSETFROM:-0800
TZOFFSETTO:-0700
TZNAME:PDT
DTSTART:20240310T100000
END:DAYLIGHT
BEGIN:STANDARD
TZOFFSETFROM:-0700
TZOFFSETTO:-0800
TZNAME:PST
DTSTART:20241103T090000
END:STANDARD
END:VTIMEZONE
BEGIN:VEVENT
DTSTART;TZID=America/Los_Angeles:20231103T153000
DTEND;TZID=America/Los_Angeles:20231103T170000
DTSTAMP:20260419T163826
CREATED:20230829T210633Z
LAST-MODIFIED:20231102T162333Z
UID:4506-1699025400-1699030800@colleges.claremont.edu
SUMMARY:Product Management
DESCRIPTION:Learn what product management is\, what it’s like to be a product manager\, and what types of companies hire them. Experience this hands-on\, interactive dive into a real-life company case study. \nRSVP required – Click to register.
URL:https://colleges.claremont.edu/thehive/event/product-management-2/
LOCATION:CA
ATTACH;FMTTYPE=image/png:https://colleges.claremont.edu/thehive/wp-content/uploads/sites/47/2023/08/product-management-copy.png
END:VEVENT
END:VCALENDAR