BEGIN:VCALENDAR
VERSION:2.0
PRODID:-//The Hive - ECPv6.15.17.1//NONSGML v1.0//EN
CALSCALE:GREGORIAN
METHOD:PUBLISH
X-WR-CALNAME:The Hive
X-ORIGINAL-URL:https://colleges.claremont.edu/thehive
X-WR-CALDESC:Events for The Hive
REFRESH-INTERVAL;VALUE=DURATION:PT1H
X-Robots-Tag:noindex
X-PUBLISHED-TTL:PT1H
BEGIN:VTIMEZONE
TZID:America/Los_Angeles
BEGIN:DAYLIGHT
TZOFFSETFROM:-0800
TZOFFSETTO:-0700
TZNAME:PDT
DTSTART:20230312T100000
END:DAYLIGHT
BEGIN:STANDARD
TZOFFSETFROM:-0700
TZOFFSETTO:-0800
TZNAME:PST
DTSTART:20231105T090000
END:STANDARD
BEGIN:DAYLIGHT
TZOFFSETFROM:-0800
TZOFFSETTO:-0700
TZNAME:PDT
DTSTART:20240310T100000
END:DAYLIGHT
BEGIN:STANDARD
TZOFFSETFROM:-0700
TZOFFSETTO:-0800
TZNAME:PST
DTSTART:20241103T090000
END:STANDARD
BEGIN:DAYLIGHT
TZOFFSETFROM:-0800
TZOFFSETTO:-0700
TZNAME:PDT
DTSTART:20250309T100000
END:DAYLIGHT
BEGIN:STANDARD
TZOFFSETFROM:-0700
TZOFFSETTO:-0800
TZNAME:PST
DTSTART:20251102T090000
END:STANDARD
END:VTIMEZONE
BEGIN:VEVENT
DTSTART;TZID=America/Los_Angeles:20241022T180000
DTEND;TZID=America/Los_Angeles:20241022T193000
DTSTAMP:20260422T001651
CREATED:20240809T191122Z
LAST-MODIFIED:20240924T212749Z
UID:4808-1729620000-1729625400@colleges.claremont.edu
SUMMARY:Creative Policy Design for Social Change
DESCRIPTION:Students are introduced to innovative approaches to policy design aimed at addressing social justice issues through a human-centered approach with Ph.D. Student\, Tiffany Shao. Participants engage in group activities\, discussions\, and brief lectures to develop policies that are responsive to community needs\, culturally sensitive\, and grounded in evidence. \n \nTiffany Shao is a Ph.D. student in the Psychology program at Claremont Graduate University. Her research primarily focuses on topics at the intersection of law and psychology\, specifically how racial attitudes\, stereotypes\, and prejudice influence decisions made in the criminal legal system. She is committed to exploring innovative approaches for crafting evidence-based policies that are responsive to community needs \nRSVP Required — Click here to register!
URL:https://colleges.claremont.edu/thehive/event/creative-policy-design-for-social-change/
LOCATION:The Hive – 130 E 7th Street\, Claremont\, CA 91711\, 130 E. 7th St\, Claremont\, CA\, 91711\, United States
ATTACH;FMTTYPE=image/png:https://colleges.claremont.edu/thehive/wp-content/uploads/sites/47/2024/08/Creative-Policy-Design-for-Social-Change-1.png
GEO:34.1006118;-117.7144419
X-APPLE-STRUCTURED-LOCATION;VALUE=URI;X-ADDRESS=The Hive – 130 E 7th Street Claremont CA 91711 130 E. 7th St Claremont CA 91711 United States;X-APPLE-RADIUS=500;X-TITLE=130 E. 7th St:geo:-117.7144419,34.1006118
END:VEVENT
END:VCALENDAR