BEGIN:VCALENDAR
VERSION:2.0
PRODID:-//The Hive - ECPv6.15.17.1//NONSGML v1.0//EN
CALSCALE:GREGORIAN
METHOD:PUBLISH
X-WR-CALNAME:The Hive
X-ORIGINAL-URL:https://colleges.claremont.edu/thehive
X-WR-CALDESC:Events for The Hive
REFRESH-INTERVAL;VALUE=DURATION:PT1H
X-Robots-Tag:noindex
X-PUBLISHED-TTL:PT1H
BEGIN:VTIMEZONE
TZID:America/Los_Angeles
BEGIN:DAYLIGHT
TZOFFSETFROM:-0800
TZOFFSETTO:-0700
TZNAME:PDT
DTSTART:20240310T100000
END:DAYLIGHT
BEGIN:STANDARD
TZOFFSETFROM:-0700
TZOFFSETTO:-0800
TZNAME:PST
DTSTART:20241103T090000
END:STANDARD
BEGIN:DAYLIGHT
TZOFFSETFROM:-0800
TZOFFSETTO:-0700
TZNAME:PDT
DTSTART:20250309T100000
END:DAYLIGHT
BEGIN:STANDARD
TZOFFSETFROM:-0700
TZOFFSETTO:-0800
TZNAME:PST
DTSTART:20251102T090000
END:STANDARD
BEGIN:DAYLIGHT
TZOFFSETFROM:-0800
TZOFFSETTO:-0700
TZNAME:PDT
DTSTART:20260308T100000
END:DAYLIGHT
BEGIN:STANDARD
TZOFFSETFROM:-0700
TZOFFSETTO:-0800
TZNAME:PST
DTSTART:20261101T090000
END:STANDARD
END:VTIMEZONE
BEGIN:VEVENT
DTSTART;TZID=America/Los_Angeles:20250418T130000
DTEND;TZID=America/Los_Angeles:20250418T143000
DTSTAMP:20260422T001757
CREATED:20250121T232339Z
LAST-MODIFIED:20250127T215425Z
UID:5054-1744981200-1744986600@colleges.claremont.edu
SUMMARY:Cyanotypes + Shibori Tie-Dye: A Once-in-a-Blue-Moon Double Event
DESCRIPTION:Experience the art and culture behind this historically rich Japanese tie-dye method that influenced 1960s counterculture\, 1970s art + fashion\, and 2025 artmaking. We’ll creatively use different materials and techniques to unfold beautiful and unexpected patterns out of the blue! \nRSVP Recommended — Click to Register!
URL:https://colleges.claremont.edu/thehive/event/cyanotypes-shibori-tie-dye-a-once-in-a-blue-moon-double-event/
LOCATION:CA
ATTACH;FMTTYPE=image/png:https://colleges.claremont.edu/thehive/wp-content/uploads/sites/47/2025/01/CynotypesShibori.png
END:VEVENT
END:VCALENDAR