BEGIN:VCALENDAR
VERSION:2.0
PRODID:-//The Hive - ECPv6.15.17.1//NONSGML v1.0//EN
CALSCALE:GREGORIAN
METHOD:PUBLISH
X-ORIGINAL-URL:https://colleges.claremont.edu/thehive
X-WR-CALDESC:Events for The Hive
REFRESH-INTERVAL;VALUE=DURATION:PT1H
X-Robots-Tag:noindex
X-PUBLISHED-TTL:PT1H
BEGIN:VTIMEZONE
TZID:America/Los_Angeles
BEGIN:DAYLIGHT
TZOFFSETFROM:-0800
TZOFFSETTO:-0700
TZNAME:PDT
DTSTART:20150308T100000
END:DAYLIGHT
BEGIN:STANDARD
TZOFFSETFROM:-0700
TZOFFSETTO:-0800
TZNAME:PST
DTSTART:20151101T090000
END:STANDARD
BEGIN:DAYLIGHT
TZOFFSETFROM:-0800
TZOFFSETTO:-0700
TZNAME:PDT
DTSTART:20160313T100000
END:DAYLIGHT
BEGIN:STANDARD
TZOFFSETFROM:-0700
TZOFFSETTO:-0800
TZNAME:PST
DTSTART:20161106T090000
END:STANDARD
BEGIN:DAYLIGHT
TZOFFSETFROM:-0800
TZOFFSETTO:-0700
TZNAME:PDT
DTSTART:20170312T100000
END:DAYLIGHT
BEGIN:STANDARD
TZOFFSETFROM:-0700
TZOFFSETTO:-0800
TZNAME:PST
DTSTART:20171105T090000
END:STANDARD
BEGIN:DAYLIGHT
TZOFFSETFROM:-0800
TZOFFSETTO:-0700
TZNAME:PDT
DTSTART:20180311T100000
END:DAYLIGHT
BEGIN:STANDARD
TZOFFSETFROM:-0700
TZOFFSETTO:-0800
TZNAME:PST
DTSTART:20181104T090000
END:STANDARD
END:VTIMEZONE
BEGIN:VEVENT
DTSTART;TZID=America/Los_Angeles:20170202T191500
DTEND;TZID=America/Los_Angeles:20170202T200000
DTSTAMP:20260422T000525
CREATED:20200411T051127Z
LAST-MODIFIED:20200411T051127Z
UID:1360-1486062900-1486065600@colleges.claremont.edu
SUMMARY:5C Lego Interest Meeting
DESCRIPTION:The interest meeting for the first LEGO-related club on the 5Cs. Stop by to see what we are doing\, what our goals are and how can you participate to make our club better. \nThe Hive is accessible through the entrance facing 7th Street (north entrance)\, the entrance facing College Ave (west entrance)\, and the entrance adjacent to Millikan Laboratory and the Cowart ITS building (east entrance). For accommodations\, please contact the Hive via Facebook message\, email (hive@claremont.edu)\, or phone call (909-607-9248).
URL:https://colleges.claremont.edu/thehive/event/5c-lego-interest-meeting/
LOCATION:CA
CATEGORIES:At the Hive,Group Meetings at the Hive
ATTACH;FMTTYPE=image/jpeg:https://colleges.claremont.edu/thehive/wp-content/uploads/sites/47/2020/04/16300343_1883255751909337_5617292989480891690_o.jpg
END:VEVENT
BEGIN:VEVENT
DTSTART;TZID=America/Los_Angeles:20161119T130000
DTEND;TZID=America/Los_Angeles:20161119T143000
DTSTAMP:20260422T000525
CREATED:20200411T051101Z
LAST-MODIFIED:20200411T051101Z
UID:1330-1479560400-1479565800@colleges.claremont.edu
SUMMARY:5C Clubs Mixer
DESCRIPTION:heeeeey 😉 is your club single and ready to mingle?? \n…well\, the Pomona Student Union along with your local Pomona\, CMC\, and Pitzer student governments are hosting a mixer for all clubs and orgs across the Claremont Colleges (5C and 1C clubs are all invited)! This is meant to be a space to make connections with clubs across the 5Cs and work on collaborations for future events. (And\, just to be clear\, this event is meant for club leaders or people who are involved enough with a club to know its plans and programming for the next year.) \nWe’ll have FREE BOBA AND SHAKES\, so come through and maybe meet the club of your life! \nRSVP HERE: https://docs.google.com/a/aspc.pomona.edu/forms/d/e/1FAIpQLSfxLG8_IeNQAaAD97GjIijVwUL8ue5APsod7TnHi3oKp-EGQA/viewform \nFMI: clubs@aspc.pomona.edu
URL:https://colleges.claremont.edu/thehive/event/5c-clubs-mixer/
LOCATION:CA
CATEGORIES:Group Meetings at the Hive,With the Hive
ATTACH;FMTTYPE=image/jpeg:https://colleges.claremont.edu/thehive/wp-content/uploads/sites/47/2020/04/14980697_1536482709701739_154751668757712924_n.jpg
END:VEVENT
BEGIN:VEVENT
DTSTART;TZID=America/Los_Angeles:20170213T200000
DTEND;TZID=America/Los_Angeles:20170213T210000
DTSTAMP:20260422T000525
CREATED:20200411T051141Z
LAST-MODIFIED:20200411T051141Z
UID:1376-1487016000-1487019600@colleges.claremont.edu
SUMMARY:Pressures in the API/A Community: An AAMP x Thrive event
DESCRIPTION:Have you ever felt like you could never live up to your parents’ expectations and the sacrifices that your parents have made? Do you feel uncomfortable bringing up mental health with your family? Have peers assumed your accomplishments due to your asian identity? If any of these questions resonate with you\, come to our event and share! Popcorn will be provided ^.^ \n“The model minority mythology positions API/A’s as well-adjusted\, well-mannered\, smart\, hardworking\, and from financially well-off families\, cloaking the very real struggles and challenges these students face.”
URL:https://colleges.claremont.edu/thehive/event/pressures-apia-community-aamp-x-thrive-event/
LOCATION:The Hive – 130 E 7th Street\, Claremont\, CA 91711\, 130 E. 7th St\, Claremont\, CA\, 91711\, United States
CATEGORIES:At the Hive,Group Meetings at the Hive
ATTACH;FMTTYPE=image/jpeg:https://colleges.claremont.edu/thehive/wp-content/uploads/sites/47/2020/04/16665948_215933825543832_1476333375102008264_o.jpg
GEO:34.1006118;-117.7144419
X-APPLE-STRUCTURED-LOCATION;VALUE=URI;X-ADDRESS=The Hive – 130 E 7th Street Claremont CA 91711 130 E. 7th St Claremont CA 91711 United States;X-APPLE-RADIUS=500;X-TITLE=130 E. 7th St:geo:-117.7144419,34.1006118
END:VEVENT
BEGIN:VEVENT
DTSTART;TZID=America/Los_Angeles:20170217T170000
DTEND;TZID=America/Los_Angeles:20170217T180000
DTSTAMP:20260422T000525
CREATED:20200411T051141Z
LAST-MODIFIED:20200411T051141Z
UID:1378-1487350800-1487354400@colleges.claremont.edu
SUMMARY:Edge of Town - Workshop #1
DESCRIPTION:Hello! EoT is a new 5C design magazine to be published this semester. This event will be our second meeting! If you couldn’t make the first\, come by a half hour before the event (4:30pm) and we’ll update you. \nEVENT DESCRIPTION\nThis workshop is meant to help those interested in contributing essays or other forms of written content to Edge of Town. Artists/graphic designers are also invited – see note below. \nOur objective on Friday will be to work out the organization of your piece (not to brainstorm). We will divide into small groups and start drafting out outlines. This will also be an opportunity for people with similar ideas to meet each other and potentially plan to co-write a piece. \nPlease come with your ideas mapped out and ideally with some light research to support your article. Stop by anyway if you don’t end up having time to do this! \nWe are also asking artists\, graphic designers\, and photographers to attend for two reasons: 1. If you plan on contributing a standalone art piece\, this could be an opportunity for you to work through your ideas with others. 2. We will need creative content to reflect the text\, so it will be important for you to be interacting with writers regularly. \nMake sure to keep up to date with us!\nfb.me/edgeoftown.claremont \nQuestions/comments:\ndchua9573@scrippscollege.edu
URL:https://colleges.claremont.edu/thehive/event/edge-town-workshop-1/
LOCATION:CA
CATEGORIES:At the Hive,Group Meetings at the Hive
ATTACH;FMTTYPE=image/jpeg:https://colleges.claremont.edu/thehive/wp-content/uploads/sites/47/2020/04/16700462_399942057027040_7904463894063470113_o.jpg
ORGANIZER;CN="Dominique Chua":MAILTO:dchua9573@scrippscollege.edu
END:VEVENT
BEGIN:VEVENT
DTSTART;TZID=America/Los_Angeles:20160322T200000
DTEND;TZID=America/Los_Angeles:20160322T210000
DTSTAMP:20260422T000525
CREATED:20200411T051012Z
LAST-MODIFIED:20200411T051012Z
UID:1228-1458676800-1458680400@colleges.claremont.edu
SUMMARY:Thrive @ The Hive
DESCRIPTION:
URL:https://colleges.claremont.edu/thehive/event/4135/
LOCATION:The Hive – 130 E 7th Street\, Claremont\, CA 91711\, 130 E. 7th St\, Claremont\, CA\, 91711\, United States
CATEGORIES:Group Meetings at the Hive
ATTACH;FMTTYPE=image/jpeg:https://colleges.claremont.edu/thehive/wp-content/uploads/sites/47/2020/04/12118879_419668801575679_8026485723509625725_n.jpg
GEO:34.1006118;-117.7144419
X-APPLE-STRUCTURED-LOCATION;VALUE=URI;X-ADDRESS=The Hive – 130 E 7th Street Claremont CA 91711 130 E. 7th St Claremont CA 91711 United States;X-APPLE-RADIUS=500;X-TITLE=130 E. 7th St:geo:-117.7144419,34.1006118
END:VEVENT
END:VCALENDAR