BEGIN:VCALENDAR
VERSION:2.0
PRODID:-//The Hive - ECPv6.15.17.1//NONSGML v1.0//EN
CALSCALE:GREGORIAN
METHOD:PUBLISH
X-ORIGINAL-URL:https://colleges.claremont.edu/thehive
X-WR-CALDESC:Events for The Hive
REFRESH-INTERVAL;VALUE=DURATION:PT1H
X-Robots-Tag:noindex
X-PUBLISHED-TTL:PT1H
BEGIN:VTIMEZONE
TZID:America/Los_Angeles
BEGIN:DAYLIGHT
TZOFFSETFROM:-0800
TZOFFSETTO:-0700
TZNAME:PDT
DTSTART:20230312T100000
END:DAYLIGHT
BEGIN:STANDARD
TZOFFSETFROM:-0700
TZOFFSETTO:-0800
TZNAME:PST
DTSTART:20231105T090000
END:STANDARD
BEGIN:DAYLIGHT
TZOFFSETFROM:-0800
TZOFFSETTO:-0700
TZNAME:PDT
DTSTART:20240310T100000
END:DAYLIGHT
BEGIN:STANDARD
TZOFFSETFROM:-0700
TZOFFSETTO:-0800
TZNAME:PST
DTSTART:20241103T090000
END:STANDARD
BEGIN:DAYLIGHT
TZOFFSETFROM:-0800
TZOFFSETTO:-0700
TZNAME:PDT
DTSTART:20250309T100000
END:DAYLIGHT
BEGIN:STANDARD
TZOFFSETFROM:-0700
TZOFFSETTO:-0800
TZNAME:PST
DTSTART:20251102T090000
END:STANDARD
END:VTIMEZONE
BEGIN:VEVENT
DTSTART;TZID=America/Los_Angeles:20240301T150000
DTEND;TZID=America/Los_Angeles:20240301T170000
DTSTAMP:20260425T082906
CREATED:20240111T175241Z
LAST-MODIFIED:20240111T175241Z
UID:4638-1709305200-1709312400@colleges.claremont.edu
SUMMARY:Stacked Wooden Sculptures
DESCRIPTION:Discover the endless possibilities of turning scrap wood and found wood into both abstract art and functional items. We’ll learn various techniques for stacking and combining these pieces to create cohesive forms\, while exploring the balance between abstract beauty and functional design. Projects include crafting pure sculptures\, as well as innovative pencil and necklace holders that not only serve a purpose but also stand as personal expression pieces. We’ll also discuss form\, material coherence\, and the value of upcycled materials\, aesthetic and beyond. Perfect for anyone interested in eco-friendly art\, woodworking\, or simply looking for a creative way to repurpose materials. \nRegistration required! \nClick here to RSVP!
URL:https://colleges.claremont.edu/thehive/event/stacked-wooden-sculptures/
LOCATION:The Hive – 130 E 7th Street\, Claremont\, CA 91711\, 130 E. 7th St\, Claremont\, CA\, 91711\, United States
ATTACH;FMTTYPE=image/png:https://colleges.claremont.edu/thehive/wp-content/uploads/sites/47/2024/01/Stacked-Wooden-Sculptures.png
GEO:34.1006118;-117.7144419
X-APPLE-STRUCTURED-LOCATION;VALUE=URI;X-ADDRESS=The Hive – 130 E 7th Street Claremont CA 91711 130 E. 7th St Claremont CA 91711 United States;X-APPLE-RADIUS=500;X-TITLE=130 E. 7th St:geo:-117.7144419,34.1006118
END:VEVENT
BEGIN:VEVENT
DTSTART;TZID=America/Los_Angeles:20240304T183000
DTEND;TZID=America/Los_Angeles:20240304T203000
DTSTAMP:20260425T082906
CREATED:20240129T062925Z
LAST-MODIFIED:20240129T062925Z
UID:4699-1709577000-1709584200@colleges.claremont.edu
SUMMARY:Screen Printing Skill Share
DESCRIPTION:Do you dream of recording your own music or hosting your own podcast? Our SoundBox recording studio is the perfect first step on that path. Learn how to work with audio equipment and software from your peers at the Hive. \nRSVP Required. \nRSVP Here!
URL:https://colleges.claremont.edu/thehive/event/screen-printing-skill-share-4/
LOCATION:The Hive – 130 E 7th Street\, Claremont\, CA 91711\, 130 E. 7th St\, Claremont\, CA\, 91711\, United States
ATTACH;FMTTYPE=image/png:https://colleges.claremont.edu/thehive/wp-content/uploads/sites/47/2024/01/screen-printing-skillshare-eventbrite-copy-1.png
GEO:34.1006118;-117.7144419
X-APPLE-STRUCTURED-LOCATION;VALUE=URI;X-ADDRESS=The Hive – 130 E 7th Street Claremont CA 91711 130 E. 7th St Claremont CA 91711 United States;X-APPLE-RADIUS=500;X-TITLE=130 E. 7th St:geo:-117.7144419,34.1006118
END:VEVENT
BEGIN:VEVENT
DTSTART;TZID=America/Los_Angeles:20240305T190000
DTEND;TZID=America/Los_Angeles:20240305T203000
DTSTAMP:20260425T082906
CREATED:20240111T175527Z
LAST-MODIFIED:20240111T175527Z
UID:4640-1709665200-1709670600@colleges.claremont.edu
SUMMARY:Publishing for Creatives: Where Do I Start?
DESCRIPTION:From a box in your garage to the printing press\, from your Notes App to the anthology! In this hands-on workshop\, Curious Publishing founder Rebecca Ustrell and poet linett luna tovar will guide you through publishing tips\, best practices\, and exercises for getting your work published. \nRegistration required! \nClick here to RSVP!
URL:https://colleges.claremont.edu/thehive/event/publishing-for-creatives-where-do-i-start/
LOCATION:The Hive – 130 E 7th Street\, Claremont\, CA 91711\, 130 E. 7th St\, Claremont\, CA\, 91711\, United States
ATTACH;FMTTYPE=image/png:https://colleges.claremont.edu/thehive/wp-content/uploads/sites/47/2024/01/publishing-for-creatives-where-do-i-start.png
GEO:34.1006118;-117.7144419
X-APPLE-STRUCTURED-LOCATION;VALUE=URI;X-ADDRESS=The Hive – 130 E 7th Street Claremont CA 91711 130 E. 7th St Claremont CA 91711 United States;X-APPLE-RADIUS=500;X-TITLE=130 E. 7th St:geo:-117.7144419,34.1006118
END:VEVENT
BEGIN:VEVENT
DTSTART;TZID=America/Los_Angeles:20240320T183000
DTEND;TZID=America/Los_Angeles:20240320T203000
DTSTAMP:20260425T082906
CREATED:20240129T063055Z
LAST-MODIFIED:20240129T063055Z
UID:4700-1710959400-1710966600@colleges.claremont.edu
SUMMARY:Sound Recording Skill Share
DESCRIPTION:Do you dream of recording your own music or hosting your own podcast? Our SoundBox recording studio is the perfect first step on that path. Learn how to work with audio equipment and software from your peers at the Hive. \nRSVP Required. \nRSVP Here! \n 
URL:https://colleges.claremont.edu/thehive/event/sound-recording-skill-share-20/
LOCATION:The Hive – 130 E 7th Street\, Claremont\, CA 91711\, 130 E. 7th St\, Claremont\, CA\, 91711\, United States
ATTACH;FMTTYPE=image/png:https://colleges.claremont.edu/thehive/wp-content/uploads/sites/47/2024/01/sound-recording-eventbrite-.png
GEO:34.1006118;-117.7144419
X-APPLE-STRUCTURED-LOCATION;VALUE=URI;X-ADDRESS=The Hive – 130 E 7th Street Claremont CA 91711 130 E. 7th St Claremont CA 91711 United States;X-APPLE-RADIUS=500;X-TITLE=130 E. 7th St:geo:-117.7144419,34.1006118
END:VEVENT
BEGIN:VEVENT
DTSTART;TZID=America/Los_Angeles:20240322T150000
DTEND;TZID=America/Los_Angeles:20240322T170000
DTSTAMP:20260425T082906
CREATED:20240112T192836Z
LAST-MODIFIED:20240112T210327Z
UID:4648-1711119600-1711126800@colleges.claremont.edu
SUMMARY:Concrete Casting
DESCRIPTION:Concrete\, often perceived as daunting and difficult to use\, is actually a flexible and approachable medium for creating lasting art. We’ll start with the basics\, learning how to correctly mix concrete to achieve the desired consistency and strength. We’ll then progress to the process of mold-making\, learning how to design and construct molds that shape creative visions. We’ll craft unique pots and plant holders\, perfect for adding a personalized touch to any home or garden. As we mix\, pour\, and mold\, we’ll gain insights into the practical aspects of working with concrete\, including tips for curing and finishing. \nBut don’t wear your Sunday best! 😉 \nRegistration required! \nClick here to RSVP!
URL:https://colleges.claremont.edu/thehive/event/concrete-casting/
LOCATION:The Hive – 130 E 7th Street\, Claremont\, CA 91711\, 130 E. 7th St\, Claremont\, CA\, 91711\, United States
ATTACH;FMTTYPE=image/png:https://colleges.claremont.edu/thehive/wp-content/uploads/sites/47/2024/01/Concrete-Casting.png
GEO:34.1006118;-117.7144419
X-APPLE-STRUCTURED-LOCATION;VALUE=URI;X-ADDRESS=The Hive – 130 E 7th Street Claremont CA 91711 130 E. 7th St Claremont CA 91711 United States;X-APPLE-RADIUS=500;X-TITLE=130 E. 7th St:geo:-117.7144419,34.1006118
END:VEVENT
BEGIN:VEVENT
DTSTART;TZID=America/Los_Angeles:20240325T183000
DTEND;TZID=America/Los_Angeles:20240325T203000
DTSTAMP:20260425T082906
CREATED:20240129T063248Z
LAST-MODIFIED:20240129T063248Z
UID:4701-1711391400-1711398600@colleges.claremont.edu
SUMMARY:Screen Printing Skill Share
DESCRIPTION:Screen printing is used by many\, from artists to fashion industry professionals. Find out what makes this medium so compelling for so many. \nRSVP Required. \nRSVP Here!
URL:https://colleges.claremont.edu/thehive/event/screen-printing-skill-share-5/
LOCATION:The Hive – 130 E 7th Street\, Claremont\, CA 91711\, 130 E. 7th St\, Claremont\, CA\, 91711\, United States
ATTACH;FMTTYPE=image/png:https://colleges.claremont.edu/thehive/wp-content/uploads/sites/47/2024/01/screen-printing-skillshare-eventbrite-copy-1.png
GEO:34.1006118;-117.7144419
X-APPLE-STRUCTURED-LOCATION;VALUE=URI;X-ADDRESS=The Hive – 130 E 7th Street Claremont CA 91711 130 E. 7th St Claremont CA 91711 United States;X-APPLE-RADIUS=500;X-TITLE=130 E. 7th St:geo:-117.7144419,34.1006118
END:VEVENT
BEGIN:VEVENT
DTSTART;TZID=America/Los_Angeles:20240327T183000
DTEND;TZID=America/Los_Angeles:20240327T203000
DTSTAMP:20260425T082906
CREATED:20240129T063428Z
LAST-MODIFIED:20240129T063428Z
UID:4702-1711564200-1711571400@colleges.claremont.edu
SUMMARY:Sewing Skill Share
DESCRIPTION:Learn the basics of sewing by hand and with a machine with a variety of materials used in creative ways. \nRSVP Required. \nRSVP Here!
URL:https://colleges.claremont.edu/thehive/event/sewing-skill-share-21/
LOCATION:The Hive – 130 E 7th Street\, Claremont\, CA 91711\, 130 E. 7th St\, Claremont\, CA\, 91711\, United States
ATTACH;FMTTYPE=image/png:https://colleges.claremont.edu/thehive/wp-content/uploads/sites/47/2024/01/sewing-skill-share-eventbrite-.png
GEO:34.1006118;-117.7144419
X-APPLE-STRUCTURED-LOCATION;VALUE=URI;X-ADDRESS=The Hive – 130 E 7th Street Claremont CA 91711 130 E. 7th St Claremont CA 91711 United States;X-APPLE-RADIUS=500;X-TITLE=130 E. 7th St:geo:-117.7144419,34.1006118
END:VEVENT
BEGIN:VEVENT
DTSTART;TZID=America/Los_Angeles:20240328T183000
DTEND;TZID=America/Los_Angeles:20240328T203000
DTSTAMP:20260425T082906
CREATED:20240129T063604Z
LAST-MODIFIED:20240129T063604Z
UID:4703-1711650600-1711657800@colleges.claremont.edu
SUMMARY:Building Skill Share
DESCRIPTION:Learn the basics and beyond of designing\, making\, and building in a world of materials using a variety of toolsLearn the basics and beyond of designing\, making\, and building in a world of materials using a variety of tools. \nRSVP Required. \nRSVP Here!
URL:https://colleges.claremont.edu/thehive/event/building-skill-share-3/
LOCATION:The Hive – 130 E 7th Street\, Claremont\, CA 91711\, 130 E. 7th St\, Claremont\, CA\, 91711\, United States
ATTACH;FMTTYPE=image/png:https://colleges.claremont.edu/thehive/wp-content/uploads/sites/47/2024/01/building-skill-share-eventbrite-1.png
GEO:34.1006118;-117.7144419
X-APPLE-STRUCTURED-LOCATION;VALUE=URI;X-ADDRESS=The Hive – 130 E 7th Street Claremont CA 91711 130 E. 7th St Claremont CA 91711 United States;X-APPLE-RADIUS=500;X-TITLE=130 E. 7th St:geo:-117.7144419,34.1006118
END:VEVENT
END:VCALENDAR