BEGIN:VCALENDAR
VERSION:2.0
PRODID:-//The Hive - ECPv6.15.17.1//NONSGML v1.0//EN
CALSCALE:GREGORIAN
METHOD:PUBLISH
X-WR-CALNAME:The Hive
X-ORIGINAL-URL:https://colleges.claremont.edu/thehive
X-WR-CALDESC:Events for The Hive
REFRESH-INTERVAL;VALUE=DURATION:PT1H
X-Robots-Tag:noindex
X-PUBLISHED-TTL:PT1H
BEGIN:VTIMEZONE
TZID:America/Los_Angeles
BEGIN:DAYLIGHT
TZOFFSETFROM:-0800
TZOFFSETTO:-0700
TZNAME:PDT
DTSTART:20210314T100000
END:DAYLIGHT
BEGIN:STANDARD
TZOFFSETFROM:-0700
TZOFFSETTO:-0800
TZNAME:PST
DTSTART:20211107T090000
END:STANDARD
BEGIN:DAYLIGHT
TZOFFSETFROM:-0800
TZOFFSETTO:-0700
TZNAME:PDT
DTSTART:20220313T100000
END:DAYLIGHT
BEGIN:STANDARD
TZOFFSETFROM:-0700
TZOFFSETTO:-0800
TZNAME:PST
DTSTART:20221106T090000
END:STANDARD
BEGIN:DAYLIGHT
TZOFFSETFROM:-0800
TZOFFSETTO:-0700
TZNAME:PDT
DTSTART:20230312T100000
END:DAYLIGHT
BEGIN:STANDARD
TZOFFSETFROM:-0700
TZOFFSETTO:-0800
TZNAME:PST
DTSTART:20231105T090000
END:STANDARD
END:VTIMEZONE
BEGIN:VEVENT
DTSTART;TZID=America/Los_Angeles:20220411T160000
DTEND;TZID=America/Los_Angeles:20220411T170000
DTSTAMP:20260422T161730
CREATED:20220112T192402Z
LAST-MODIFIED:20220131T202324Z
UID:3660-1649692800-1649696400@colleges.claremont.edu
SUMMARY:Talent Magnets: Urban Planning
DESCRIPTION:What’s a Talent Magnet? A city that offers access to nature\, good schools\, affordable housing\, and other amenities that attract workers. Join Dominic Endicott and HMC Professor Jeff Groves to discuss strategies for developing Talent Magnets in the post-remote work economy. \nRegistration required! \nRSVP on our Eventbrite page starting 3/7!
URL:https://colleges.claremont.edu/thehive/event/talent-magnets-urban-planning/
LOCATION:Studio 1 — The Hive\, 130 E 7th St\, Claremont\, 91711\, United States
ATTACH;FMTTYPE=image/png:https://colleges.claremont.edu/thehive/wp-content/uploads/sites/47/2022/01/urban-planning.png
END:VEVENT
BEGIN:VEVENT
DTSTART;TZID=America/Los_Angeles:20220412T180000
DTEND;TZID=America/Los_Angeles:20220412T200000
DTSTAMP:20260422T161730
CREATED:20220124T021412Z
LAST-MODIFIED:20220124T031130Z
UID:3690-1649786400-1649793600@colleges.claremont.edu
SUMMARY:Printmaking Skill Share
DESCRIPTION:Screen Printing is used by many\, from artists to fashion industry professionals. In our introductory skill shares\, find out what makes this medium so compelling for so many. \nRegistration required! \nRSVP on our Eventbrite page!
URL:https://colleges.claremont.edu/thehive/event/printmaking-skill-share-5/
LOCATION:CA\, United States
ATTACH;FMTTYPE=image/png:https://colleges.claremont.edu/thehive/wp-content/uploads/sites/47/2022/01/printmaking-skill-share.png
END:VEVENT
BEGIN:VEVENT
DTSTART;TZID=America/Los_Angeles:20220413T180000
DTEND;TZID=America/Los_Angeles:20220413T200000
DTSTAMP:20260422T161730
CREATED:20220124T183356Z
LAST-MODIFIED:20220412T171543Z
UID:3746-1649872800-1649880000@colleges.claremont.edu
SUMMARY:Metalsmithing Skill Share
DESCRIPTION:Make jewelry at our Metalsmithing skill share! Learn techniques to bend\, shape\, melt\, and join metal into beautiful designs. \nRegistration required! \nPlease RSVP on our Eventbrite page!
URL:https://colleges.claremont.edu/thehive/event/metalsmithing-skill-share-8/
LOCATION:CA\, United States
ATTACH;FMTTYPE=image/png:https://colleges.claremont.edu/thehive/wp-content/uploads/sites/47/2022/01/metalsmithing-skill-share.png
END:VEVENT
BEGIN:VEVENT
DTSTART;TZID=America/Los_Angeles:20220414T183000
DTEND;TZID=America/Los_Angeles:20220414T203000
DTSTAMP:20260422T161730
CREATED:20220211T190405Z
LAST-MODIFIED:20220408T171451Z
UID:3801-1649961000-1649968200@colleges.claremont.edu
SUMMARY:Laser Cutting Workshop
DESCRIPTION:This is a 2 part event: Part 1 takes place 4/14 6:30-8:30pm and Part 2 takes place 4/21 6:30-8:30pm \nDiscover the HMC Makerspace\, and learn how to cut\, etch\, and print designs on fabric\, wood\, cork\, and more in this two part workshop series! The first session will cover how to create designs for laser cutting and during the second session you will etch your designs into material! \nYou must register for BOTH occurrences of this event! \nPlease bring your own laptop with inkscape downloaded (it is free)! \nRSVP here!
URL:https://colleges.claremont.edu/thehive/event/laser-cutting-workshop-4/2022-04-14/
LOCATION:Mudd Makerspace – 1250 Platt Blvd.\, 1250 Platt Blvd.\, Claremont\, CA\, 91711\, United States
ATTACH;FMTTYPE=image/png:https://colleges.claremont.edu/thehive/wp-content/uploads/sites/47/2022/02/laser-cutting-2.png
END:VEVENT
BEGIN:VEVENT
DTSTART;TZID=America/Los_Angeles:20220416T133000
DTEND;TZID=America/Los_Angeles:20220416T163000
DTSTAMP:20260422T161730
CREATED:20210819T232920Z
LAST-MODIFIED:20220119T194850Z
UID:3211-1650115800-1650126600@colleges.claremont.edu
SUMMARY:Made @ the Hive: Shibori Tie-Dye
DESCRIPTION:We’ll learn how the art and culture behind this historically rich Japanese tie-dye method influenced 1960s counterculture\, 1970s art + fashion\, and 2022 artmaking. Let’s get creative using different materials\, techniques\, and red + magenta + violet dyes to unfold beautiful and unexpected patterns! \nRegistration required! \nRSVP on our Eventbrite page starting 3/7!
URL:https://colleges.claremont.edu/thehive/event/made-the-hive-shibori-tie-dye/
LOCATION:Commons — The Hive\, 130 E 7th St\, Claremont\, CA\, 91711\, United States
ATTACH;FMTTYPE=image/png:https://colleges.claremont.edu/thehive/wp-content/uploads/sites/47/2021/08/Shibori-tie-dye-2.png
END:VEVENT
END:VCALENDAR