BEGIN:VCALENDAR
VERSION:2.0
PRODID:-//The Hive - ECPv6.15.17.1//NONSGML v1.0//EN
CALSCALE:GREGORIAN
METHOD:PUBLISH
X-WR-CALNAME:The Hive
X-ORIGINAL-URL:https://colleges.claremont.edu/thehive
X-WR-CALDESC:Events for The Hive
REFRESH-INTERVAL;VALUE=DURATION:PT1H
X-Robots-Tag:noindex
X-PUBLISHED-TTL:PT1H
BEGIN:VTIMEZONE
TZID:America/Los_Angeles
BEGIN:DAYLIGHT
TZOFFSETFROM:-0800
TZOFFSETTO:-0700
TZNAME:PDT
DTSTART:20220313T100000
END:DAYLIGHT
BEGIN:STANDARD
TZOFFSETFROM:-0700
TZOFFSETTO:-0800
TZNAME:PST
DTSTART:20221106T090000
END:STANDARD
BEGIN:DAYLIGHT
TZOFFSETFROM:-0800
TZOFFSETTO:-0700
TZNAME:PDT
DTSTART:20230312T100000
END:DAYLIGHT
BEGIN:STANDARD
TZOFFSETFROM:-0700
TZOFFSETTO:-0800
TZNAME:PST
DTSTART:20231105T090000
END:STANDARD
BEGIN:DAYLIGHT
TZOFFSETFROM:-0800
TZOFFSETTO:-0700
TZNAME:PDT
DTSTART:20240310T100000
END:DAYLIGHT
BEGIN:STANDARD
TZOFFSETFROM:-0700
TZOFFSETTO:-0800
TZNAME:PST
DTSTART:20241103T090000
END:STANDARD
END:VTIMEZONE
BEGIN:VEVENT
DTSTART;TZID=America/Los_Angeles:20230206T160000
DTEND;TZID=America/Los_Angeles:20230206T180000
DTSTAMP:20260420T052857
CREATED:20230203T212420Z
LAST-MODIFIED:20230203T212420Z
UID:4323-1675699200-1675706400@colleges.claremont.edu
SUMMARY:Printmaking Skill Share
DESCRIPTION:Screen Printing is used by many\, from artists to fashion industry professionals. In our introductory skill shares\, find out what makes this medium so compelling for so many. \nExplore the basics of reproducible media with silkscreen printing. \nRegistration required! \nClick here to RSVP!\n 
URL:https://colleges.claremont.edu/thehive/event/printmaking-skill-share-19/
LOCATION:Print Lab — The Hive\, 130 E 7th St\, Claremont\, CA\, 91711\, United States
ATTACH;FMTTYPE=image/png:https://colleges.claremont.edu/thehive/wp-content/uploads/sites/47/2023/01/print-lab-skill-share.png
END:VEVENT
BEGIN:VEVENT
DTSTART;TZID=America/Los_Angeles:20230206T183000
DTEND;TZID=America/Los_Angeles:20230206T203000
DTSTAMP:20260420T052857
CREATED:20230120T001832Z
LAST-MODIFIED:20230120T011601Z
UID:4280-1675708200-1675715400@colleges.claremont.edu
SUMMARY:Woodworking Skill share
DESCRIPTION:Learn the basics of wood working and get your hands on saws\, drivers\, and bits. \nRegistration required! \nClick here to RSVP!
URL:https://colleges.claremont.edu/thehive/event/woodworking-skill-share-7/
LOCATION:Toolbox — The Hive\, 130 E 7th St.\, Claremont\, CA\, 91711\, United States
ATTACH;FMTTYPE=image/png:https://colleges.claremont.edu/thehive/wp-content/uploads/sites/47/2023/01/toolbox-skill-share-copy.png
GEO:34.1004361;-117.7143294
X-APPLE-STRUCTURED-LOCATION;VALUE=URI;X-ADDRESS=Toolbox — The Hive 130 E 7th St. Claremont CA 91711 United States;X-APPLE-RADIUS=500;X-TITLE=130 E 7th St.:geo:-117.7143294,34.1004361
END:VEVENT
BEGIN:VEVENT
DTSTART;TZID=America/Los_Angeles:20230207T170000
DTEND;TZID=America/Los_Angeles:20230207T183000
DTSTAMP:20260420T052857
CREATED:20230112T235956Z
LAST-MODIFIED:20230112T235956Z
UID:4232-1675789200-1675794600@colleges.claremont.edu
SUMMARY:Personal Portfolio Development
DESCRIPTION:Come learn tips on making an effective portfolio from graphic designer Becca Lofchie. Anyone can join\, whether you already have a portfolio or if you’re just starting to think about one for the first time. \nRegistration required! \nClick here to RSVP!
URL:https://colleges.claremont.edu/thehive/event/personal-portfolio-development/
LOCATION:The Hive – 130 E 7th Street\, Claremont\, CA 91711\, 130 E. 7th St\, Claremont\, CA\, 91711\, United States
ATTACH;FMTTYPE=image/png:https://colleges.claremont.edu/thehive/wp-content/uploads/sites/47/2023/01/personal-portfolio.png
GEO:34.1006118;-117.7144419
X-APPLE-STRUCTURED-LOCATION;VALUE=URI;X-ADDRESS=The Hive – 130 E 7th Street Claremont CA 91711 130 E. 7th St Claremont CA 91711 United States;X-APPLE-RADIUS=500;X-TITLE=130 E. 7th St:geo:-117.7144419,34.1006118
END:VEVENT
BEGIN:VEVENT
DTSTART;TZID=America/Los_Angeles:20230210T153000
DTEND;TZID=America/Los_Angeles:20230210T170000
DTSTAMP:20260420T052857
CREATED:20230112T231920Z
LAST-MODIFIED:20230112T231920Z
UID:4218-1676043000-1676048400@colleges.claremont.edu
SUMMARY:Made @ the Hive: Valentine's Day Crafting
DESCRIPTION:Valentines day is right around the corner! Grab a friend and join us to learn the art of candle making\, the perfect gift for those important people in your life. \nRegistration required! \nClick here to RSVP!
URL:https://colleges.claremont.edu/thehive/event/made-the-hive-valentines-day-crafting/
LOCATION:The Hive – 130 E 7th Street\, Claremont\, CA 91711\, 130 E. 7th St\, Claremont\, CA\, 91711\, United States
ATTACH;FMTTYPE=image/png:https://colleges.claremont.edu/thehive/wp-content/uploads/sites/47/2023/01/valentines-day.png
GEO:34.1006118;-117.7144419
X-APPLE-STRUCTURED-LOCATION;VALUE=URI;X-ADDRESS=The Hive – 130 E 7th Street Claremont CA 91711 130 E. 7th St Claremont CA 91711 United States;X-APPLE-RADIUS=500;X-TITLE=130 E. 7th St:geo:-117.7144419,34.1006118
END:VEVENT
END:VCALENDAR