BEGIN:VCALENDAR
VERSION:2.0
PRODID:-//The Hive - ECPv6.15.17.1//NONSGML v1.0//EN
CALSCALE:GREGORIAN
METHOD:PUBLISH
X-ORIGINAL-URL:https://colleges.claremont.edu/thehive
X-WR-CALDESC:Events for The Hive
REFRESH-INTERVAL;VALUE=DURATION:PT1H
X-Robots-Tag:noindex
X-PUBLISHED-TTL:PT1H
BEGIN:VTIMEZONE
TZID:America/Los_Angeles
BEGIN:DAYLIGHT
TZOFFSETFROM:-0800
TZOFFSETTO:-0700
TZNAME:PDT
DTSTART:20220313T100000
END:DAYLIGHT
BEGIN:STANDARD
TZOFFSETFROM:-0700
TZOFFSETTO:-0800
TZNAME:PST
DTSTART:20221106T090000
END:STANDARD
BEGIN:DAYLIGHT
TZOFFSETFROM:-0800
TZOFFSETTO:-0700
TZNAME:PDT
DTSTART:20230312T100000
END:DAYLIGHT
BEGIN:STANDARD
TZOFFSETFROM:-0700
TZOFFSETTO:-0800
TZNAME:PST
DTSTART:20231105T090000
END:STANDARD
BEGIN:DAYLIGHT
TZOFFSETFROM:-0800
TZOFFSETTO:-0700
TZNAME:PDT
DTSTART:20240310T100000
END:DAYLIGHT
BEGIN:STANDARD
TZOFFSETFROM:-0700
TZOFFSETTO:-0800
TZNAME:PST
DTSTART:20241103T090000
END:STANDARD
END:VTIMEZONE
BEGIN:VEVENT
DTSTART;TZID=America/Los_Angeles:20231010T183000
DTEND;TZID=America/Los_Angeles:20231010T203000
DTSTAMP:20260424T172650
CREATED:20230826T003212Z
LAST-MODIFIED:20230905T210554Z
UID:4472-1696962600-1696969800@colleges.claremont.edu
SUMMARY:Building Skill Share
DESCRIPTION:Learn the basics and beyond of designing\, making\, and building in a world of materials using a variety of tools. \nRSVP required – Click to register.
URL:https://colleges.claremont.edu/thehive/event/woodworking-skill-share-12/
LOCATION:The Hive – 130 E 7th Street\, Claremont\, CA 91711\, 130 E. 7th St\, Claremont\, CA\, 91711\, United States
ATTACH;FMTTYPE=image/png:https://colleges.claremont.edu/thehive/wp-content/uploads/sites/47/2023/08/building-skill-share-.png
GEO:34.1006118;-117.7144419
X-APPLE-STRUCTURED-LOCATION;VALUE=URI;X-ADDRESS=The Hive – 130 E 7th Street Claremont CA 91711 130 E. 7th St Claremont CA 91711 United States;X-APPLE-RADIUS=500;X-TITLE=130 E. 7th St:geo:-117.7144419,34.1006118
END:VEVENT
BEGIN:VEVENT
DTSTART;TZID=America/Los_Angeles:20231011T183000
DTEND;TZID=America/Los_Angeles:20231011T203000
DTSTAMP:20260424T172650
CREATED:20230826T004052Z
LAST-MODIFIED:20230829T231142Z
UID:4480-1697049000-1697056200@colleges.claremont.edu
SUMMARY:Sewing Skill Share
DESCRIPTION:Learn the basics of sewing by hand and with a machine from our student proctors. \nRSVP required – Click to register.
URL:https://colleges.claremont.edu/thehive/event/sewing-skill-share-18/
LOCATION:The Hive – 130 E 7th Street\, Claremont\, CA 91711\, 130 E. 7th St\, Claremont\, CA\, 91711\, United States
ATTACH;FMTTYPE=image/png:https://colleges.claremont.edu/thehive/wp-content/uploads/sites/47/2023/08/sewing-skill-share-copy.png
GEO:34.1006118;-117.7144419
X-APPLE-STRUCTURED-LOCATION;VALUE=URI;X-ADDRESS=The Hive – 130 E 7th Street Claremont CA 91711 130 E. 7th St Claremont CA 91711 United States;X-APPLE-RADIUS=500;X-TITLE=130 E. 7th St:geo:-117.7144419,34.1006118
END:VEVENT
END:VCALENDAR