BEGIN:VCALENDAR
VERSION:2.0
PRODID:-//The Hive - ECPv6.15.17.1//NONSGML v1.0//EN
CALSCALE:GREGORIAN
METHOD:PUBLISH
X-WR-CALNAME:The Hive
X-ORIGINAL-URL:https://colleges.claremont.edu/thehive
X-WR-CALDESC:Events for The Hive
REFRESH-INTERVAL;VALUE=DURATION:PT1H
X-Robots-Tag:noindex
X-PUBLISHED-TTL:PT1H
BEGIN:VTIMEZONE
TZID:America/Los_Angeles
BEGIN:DAYLIGHT
TZOFFSETFROM:-0800
TZOFFSETTO:-0700
TZNAME:PDT
DTSTART:20230312T100000
END:DAYLIGHT
BEGIN:STANDARD
TZOFFSETFROM:-0700
TZOFFSETTO:-0800
TZNAME:PST
DTSTART:20231105T090000
END:STANDARD
BEGIN:DAYLIGHT
TZOFFSETFROM:-0800
TZOFFSETTO:-0700
TZNAME:PDT
DTSTART:20240310T100000
END:DAYLIGHT
BEGIN:STANDARD
TZOFFSETFROM:-0700
TZOFFSETTO:-0800
TZNAME:PST
DTSTART:20241103T090000
END:STANDARD
BEGIN:DAYLIGHT
TZOFFSETFROM:-0800
TZOFFSETTO:-0700
TZNAME:PDT
DTSTART:20250309T100000
END:DAYLIGHT
BEGIN:STANDARD
TZOFFSETFROM:-0700
TZOFFSETTO:-0800
TZNAME:PST
DTSTART:20251102T090000
END:STANDARD
END:VTIMEZONE
BEGIN:VEVENT
DTSTART;TZID=America/Los_Angeles:20240125T190000
DTEND;TZID=America/Los_Angeles:20240125T203000
DTSTAMP:20260424T021224
CREATED:20240111T174217Z
LAST-MODIFIED:20240112T232504Z
UID:4626-1706209200-1706214600@colleges.claremont.edu
SUMMARY:Meet and Sketch (a stranger!)
DESCRIPTION:Interested in trying out life drawing while meeting a new friend? Look no further! Join us as we kick off the semester and sketch someone new! We will help you with the basics of sketching\, pair you up with a new friend\, and provide some laughs along the way. \nRegistration recommended! \nClick here to RSVP!
URL:https://colleges.claremont.edu/thehive/event/meet-and-sketch-a-stranger-2/
LOCATION:The Hive – 130 E 7th Street\, Claremont\, CA 91711\, 130 E. 7th St\, Claremont\, CA\, 91711\, United States
GEO:34.1006118;-117.7144419
X-APPLE-STRUCTURED-LOCATION;VALUE=URI;X-ADDRESS=The Hive – 130 E 7th Street Claremont CA 91711 130 E. 7th St Claremont CA 91711 United States;X-APPLE-RADIUS=500;X-TITLE=130 E. 7th St:geo:-117.7144419,34.1006118
END:VEVENT
END:VCALENDAR