BEGIN:VCALENDAR
VERSION:2.0
PRODID:-//The Hive - ECPv6.15.17.1//NONSGML v1.0//EN
CALSCALE:GREGORIAN
METHOD:PUBLISH
X-ORIGINAL-URL:https://colleges.claremont.edu/thehive
X-WR-CALDESC:Events for The Hive
REFRESH-INTERVAL;VALUE=DURATION:PT1H
X-Robots-Tag:noindex
X-PUBLISHED-TTL:PT1H
BEGIN:VTIMEZONE
TZID:America/Los_Angeles
BEGIN:DAYLIGHT
TZOFFSETFROM:-0800
TZOFFSETTO:-0700
TZNAME:PDT
DTSTART:20230312T100000
END:DAYLIGHT
BEGIN:STANDARD
TZOFFSETFROM:-0700
TZOFFSETTO:-0800
TZNAME:PST
DTSTART:20231105T090000
END:STANDARD
BEGIN:DAYLIGHT
TZOFFSETFROM:-0800
TZOFFSETTO:-0700
TZNAME:PDT
DTSTART:20240310T100000
END:DAYLIGHT
BEGIN:STANDARD
TZOFFSETFROM:-0700
TZOFFSETTO:-0800
TZNAME:PST
DTSTART:20241103T090000
END:STANDARD
BEGIN:DAYLIGHT
TZOFFSETFROM:-0800
TZOFFSETTO:-0700
TZNAME:PDT
DTSTART:20250309T100000
END:DAYLIGHT
BEGIN:STANDARD
TZOFFSETFROM:-0700
TZOFFSETTO:-0800
TZNAME:PST
DTSTART:20251102T090000
END:STANDARD
END:VTIMEZONE
BEGIN:VEVENT
DTSTART;TZID=America/Los_Angeles:20240131T183000
DTEND;TZID=America/Los_Angeles:20240131T203000
DTSTAMP:20260422T172521
CREATED:20240126T221004Z
LAST-MODIFIED:20240126T221004Z
UID:4682-1706725800-1706733000@colleges.claremont.edu
SUMMARY:Sound Recording Skill Share
DESCRIPTION:Do you dream of recording your own music or hosting your own podcast? Our SoundBox recording studio is the perfect first step on that path. Learn how to work with audio equipment and software from your peers at the Hive. \n  \nRSVP Required. \nRSVP Here!
URL:https://colleges.claremont.edu/thehive/event/sound-recording-skill-share-18/
LOCATION:The Hive – 130 E 7th Street\, Claremont\, CA 91711\, 130 E. 7th St\, Claremont\, CA\, 91711\, United States
ATTACH;FMTTYPE=image/png:https://colleges.claremont.edu/thehive/wp-content/uploads/sites/47/2024/01/sound-recording-skill-share.png
GEO:34.1006118;-117.7144419
X-APPLE-STRUCTURED-LOCATION;VALUE=URI;X-ADDRESS=The Hive – 130 E 7th Street Claremont CA 91711 130 E. 7th St Claremont CA 91711 United States;X-APPLE-RADIUS=500;X-TITLE=130 E. 7th St:geo:-117.7144419,34.1006118
END:VEVENT
BEGIN:VEVENT
DTSTART;TZID=America/Los_Angeles:20240201T190000
DTEND;TZID=America/Los_Angeles:20240201T203000
DTSTAMP:20260422T172521
CREATED:20240111T174402Z
LAST-MODIFIED:20240111T174402Z
UID:4628-1706814000-1706819400@colleges.claremont.edu
SUMMARY:Sip and Knit
DESCRIPTION:Looking for a cozy night activity? Come join us for our first-ever sip and knit event. We will supply the cocoa\, just bring your own mug! \nRegistration required! \nClick here to RSVP!
URL:https://colleges.claremont.edu/thehive/event/sip-and-knit/
LOCATION:The Hive – 130 E 7th Street\, Claremont\, CA 91711\, 130 E. 7th St\, Claremont\, CA\, 91711\, United States
GEO:34.1006118;-117.7144419
X-APPLE-STRUCTURED-LOCATION;VALUE=URI;X-ADDRESS=The Hive – 130 E 7th Street Claremont CA 91711 130 E. 7th St Claremont CA 91711 United States;X-APPLE-RADIUS=500;X-TITLE=130 E. 7th St:geo:-117.7144419,34.1006118
END:VEVENT
END:VCALENDAR