BEGIN:VCALENDAR
VERSION:2.0
PRODID:-//The Hive - ECPv6.15.17.1//NONSGML v1.0//EN
CALSCALE:GREGORIAN
METHOD:PUBLISH
X-ORIGINAL-URL:https://colleges.claremont.edu/thehive
X-WR-CALDESC:Events for The Hive
REFRESH-INTERVAL;VALUE=DURATION:PT1H
X-Robots-Tag:noindex
X-PUBLISHED-TTL:PT1H
BEGIN:VTIMEZONE
TZID:America/Los_Angeles
BEGIN:DAYLIGHT
TZOFFSETFROM:-0800
TZOFFSETTO:-0700
TZNAME:PDT
DTSTART:20230312T100000
END:DAYLIGHT
BEGIN:STANDARD
TZOFFSETFROM:-0700
TZOFFSETTO:-0800
TZNAME:PST
DTSTART:20231105T090000
END:STANDARD
BEGIN:DAYLIGHT
TZOFFSETFROM:-0800
TZOFFSETTO:-0700
TZNAME:PDT
DTSTART:20240310T100000
END:DAYLIGHT
BEGIN:STANDARD
TZOFFSETFROM:-0700
TZOFFSETTO:-0800
TZNAME:PST
DTSTART:20241103T090000
END:STANDARD
BEGIN:DAYLIGHT
TZOFFSETFROM:-0800
TZOFFSETTO:-0700
TZNAME:PDT
DTSTART:20250309T100000
END:DAYLIGHT
BEGIN:STANDARD
TZOFFSETFROM:-0700
TZOFFSETTO:-0800
TZNAME:PST
DTSTART:20251102T090000
END:STANDARD
END:VTIMEZONE
BEGIN:VEVENT
DTSTART;TZID=America/Los_Angeles:20241008T163000
DTEND;TZID=America/Los_Angeles:20241008T180000
DTSTAMP:20260419T100027
CREATED:20240809T185444Z
LAST-MODIFIED:20241003T171929Z
UID:4802-1728405000-1728410400@colleges.claremont.edu
SUMMARY:Resume + Portfolio Workshop
DESCRIPTION:Calling all future Creatives\, Artists\, Designers\, Writers\, and Freelancers! Whether you’re dreading the task of building your resume and portfolio\, or already well on your way\, this session is for you. With the guidance of Rebecca Ustrell\, the founder of Curious Publishing\, get inspiration\, advice and share feedback with peers as you build your resume and portfolio. \nRebecca Ustrell is an artist\, educator\, writer\, and documentarian in the Inland Empire of Southern California. In 2018 after a long period of creative burn-out\, she leaned into her lifelong passion for printed ephemera and founded Curious Publishing\, a non-profit artbook publishing company which focuses on archiving stories and creating wealth by supporting queer\, BIPOC\, and femme creatives through small-run artbooks\, zines\, and print collections. She was the 2023-24 Activist Artist in Residence for the Community Engagement Center at Pitzer College\, and is currently Event Coordinator for Museum Arts & Culture at the City of Ontario. \n  \nRSVP Require — Click here to register!
URL:https://colleges.claremont.edu/thehive/event/resume-portfolio-workshop/
LOCATION:The Hive – 130 E 7th Street\, Claremont\, CA 91711\, 130 E. 7th St\, Claremont\, CA\, 91711\, United States
ATTACH;FMTTYPE=image/png:https://colleges.claremont.edu/thehive/wp-content/uploads/sites/47/2024/08/1-Correct-Portfolio-Resume-Building-Recovered.png
GEO:34.1006118;-117.7144419
X-APPLE-STRUCTURED-LOCATION;VALUE=URI;X-ADDRESS=The Hive – 130 E 7th Street Claremont CA 91711 130 E. 7th St Claremont CA 91711 United States;X-APPLE-RADIUS=500;X-TITLE=130 E. 7th St:geo:-117.7144419,34.1006118
END:VEVENT
BEGIN:VEVENT
DTSTART;TZID=America/Los_Angeles:20241010T190000
DTEND;TZID=America/Los_Angeles:20241010T203000
DTSTAMP:20260419T100027
CREATED:20240809T185655Z
LAST-MODIFIED:20240924T183827Z
UID:4804-1728586800-1728592200@colleges.claremont.edu
SUMMARY:The Giggle Gala
DESCRIPTION:Ready for a comedy show with pro comics? Want to try your hand at comedy or just enjoy an evening of hilarious entertainment? Come out for an incredible lineup of professional comics and talented 7C comedians\, including Prof. J Finley! Lottery spots for 2-minute sets open at 6:30 pm. \n \nMateen Stewart is a Los Angeles-based stand-up comedian\, actor\, and writer. Originally from Detroit\, Michigan. Mateen has performed stand-up comedy at numerous clubs and colleges. He’s a regular at The World Famous Laugh Factory and The Hollywood Improv where he hosts his weekly show “Late for Work”. He has also appeared on television shows such as Coming to the Stage\, Jimmy Kimmel Live!\, and HBO’s Funny or Die Presents. Mateen is known for his energetic and engaging performances\, as well as his ability to connect with audiences through his personal stories and unique perspective. He has been praised for his sharp writing and delivery\, as well as his ability to tackle difficult topics with humor and sensitivity. He’s co-host and executive producer of Voyage Media’s podcast “Scumbags of History” and he tours the country with his show “Comical Race Theory.” \nRSVP Recommended — Click here to register!
URL:https://colleges.claremont.edu/thehive/event/the-giggle-gala/
LOCATION:The Hive – 130 E 7th Street\, Claremont\, CA 91711\, 130 E. 7th St\, Claremont\, CA\, 91711\, United States
ATTACH;FMTTYPE=image/png:https://colleges.claremont.edu/thehive/wp-content/uploads/sites/47/2024/08/Giggle-Gala-1.png
GEO:34.1006118;-117.7144419
X-APPLE-STRUCTURED-LOCATION;VALUE=URI;X-ADDRESS=The Hive – 130 E 7th Street Claremont CA 91711 130 E. 7th St Claremont CA 91711 United States;X-APPLE-RADIUS=500;X-TITLE=130 E. 7th St:geo:-117.7144419,34.1006118
END:VEVENT
END:VCALENDAR