BEGIN:VCALENDAR
VERSION:2.0
PRODID:-//The Hive - ECPv6.15.17.1//NONSGML v1.0//EN
CALSCALE:GREGORIAN
METHOD:PUBLISH
X-WR-CALNAME:The Hive
X-ORIGINAL-URL:https://colleges.claremont.edu/thehive
X-WR-CALDESC:Events for The Hive
REFRESH-INTERVAL;VALUE=DURATION:PT1H
X-Robots-Tag:noindex
X-PUBLISHED-TTL:PT1H
BEGIN:VTIMEZONE
TZID:America/Los_Angeles
BEGIN:DAYLIGHT
TZOFFSETFROM:-0800
TZOFFSETTO:-0700
TZNAME:PDT
DTSTART:20230312T100000
END:DAYLIGHT
BEGIN:STANDARD
TZOFFSETFROM:-0700
TZOFFSETTO:-0800
TZNAME:PST
DTSTART:20231105T090000
END:STANDARD
BEGIN:DAYLIGHT
TZOFFSETFROM:-0800
TZOFFSETTO:-0700
TZNAME:PDT
DTSTART:20240310T100000
END:DAYLIGHT
BEGIN:STANDARD
TZOFFSETFROM:-0700
TZOFFSETTO:-0800
TZNAME:PST
DTSTART:20241103T090000
END:STANDARD
BEGIN:DAYLIGHT
TZOFFSETFROM:-0800
TZOFFSETTO:-0700
TZNAME:PDT
DTSTART:20250309T100000
END:DAYLIGHT
BEGIN:STANDARD
TZOFFSETFROM:-0700
TZOFFSETTO:-0800
TZNAME:PST
DTSTART:20251102T090000
END:STANDARD
END:VTIMEZONE
BEGIN:VEVENT
DTSTART;TZID=America/Los_Angeles:20241204T183000
DTEND;TZID=America/Los_Angeles:20241204T200000
DTSTAMP:20260422T161720
CREATED:20240809T192016Z
LAST-MODIFIED:20240814T214849Z
UID:4820-1733337000-1733342400@colleges.claremont.edu
SUMMARY:Cookie + Card Decorating
DESCRIPTION:Kick off the holiday season by making something special for those you like\, love\, and care about. Join us for some fun holiday cookie and cardmaking. We’ll have a jolly good time! \nRSVP Recommended — Click here to register!
URL:https://colleges.claremont.edu/thehive/event/cookie-card-decorating/
LOCATION:The Hive – 130 E 7th Street\, Claremont\, CA 91711\, 130 E. 7th St\, Claremont\, CA\, 91711\, United States
ATTACH;FMTTYPE=image/png:https://colleges.claremont.edu/thehive/wp-content/uploads/sites/47/2024/08/Cookie-Card-Decorating.png
GEO:34.1006118;-117.7144419
X-APPLE-STRUCTURED-LOCATION;VALUE=URI;X-ADDRESS=The Hive – 130 E 7th Street Claremont CA 91711 130 E. 7th St Claremont CA 91711 United States;X-APPLE-RADIUS=500;X-TITLE=130 E. 7th St:geo:-117.7144419,34.1006118
END:VEVENT
BEGIN:VEVENT
DTSTART;TZID=America/Los_Angeles:20241205T173000
DTEND;TZID=America/Los_Angeles:20241205T190000
DTSTAMP:20260422T161720
CREATED:20240809T192144Z
LAST-MODIFIED:20240917T190513Z
UID:4823-1733419800-1733425200@colleges.claremont.edu
SUMMARY:Qigong: The Nine Phases of Qi Cultivation
DESCRIPTION:Qigong encompasses numerous ancient Chinese energy healing practices. Translated as “Life Force Cultivation\,” it involves gentle\, meditative movement and breathwork for overall wellness\, improved immune functioning\, and a sense of well-being and wholeness. Let’s move and meditate together! \n \nLee Conger — Certified Teacher of Integral Qigong and Tai Chi \nLee has been leading sessions since 2011 in Los Angeles at Kaiser Permanente Los Angeles Medical Center (where he worked as a psychotherapist\, 1998-2020); the Ortiz Taylor House (Historic-Cultural Monument #1144); Metabolic Studio’s Anabolic Monument and Under Spring; Micheltorena Community Garden (via the Silver Lake Time Bank); and a secret\, secluded hillside in Silver Lake (Shhh!). He moved to Claremont in October 2023 and is now teaching weekly at the Pomona College Organic Farm and Bethel UCC in Ontario. \nLee’s teachers have included Roger Jahnke\, OMD (founder of the Institute of Integral Qigong and Tai Chi)\, Margaret Flynn\, Susan Quon\, Marvin Smalheiser (founder in 1977 of Tai Chi Magazine)\, and his own students. \nRSVP Recommended — Click here to register! \n  \n  \n  \n 
URL:https://colleges.claremont.edu/thehive/event/qigong-the-nine-phases-of-qi-cultivation/
LOCATION:The Hive – 130 E 7th Street\, Claremont\, CA 91711\, 130 E. 7th St\, Claremont\, CA\, 91711\, United States
ATTACH;FMTTYPE=image/png:https://colleges.claremont.edu/thehive/wp-content/uploads/sites/47/2024/08/Qigong-1.png
GEO:34.1006118;-117.7144419
X-APPLE-STRUCTURED-LOCATION;VALUE=URI;X-ADDRESS=The Hive – 130 E 7th Street Claremont CA 91711 130 E. 7th St Claremont CA 91711 United States;X-APPLE-RADIUS=500;X-TITLE=130 E. 7th St:geo:-117.7144419,34.1006118
END:VEVENT
END:VCALENDAR