BEGIN:VCALENDAR
VERSION:2.0
PRODID:-//The Hive - ECPv6.15.17.1//NONSGML v1.0//EN
CALSCALE:GREGORIAN
METHOD:PUBLISH
X-WR-CALNAME:The Hive
X-ORIGINAL-URL:https://colleges.claremont.edu/thehive
X-WR-CALDESC:Events for The Hive
REFRESH-INTERVAL;VALUE=DURATION:PT1H
X-Robots-Tag:noindex
X-PUBLISHED-TTL:PT1H
BEGIN:VTIMEZONE
TZID:America/Los_Angeles
BEGIN:DAYLIGHT
TZOFFSETFROM:-0800
TZOFFSETTO:-0700
TZNAME:PDT
DTSTART:20240310T100000
END:DAYLIGHT
BEGIN:STANDARD
TZOFFSETFROM:-0700
TZOFFSETTO:-0800
TZNAME:PST
DTSTART:20241103T090000
END:STANDARD
BEGIN:DAYLIGHT
TZOFFSETFROM:-0800
TZOFFSETTO:-0700
TZNAME:PDT
DTSTART:20250309T100000
END:DAYLIGHT
BEGIN:STANDARD
TZOFFSETFROM:-0700
TZOFFSETTO:-0800
TZNAME:PST
DTSTART:20251102T090000
END:STANDARD
BEGIN:DAYLIGHT
TZOFFSETFROM:-0800
TZOFFSETTO:-0700
TZNAME:PDT
DTSTART:20260308T100000
END:DAYLIGHT
BEGIN:STANDARD
TZOFFSETFROM:-0700
TZOFFSETTO:-0800
TZNAME:PST
DTSTART:20261101T090000
END:STANDARD
END:VTIMEZONE
BEGIN:VEVENT
DTSTART;TZID=America/Los_Angeles:20250325T163000
DTEND;TZID=America/Los_Angeles:20250325T180000
DTSTAMP:20260424T042444
CREATED:20250121T231830Z
LAST-MODIFIED:20250313T210753Z
UID:5050-1742920200-1742925600@colleges.claremont.edu
SUMMARY:Mastering the Pitchdeck Workshop
DESCRIPTION:Join social impact founder Gemma Bulos for a hands-on pitch deck experience. You will learn how to effectively communicate your business idea to investors and potential backers. As the founder of The Reiventor Lab and Global Women’s Water and Food Academy\, Gemma brings invaluable experience in pitching to investors and securing funding. \nRSVP Required — Click to Register! \n  \nGemma is a multi-award winning social entrepreneur\, educator\, filmmaker and global movement builder. As a social entrepreneur she has received prestigious accolades from Ernst Young\, Echoing Green and the World Economic Forum. As an educator\, she was invited as a Social Entrepreneur en Residence at Stanford and taught alongside Governor Newsom’s first Senior Advisor for Social Innovation. She built an unprecedented global peace movement and won awards from the United Nations\, Queen Latifah and CoverGirl\, and was named Best Filipina Innovator and Thought Leader in the US. She has spoken alongside world leaders\, Nobel Laureates and celebrities and has coached hundreds of global social entrepreneur start-ups who have gone on to win $250\,000-$1\,000\,000 in angel funding. \n 
URL:https://colleges.claremont.edu/thehive/event/mastering-the-pitchbook-workshop/
LOCATION:CA
ATTACH;FMTTYPE=image/png:https://colleges.claremont.edu/thehive/wp-content/uploads/sites/47/2025/01/Mastering-the-Pitchdeck.png
END:VEVENT
END:VCALENDAR