BEGIN:VCALENDAR
VERSION:2.0
PRODID:-//The Hive - ECPv6.15.17.1//NONSGML v1.0//EN
CALSCALE:GREGORIAN
METHOD:PUBLISH
X-WR-CALNAME:The Hive
X-ORIGINAL-URL:https://colleges.claremont.edu/thehive
X-WR-CALDESC:Events for The Hive
REFRESH-INTERVAL;VALUE=DURATION:PT1H
X-Robots-Tag:noindex
X-PUBLISHED-TTL:PT1H
BEGIN:VTIMEZONE
TZID:America/Los_Angeles
BEGIN:DAYLIGHT
TZOFFSETFROM:-0800
TZOFFSETTO:-0700
TZNAME:PDT
DTSTART:20210314T100000
END:DAYLIGHT
BEGIN:STANDARD
TZOFFSETFROM:-0700
TZOFFSETTO:-0800
TZNAME:PST
DTSTART:20211107T090000
END:STANDARD
BEGIN:DAYLIGHT
TZOFFSETFROM:-0800
TZOFFSETTO:-0700
TZNAME:PDT
DTSTART:20220313T100000
END:DAYLIGHT
BEGIN:STANDARD
TZOFFSETFROM:-0700
TZOFFSETTO:-0800
TZNAME:PST
DTSTART:20221106T090000
END:STANDARD
BEGIN:DAYLIGHT
TZOFFSETFROM:-0800
TZOFFSETTO:-0700
TZNAME:PDT
DTSTART:20230312T100000
END:DAYLIGHT
BEGIN:STANDARD
TZOFFSETFROM:-0700
TZOFFSETTO:-0800
TZNAME:PST
DTSTART:20231105T090000
END:STANDARD
END:VTIMEZONE
BEGIN:VEVENT
DTSTART;TZID=America/Los_Angeles:20220308T190000
DTEND;TZID=America/Los_Angeles:20220308T203000
DTSTAMP:20260422T142923
CREATED:20220112T185820Z
LAST-MODIFIED:20220221T233943Z
UID:3654-1646766000-1646771400@colleges.claremont.edu
SUMMARY:Indigenous Dancing\, Decolonial Possibilities
DESCRIPTION:Photo of Sergio Juarez: Drum Song by Natasha Brennan\nJoin us for a discussion on how Indigenous dancing and cosmologies can inform our approach to academic research and community-based art practices. We will begin with a talk by Dr. Tria Blu Wakpa\, Indigenous contemporary dance and performance scholar\, followed by a dance and music demonstration led by Sergio Juarez and Danza Azteca Toyaacan. \nTria Blu Wakpa is an Assistant Professor of Dance Studies in the Department of World Arts and Cultures/Dance at the University of California\, Los Angeles. She received a Ph.D. and M.A. from the Department of Ethnic Studies at the University of California\, Berkeley\, an M.F.A. in Creative Writing from San Diego State University\, and a B.A. in English with an option in Film summa cum laude from Oklahoma State University. Her research and teaching combine community-based\, Indigenous\, and feminist methodologies with critical race theories to examine the politics and practices of dance and other movement modes—such as theatrical productions\, basketball\, and yoga—for Indigenous peoples in and beyond structures and institutions of confinement. She is a scholar and practitioner of Indigenous dance\, North American Hand Talk (Indigenous sign language)\, martial arts\, and yoga\, and publishes her poetry in a variety of venues. \nSergio Juarez is the leader of Danza Azteca Toyaacan\, a La Puente-based Aztec dance group. Living up to his late father’s maxim\, the Sergio Alejandro Juarez\, that “no one should have to pay learn about their culture\,” Danza Azteca Toyaacan offers dance classes at no cost to the community\, with the goal of empowering youth with knowledge\, a sense of community\, and pride. Since inheriting this tradition and leadership from Mr. Juarez\, Sergio and the group have led countless workshops and lectures in both academic and community settings\, bringing both a wealth of historical and cultural knowledge\, as well as handmade regalia and traditional instruments. Aside from being a skilled dancer\, musician\, and educator\, Sergio is an experienced construction laborer and owner of his own construction business\, Bridgetown Floor and Wall. \nPlease help us ensure the safety of our gathering by observing the following COVID-19 protocols: \n\nComplete the Daily Health Check the day of the event before your arrival. For your convenience\, this link will also be included in your Event Reminder email.\nPlease use a mask that fully covers your mouth and mask. Individuals may unmask while eating or drinking.\n\nRegistration required! \nRSVP on our Eventbrite page starting 2/7!
URL:https://colleges.claremont.edu/thehive/event/indigenous-dancing/
LOCATION:Estella Courtyard\, United States
ATTACH;FMTTYPE=image/png:https://colleges.claremont.edu/thehive/wp-content/uploads/sites/47/2022/01/indigenous-dancing.png
END:VEVENT
END:VCALENDAR